Workbook

Sheet Rekapitulace
B2: Rekapitulace ceny
B4: Stavba: 20112301 - Oprava komunikací Nová Telib
B5: Varianta: IV - Importovaná varianta
B6: Celková cena bez DPH: | C6: =SUM(C10:C14) -> 0
B7: Celková cena s DPH: | C7: =SUM(E10:E14) -> 0
A9: Objekt | B9: Popis | C9: Cena bez DPH | D9: DPH | E9: Cena s DPH
A10: SO 101.1 | B10: Komunikace na p.č. 432/1 | C10: ='SO 101.1'!I3 -> 0 | D10: ='SO 101.1'!O2 -> 0 | E10: =C10+D10 -> 0
A11: SO 101.2 | B11: Komunikace ve spoluvlastnictví soukromých osob | C11: ='SO 101.2_SO 101.2'!I3 -> 0 | D11: ='SO 101.2_SO 101.2'!O2 -> 0 | E11: =C11+D11 -> 0
A12: SO 300 | B12: Odvodnění komunikace | C12: ='SO 101.2_SO 300'!I3 -> 0 | D12: ='SO 101.2_SO 300'!O2 -> 0 | E12: =C12+D12 -> 0
A13: SO 101.3 | B13: Komunikace na p.č. 430/1 | C13: ='SO 101.3'!I3 -> 0 | D13: ='SO 101.3'!O2 -> 0 | E13: =C13+D13 -> 0
A14: SO 300.1 | B14: Odvodnění na pozemku parc.č. 43/14 do šachty na poz. 459 | C14: ='SO 300.1'!I3 -> 0 | D14: ='SO 300.1'!O2 -> 0 | E14: =C14+D14 -> 0

Sheet SO 101.1
A1: ASPE10 | P1: 3
E2: Soupis prací objektu | O2: =0+O8+O37+O42+O55 -> 0 | P2: 3
A3: S | B3: Stavba: | C3: 20112301 | E3: Oprava komunikací Nová Telib | H3: SO 101.1 | I3: =0+I8+I37+I42+I55 -> 0 | O3: 0,00 | P3: 2
A4: O | B4: Rozpočet: | C4: SO 101.1 | E4: Komunikace na p.č. 432/1 | O4: 15,00 | P4: 2
A5: Typ | B5: Poř. číslo | C5: Kód položky | D5: Varianta | E5: Název položky | F5: MJ | G5: Množství | H5: Jednotková cena | O5: 21,00 | P5: 2
H6: Jednotková | I6: Celkem
A7: 0 | B7: 1 | C7: 2 | D7: 3 | E7: 4 | F7: 5 | G7: 6 | H7: 9 | I7: 10
A8: SD | C8: 0 | E8: Všeobecné konstrukce a práce | I8: =0+Q8 -> 0 | O8: =0+R8 -> 0 | Q8: =0+I9+I13+I17+I21+I25+I29+I33 -> 0 | R8: =0+O9+O13+O17+O21+O25+O29+O33 -> 0
A9: P | B9: 1 | C9: 014112 | E9: POPLATKY ZA SKLÁDKU TYP S-IO (INERTNÍ ODPAD) | F9: T | G9: 0.938 | H9: 0 | I9: =ROUND(ROUND(H9,2)*ROUND(G9,3),2) -> 0 | O9: =(I9*21)/100 -> 0 | P9: 2
A10: PP
A11: VV | E11: 0,375*2,5=0,938 [A]
A12: TS | E12: zahrnuje veškeré poplatky provozovateli skládky související s uložením odpadu na skládce.
A13: P | B13: 2 | C13: 029113 | E13: OSTATNÍ POŽADAVKY - GEODETICKÉ ZAMĚŘENÍ - CELKY | F13: KUS | G13: 1 | H13: 0 | I13: =ROUND(ROUND(H13,2)*ROUND(G13,3),2) -> 0 | O13: =(I13*21)/100 -> 0 | P13: 2
A14: PP
A15: VV
A16: TS | E16: zahrnuje veškeré náklady spojené s objednatelem požadovanými pracemi
A17: P | B17: 3 | C17: 02944 | E17: OSTAT POŽADAVKY - DOKUMENTACE SKUTEČ PROVEDENÍ V DIGIT FORMĚ | F17: KPL | G17: 1 | H17: 0 | I17: =ROUND(ROUND(H17,2)*ROUND(G17,3),2) -> 0 | O17: =(I17*21)/100 -> 0 | P17: 2
A18: PP
A19: VV
A20: TS | E20: zahrnuje veškeré náklady spojené s objednatelem požadovanými pracemi
A21: P | B21: 4 | C21: 02946 | E21: OSTAT POŽADAVKY - FOTODOKUMENTACE | F21: KPL | G21: 1 | H21: 0 | I21: =ROUND(ROUND(H21,2)*ROUND(G21,3),2) -> 0 | O21: =(I21*21)/100 -> 0 | P21: 2
A22: PP
A23: VV
A24: TS | E24: položka zahrnuje: - fotodokumentaci zadavatelem požadovaného děje a konstrukcí v požadovaných časových intervalech - zadavatelem specifikované výstupy (fotografie v papírovém a digitálním formátu) v požadovaném počtu
A25: P | B25: 5 | C25: 02950 | E25: OSTATNÍ POŽADAVKY - POSUDKY, KONTROLY, REVIZNÍ ZPRÁVY | F25: KPL | G25: 1 | H25: 0 | I25: =ROUND(ROUND(H25,2)*ROUND(G25,3),2) -> 0 | O25: =(I25*21)/100 -> 0 | P25: 2
A26: PP
A27: VV
A28: TS | E28: zahrnuje veškeré náklady spojené s objednatelem požadovanými pracemi
A29: P | B29: 6 | C29: 03100 | E29: ZAŘÍZENÍ STAVENIŠTĚ - ZŘÍZENÍ, PROVOZ, DEMONTÁŽ | F29: KPL | G29: 1 | H29: 0 | I29: =ROUND(ROUND(H29,2)*ROUND(G29,3),2) -> 0 | O29: =(I29*21)/100 -> 0 | P29: 2
A30: PP
A31: VV
A32: TS | E32: zahrnuje objednatelem povolené náklady na pořízení (event. pronájem), provozování, udržování a likvidaci zhotovitelova zařízení
A33: P | B33: 7 | C33: 03350 | E33: SLUŽBY ZAJIŠŤUJÍCÍ REGUL, PŘEVED A OCHRANU VEŘEJ DOPRAVY | F33: KPL | G33: 1 | H33: 0 | I33: =ROUND(ROUND(H33,2)*ROUND(G33,3),2) -> 0 | O33: =(I33*21)/100 -> 0 | P33: 2
A34: PP
A35: VV
A36: TS | E36: zahrnuje objednatelem povolené náklady na služby pro zhotovitele
A37: SD | C37: 1 | E37: Zemní práce | I37: =0+Q37 -> 0 | O37: =0+R37 -> 0 | Q37: =0+I38 -> 0 | R37: =0+O38 -> 0
A38: P | B38: 8 | C38: 113138 | E38: ODSTRANĚNÍ KRYTU ZPEVNĚNÝCH PLOCH S ASFALT POJIVEM, ODVOZ DO 20KM | F38: M3 | G38: 0.375 | H38: 0 | I38: =ROUND(ROUND(H38,2)*ROUND(G38,3),2) -> 0 | O38: =(I38*21)/100 -> 0 | P38: 2
A39: PP
A40: VV | E40: 12,5*0,1*0,3=0,375 [A]
...

Sheet SO 101.2_SO 101.2
A1: ASPE10 | P1: 3
E2: Soupis prací objektu | O2: =0+O9+O38+O43+O56 -> 0 | P2: 3
A3: S | B3: Stavba: | C3: 20112301 | E3: Oprava komunikací Nová Telib | H3: SO 101.2 | I3: =0+I9+I38+I43+I56 -> 0 | O3: 0,00 | P3: 2
A4: O | B4: Objekt: | C4: SO 101.2 | E4: Komunikace ve spoluvlastnictví soukromých osob | O4: 15,00 | P4: 2
A5: O1 | B5: Rozpočet: | C5: SO 101.2 | E5: Komunikace ve spoluvlastnictví soukromých osob | O5: 21,00 | P5: 2
A6: Typ | B6: Poř. číslo | C6: Kód položky | D6: Varianta | E6: Název položky | F6: MJ | G6: Množství | H6: Jednotková cena
H7: Jednotková | I7: Celkem
A8: 0 | B8: 1 | C8: 2 | D8: 3 | E8: 4 | F8: 5 | G8: 6 | H8: 9 | I8: 10
A9: SD | C9: 0 | E9: Všeobecné konstrukce a práce | I9: =0+Q9 -> 0 | O9: =0+R9 -> 0 | Q9: =0+I10+I14+I18+I22+I26+I30+I34 -> 0 | R9: =0+O10+O14+O18+O22+O26+O30+O34 -> 0
A10: P | B10: 1 | C10: 014112 | E10: POPLATKY ZA SKLÁDKU TYP S-IO (INERTNÍ ODPAD) | F10: T | G10: 0.48 | H10: 0 | I10: =ROUND(ROUND(H10,2)*ROUND(G10,3),2) -> 0 | O10: =(I10*21)/100 -> 0 | P10: 2
A11: PP
A12: VV | E12: 0,192*2,5=0,480 [A]
A13: TS | E13: zahrnuje veškeré poplatky provozovateli skládky související s uložením odpadu na skládce.
A14: P | B14: 2 | C14: 029113 | E14: OSTATNÍ POŽADAVKY - GEODETICKÉ ZAMĚŘENÍ - CELKY | F14: KUS | G14: 1 | H14: 0 | I14: =ROUND(ROUND(H14,2)*ROUND(G14,3),2) -> 0 | O14: =(I14*21)/100 -> 0 | P14: 2
A15: PP
A16: VV
A17: TS | E17: zahrnuje veškeré náklady spojené s objednatelem požadovanými pracemi
A18: P | B18: 3 | C18: 02944 | E18: OSTAT POŽADAVKY - DOKUMENTACE SKUTEČ PROVEDENÍ V DIGIT FORMĚ | F18: KPL | G18: 1 | H18: 0 | I18: =ROUND(ROUND(H18,2)*ROUND(G18,3),2) -> 0 | O18: =(I18*21)/100 -> 0 | P18: 2
A19: PP
A20: VV
A21: TS | E21: zahrnuje veškeré náklady spojené s objednatelem požadovanými pracemi
A22: P | B22: 4 | C22: 02946 | E22: OSTAT POŽADAVKY - FOTODOKUMENTACE | F22: KPL | G22: 1 | H22: 0 | I22: =ROUND(ROUND(H22,2)*ROUND(G22,3),2) -> 0 | O22: =(I22*21)/100 -> 0 | P22: 2
A23: PP
A24: VV
A25: TS | E25: položka zahrnuje: - fotodokumentaci zadavatelem požadovaného děje a konstrukcí v požadovaných časových intervalech - zadavatelem specifikované výstupy (fotografie v papírovém a digitálním formátu) v požadovaném počtu
A26: P | B26: 5 | C26: 02950 | E26: OSTATNÍ POŽADAVKY - POSUDKY, KONTROLY, REVIZNÍ ZPRÁVY | F26: KPL | G26: 1 | H26: 0 | I26: =ROUND(ROUND(H26,2)*ROUND(G26,3),2) -> 0 | O26: =(I26*21)/100 -> 0 | P26: 2
A27: PP
A28: VV
A29: TS | E29: zahrnuje veškeré náklady spojené s objednatelem požadovanými pracemi
A30: P | B30: 6 | C30: 03100 | E30: ZAŘÍZENÍ STAVENIŠTĚ - ZŘÍZENÍ, PROVOZ, DEMONTÁŽ | F30: KPL | G30: 1 | H30: 0 | I30: =ROUND(ROUND(H30,2)*ROUND(G30,3),2) -> 0 | O30: =(I30*21)/100 -> 0 | P30: 2
A31: PP
A32: VV
A33: TS | E33: zahrnuje objednatelem povolené náklady na pořízení (event. pronájem), provozování, udržování a likvidaci zhotovitelova zařízení
A34: P | B34: 7 | C34: 03350 | E34: SLUŽBY ZAJIŠŤUJÍCÍ REGUL, PŘEVED A OCHRANU VEŘEJ DOPRAVY | F34: KPL | G34: 1 | H34: 0 | I34: =ROUND(ROUND(H34,2)*ROUND(G34,3),2) -> 0 | O34: =(I34*21)/100 -> 0 | P34: 2
A35: PP
A36: VV
A37: TS | E37: zahrnuje objednatelem povolené náklady na služby pro zhotovitele
A38: SD | C38: 1 | E38: Zemní práce | I38: =0+Q38 -> 0 | O38: =0+R38 -> 0 | Q38: =0+I39 -> 0 | R38: =0+O39 -> 0
A39: P | B39: 8 | C39: 113138 | E39: ODSTRANĚNÍ KRYTU ZPEVNĚNÝCH PLOCH S ASFALT POJIVEM, ODVOZ DO 20KM | F39: M3 | G39: 0.192 | H39: 0 | I39: =ROUND(ROUND(H39,2)*ROUND(G39,3),2) -> 0 | O39: =(I39*21)/100 -> 0 | P39: 2
A40: PP
...

Sheet SO 101.2_SO 300
A1: ASPE10 | P1: 3
E2: Soupis prací objektu | O2: =0+O9+O18+O39+O44+O61 -> 0 | P2: 3
A3: S | B3: Stavba: | C3: 20112301 | E3: Oprava komunikací Nová Telib | H3: SO 300 | I3: =0+I9+I18+I39+I44+I61 -> 0 | O3: 0,00 | P3: 2
A4: O | B4: Objekt: | C4: SO 101.2 | E4: Komunikace ve spoluvlastnictví soukromých osob | O4: 15,00 | P4: 2
A5: O1 | B5: Rozpočet: | C5: SO 300 | E5: Odvodnění komunikace | O5: 21,00 | P5: 2
A6: Typ | B6: Poř. číslo | C6: Kód položky | D6: Varianta | E6: Název položky | F6: MJ | G6: Množství | H6: Jednotková cena
H7: Jednotková | I7: Celkem
A8: 0 | B8: 1 | C8: 2 | D8: 3 | E8: 4 | F8: 5 | G8: 6 | H8: 9 | I8: 10
A9: SD | C9: 0 | E9: Všeobecné konstrukce a práce | I9: =0+Q9 -> 0 | O9: =0+R9 -> 0 | Q9: =0+I10+I14 -> 0 | R9: =0+O10+O14 -> 0
A10: P | B10: 17 | C10: 014112 | E10: POPLATKY ZA SKLÁDKU TYP S-IO (INERTNÍ ODPAD) | F10: T | G10: 287.71 | H10: 0 | I10: =ROUND(ROUND(H10,2)*ROUND(G10,3),2) -> 0 | O10: =(I10*21)/100 -> 0 | P10: 2
A11: PP
A12: VV | E12: 143,855*2=287,710 [A]
A13: TS | E13: zahrnuje veškeré poplatky provozovateli skládky související s uložením odpadu na skládce.
A14: P | B14: 2 | C14: 029113 | E14: OSTATNÍ POŽADAVKY - GEODETICKÉ ZAMĚŘENÍ - CELKY | F14: KUS | G14: 1 | H14: 0 | I14: =ROUND(ROUND(H14,2)*ROUND(G14,3),2) -> 0 | O14: =(I14*21)/100 -> 0 | P14: 2
A15: PP
A16: VV
A17: TS | E17: zahrnuje veškeré náklady spojené s objednatelem požadovanými pracemi
A18: SD | C18: 1 | E18: Zemní práce | I18: =0+Q18 -> 0 | O18: =0+R18 -> 0 | Q18: =0+I19+I23+I27+I31+I35 -> 0 | R18: =0+O19+O23+O27+O31+O35 -> 0
A19: P | B19: 15 | C19: 132738 | E19: HLOUBENÍ RÝH ŠÍŘ DO 2M PAŽ I NEPAŽ TŘ. I, ODVOZ DO 20KM | F19: M3 | G19: 143.855 | H19: 0 | I19: =ROUND(ROUND(H19,2)*ROUND(G19,3),2) -> 0 | O19: =(I19*21)/100 -> 0 | P19: 2
A20: PP
A21: VV | E21: ŠTĚRBINY:55*1,2*0,6+1,2*0,3*123=83,880 [A] OBRUBY:1=1,000 [D] POTRUBÍ:35*0,8*1,7=47,600 [C] ŠACHTA,UV:2*2*2+1,5*1,5*1,5=11,375 [B] Celkem: A+D+C+B=143,855 [E]
A22: TS | E22: položka zahrnuje: - vodorovná a svislá doprava, přemístění, přeložení, manipulace s výkopkem - kompletní provedení vykopávky nezapažené i zapažené - ošetření výkopiště po celou dobu práce v něm vč. klimatických opatření - ztížení vykopávek v blízkosti podzemního vedení, konstrukcí a objektů vč. jejich dočasného zajištění - ztížení pod vodou, v okolí výbušnin, ve stísněných prostorech a pod. - příplatek za lepivost - těžení po vrstvách, pásech a po jiných nutných částech (figurách) - čerpání vody vč. čerpacích jímek, potrubí a pohotovostní čerpací soupravy (viz ustanovení k pol. 1151,2) - potřebné snížení hladiny podzemní vody - těžení a rozpojování jednotlivých balvanů - vytahování a nošení výkopku - svahování a přesvah. svahů do konečného tvaru, výměna hornin v podloží a v pláni znehodnocené klimatickými vlivy - ruční vykopávky, odstranění kořenů a napadávek - pažení, vzepření a rozepření vč. přepažování (vyjma štětových stěn) - úpravu, ochranu a očištění dna, základové spáry, stěn a svahů - odvedení nebo obvedení vody v okolí výkopiště a ve výkopišti - třídění výkopku - veškeré pomocné konstrukce umožňující provedení vykopávky (příjezdy, sjezdy, nájezdy, lešení, podpěr. konstr., přemostění, zpevněné plochy, zakrytí a pod.) - nezahrnuje uložení zeminy (na skládku, do násypu) ani poplatky za skládku, vykazují se v položce č.0141**
A23: P | B23: 16 | C23: 17481 | E23: ZÁSYP JAM A RÝH Z NAKUPOVANÝCH MATERIÁLŮ | F23: M3 | G23: 38.575 | H23: 0 | I23: =ROUND(ROUND(H23,2)*ROUND(G23,3),2) -> 0 | O23: =(I23*21)/100 -> 0 | P23: 2
A24: PP
A25: VV | E25: POTRUBÍ:35*0,8*1,15=32,200 [G] ŠACHTA,UV:2*2*2+1,5*1,5*1,5=11,375 [H] -5=-5,000 [J] Celkem: G+H+J=38,575 [K]
A26: TS | E26: položka zahrnuje: - kompletní provedení zemní konstrukce včetně nákupu a dopravy materiálu dle zadávací dokumentace - úprava ukládaného materiálu vlhčením, tříděním, promícháním nebo vysoušením, příp. jiné úpravy za účelem zlepšení jeho mech. vlastností - hutnění i různé míry hutnění - ošetření úložiště po celou dobu práce v něm vč. klimatických opatření - ztížení v okolí vedení, konstrukcí a objektů a jejich dočasné zajištění - ztížení provádění vč. hutnění ve ztížených podmínkách a stísněných prostorech - ztížené ukládání sypaniny pod vodu - ukládání po vrstvách a po jiných nutných částech (figurách) vč. dosypávek - spouštění a nošení materiálu - výměna částí zemní konstrukce znehodnocené klimatickými vlivy - udržování úložiště a jeho ochrana proti vodě - odvedení nebo obvedení vody v okolí úložiště a v úložišti - veškeré pomocné konstrukce umožňující provedení zemní konstrukce (příjezdy, sjezdy, nájezdy, lešení, podpěrné konstrukce, přemostění, zpevněné plochy, zakrytí a pod.)
A27: P | B27: 13 | C27: 17581 | E27: OBSYP POTRUBÍ A OBJEKTŮ Z NAKUPOVANÝCH MATERIÁLŮ | F27: M3 | G27: 44.735 | H27: 0 | I27: =ROUND(ROUND(H27,2)*ROUND(G27,3),2) -> 0 | O27: =(I27*21)/100 -> 0 | P27: 2
A28: PP
A29: VV | E29: ŠTĚRBINY:55*1,2*0,6+1,2*0,3*123=83,880 [A] -178*0,6*0,54=-57,672 [B] POTRUBÍ:35*0,8*0,75=21,000 [G] -35*0,07065=-2,473 [I] Celkem: A+B+G+I=44,735 [J]
A30: TS | E30: položka zahrnuje: - kompletní provedení zemní konstrukce včetně nákupu a dopravy materiálu dle zadávací dokumentace - úprava ukládaného materiálu vlhčením, tříděním, promícháním nebo vysoušením, příp. jiné úpravy za účelem zlepšení jeho mech. vlastností - hutnění i různé míry hutnění - ošetření úložiště po celou dobu práce v něm vč. klimatických opatření - ztížení v okolí vedení, konstrukcí a objektů a jejich dočasné zajištění - ztížení provádění vč. hutnění ve ztížených podmínkách a stísněných prostorech - ztížené ukládání sypaniny pod vodu - ukládání po vrstvách a po jiných nutných částech (figurách) vč. dosypávek - spouštění a nošení materiálu - výměna částí zemní konstrukce znehodnocené klimatickými vlivy - ruční hutnění a výplň jam a prohlubní v podloží - úprava, očištění, ochrana a zhutnění podloží - svahování, hutnění a uzavírání povrchů svahů - zřízení lavic na svazích - udržování úložiště a jeho ochrana proti vodě - odvedení nebo obvedení vody v okolí úložiště a v úložišti - veškeré pomocné konstrukce umožňující provedení zemní konstrukce (příjezdy, sjezdy, nájezdy, lešení, podpěrné konstrukce, přemostění, zpevněné plochy, zakrytí a pod.) - zemina vytlačená potrubím o DN do 180mm se od kubatury obsypů neodečítá
A31: P | B31: 19 | C31: 18231 | E31: ROZPROSTŘENÍ ORNICE V ROVINĚ V TL DO 0,10M | F31: M2 | G31: 426 | H31: 0 | I31: =ROUND(ROUND(H31,2)*ROUND(G31,3),2) -> 0 | O31: =(I31*21)/100 -> 0 | P31: 2
A32: PP | E32: Zemina ze stavby, uvedení ploch do původního stavu
A33: VV | E33: (178+35)*2=426,000 [A]
A34: TS | E34: položka zahrnuje: nutné přemístění ornice z dočasných skládek vzdálených do 50m rozprostření ornice v předepsané tloušťce v rovině a ve svahu do 1:5
A35: P | B35: 20 | C35: 18241 | E35: ZALOŽENÍ TRÁVNÍKU RUČNÍM VÝSEVEM | F35: M2 | G35: 426 | H35: 0 | I35: =ROUND(ROUND(H35,2)*ROUND(G35,3),2) -> 0 | O35: =(I35*21)/100 -> 0 | P35: 2
A36: PP
A37: VV
A38: TS | E38: Zahrnuje dodání předepsané travní směsi, její výsev na ornici, zalévání, první pokosení, to vše bez ohledu na sklon terénu
A39: SD | C39: 4 | E39: Vodorovné konstrukce | I39: =0+Q39 -> 0 | O39: =0+R39 -> 0 | Q39: =0+I40 -> 0 | R39: =0+O40 -> 0
A40: P | B40: 29 | C40: 465512 | E40: DLAŽBY Z LOMOVÉHO KAMENE NA MC | F40: M3 | G40: 1.05 | H40: 0 | I40: =ROUND(ROUND(H40,2)*ROUND(G40,3),2) -> 0 | O40: =(I40*21)/100 -> 0 | P40: 2
...

Sheet SO 101.3
A1: ASPE10 | P1: 3
E2: Soupis prací objektu | O2: =0+O8+O37+O42+O55 -> 0 | P2: 3
A3: S | B3: Stavba: | C3: 20112301 | E3: Oprava komunikací Nová Telib | H3: SO 101.3 | I3: =0+I8+I37+I42+I55 -> 0 | O3: 0,00 | P3: 2
A4: O | B4: Rozpočet: | C4: SO 101.3 | E4: Komunikace na p.č. 430/1 | O4: 15,00 | P4: 2
A5: Typ | B5: Poř. číslo | C5: Kód položky | D5: Varianta | E5: Název položky | F5: MJ | G5: Množství | H5: Jednotková cena | O5: 21,00 | P5: 2
H6: Jednotková | I6: Celkem
A7: 0 | B7: 1 | C7: 2 | D7: 3 | E7: 4 | F7: 5 | G7: 6 | H7: 9 | I7: 10
A8: SD | C8: 0 | E8: Všeobecné konstrukce a práce | I8: =0+Q8 -> 0 | O8: =0+R8 -> 0 | Q8: =0+I9+I13+I17+I21+I25+I29+I33 -> 0 | R8: =0+O9+O13+O17+O21+O25+O29+O33 -> 0
A9: P | B9: 1 | C9: 014112 | E9: POPLATKY ZA SKLÁDKU TYP S-IO (INERTNÍ ODPAD) | F9: T | G9: 1.238 | H9: 0 | I9: =ROUND(ROUND(H9,2)*ROUND(G9,3),2) -> 0 | O9: =(I9*21)/100 -> 0 | P9: 2
A10: PP
A11: VV | E11: 0,495*2,5=1,238 [A]
A12: TS | E12: zahrnuje veškeré poplatky provozovateli skládky související s uložením odpadu na skládce.
A13: P | B13: 2 | C13: 029113 | E13: OSTATNÍ POŽADAVKY - GEODETICKÉ ZAMĚŘENÍ - CELKY | F13: KUS | G13: 1 | H13: 0 | I13: =ROUND(ROUND(H13,2)*ROUND(G13,3),2) -> 0 | O13: =(I13*21)/100 -> 0 | P13: 2
A14: PP
A15: VV
A16: TS | E16: zahrnuje veškeré náklady spojené s objednatelem požadovanými pracemi
A17: P | B17: 3 | C17: 02944 | E17: OSTAT POŽADAVKY - DOKUMENTACE SKUTEČ PROVEDENÍ V DIGIT FORMĚ | F17: KPL | G17: 1 | H17: 0 | I17: =ROUND(ROUND(H17,2)*ROUND(G17,3),2) -> 0 | O17: =(I17*21)/100 -> 0 | P17: 2
A18: PP
A19: VV
A20: TS | E20: zahrnuje veškeré náklady spojené s objednatelem požadovanými pracemi
A21: P | B21: 4 | C21: 02946 | E21: OSTAT POŽADAVKY - FOTODOKUMENTACE | F21: KPL | G21: 1 | H21: 0 | I21: =ROUND(ROUND(H21,2)*ROUND(G21,3),2) -> 0 | O21: =(I21*21)/100 -> 0 | P21: 2
A22: PP
A23: VV
A24: TS | E24: položka zahrnuje: - fotodokumentaci zadavatelem požadovaného děje a konstrukcí v požadovaných časových intervalech - zadavatelem specifikované výstupy (fotografie v papírovém a digitálním formátu) v požadovaném počtu
A25: P | B25: 5 | C25: 02950 | E25: OSTATNÍ POŽADAVKY - POSUDKY, KONTROLY, REVIZNÍ ZPRÁVY | F25: KPL | G25: 1 | H25: 0 | I25: =ROUND(ROUND(H25,2)*ROUND(G25,3),2) -> 0 | O25: =(I25*21)/100 -> 0 | P25: 2
A26: PP
A27: VV
A28: TS | E28: zahrnuje veškeré náklady spojené s objednatelem požadovanými pracemi
A29: P | B29: 6 | C29: 03100 | E29: ZAŘÍZENÍ STAVENIŠTĚ - ZŘÍZENÍ, PROVOZ, DEMONTÁŽ | F29: KPL | G29: 1 | H29: 0 | I29: =ROUND(ROUND(H29,2)*ROUND(G29,3),2) -> 0 | O29: =(I29*21)/100 -> 0 | P29: 2
A30: PP
A31: VV
A32: TS | E32: zahrnuje objednatelem povolené náklady na pořízení (event. pronájem), provozování, udržování a likvidaci zhotovitelova zařízení
A33: P | B33: 7 | C33: 03350 | E33: SLUŽBY ZAJIŠŤUJÍCÍ REGUL, PŘEVED A OCHRANU VEŘEJ DOPRAVY | F33: KPL | G33: 1 | H33: 0 | I33: =ROUND(ROUND(H33,2)*ROUND(G33,3),2) -> 0 | O33: =(I33*21)/100 -> 0 | P33: 2
A34: PP
A35: VV
A36: TS | E36: zahrnuje objednatelem povolené náklady na služby pro zhotovitele
A37: SD | C37: 1 | E37: Zemní práce | I37: =0+Q37 -> 0 | O37: =0+R37 -> 0 | Q37: =0+I38 -> 0 | R37: =0+O38 -> 0
A38: P | B38: 8 | C38: 113138 | E38: ODSTRANĚNÍ KRYTU ZPEVNĚNÝCH PLOCH S ASFALT POJIVEM, ODVOZ DO 20KM | F38: M3 | G38: 0.495 | H38: 0 | I38: =ROUND(ROUND(H38,2)*ROUND(G38,3),2) -> 0 | O38: =(I38*21)/100 -> 0 | P38: 2
A39: PP
A40: VV | E40: 16,5*0,1*0,3=0,495 [A]
...

Sheet SO 300.1
A1: ASPE10 | P1: 3
E2: Soupis prací objektu | O2: =0+O8+O13+O38+O55+O60 -> 0 | P2: 3
A3: S | B3: Stavba: | C3: 20112301 | E3: Oprava komunikací Nová Telib | H3: SO 300.1 | I3: =0+I8+I13+I38+I55+I60 -> 0 | O3: 0,00 | P3: 2
A4: O | B4: Rozpočet: | C4: SO 300.1 | E4: Odvodnění na pozemku parc.č. 43/14 do šachty na poz. 459 | O4: 15,00 | P4: 2
A5: Typ | B5: Poř. číslo | C5: Kód položky | D5: Varianta | E5: Název položky | F5: MJ | G5: Množství | H5: Jednotková cena | O5: 21,00 | P5: 2
H6: Jednotková | I6: Celkem
A7: 0 | B7: 1 | C7: 2 | D7: 3 | E7: 4 | F7: 5 | G7: 6 | H7: 9 | I7: 10
A8: SD | C8: 0 | E8: Všeobecné konstrukce a práce | I8: =0+Q8 -> 0 | O8: =0+R8 -> 0 | Q8: =0+I9 -> 0 | R8: =0+O9 -> 0
A9: P | B9: 17 | C9: 014112 | E9: POPLATKY ZA SKLÁDKU TYP S-IO (INERTNÍ ODPAD) | F9: T | G9: 53.44 | H9: 0 | I9: =ROUND(ROUND(H9,2)*ROUND(G9,3),2) -> 0 | O9: =(I9*21)/100 -> 0 | P9: 2
A10: PP
A11: VV | E11: 25,6*1,9=48,640 [A] 1,92*2,5=4,800 [B] Celkem: A+B=53,440 [C]
A12: TS | E12: zahrnuje veškeré poplatky provozovateli skládky související s uložením odpadu na skládce.
A13: SD | C13: 1 | E13: Zemní práce | I13: =0+Q13 -> 0 | O13: =0+R13 -> 0 | Q13: =0+I14+I18+I22+I26+I30+I34 -> 0 | R13: =0+O14+O18+O22+O26+O30+O34 -> 0
A14: P | B14: 3 | C14: 113138 | E14: ODSTRANĚNÍ KRYTU ZPEVNĚNÝCH PLOCH S ASFALT POJIVEM, ODVOZ DO 20KM | F14: M3 | G14: 1.92 | H14: 0 | I14: =ROUND(ROUND(H14,2)*ROUND(G14,3),2) -> 0 | O14: =(I14*21)/100 -> 0 | P14: 2
A15: PP
A16: VV | E16: 16*0,8*0,15=1,920 [A]
A17: TS | E17: Položka zahrnuje veškerou manipulaci s vybouranou sutí a s vybouranými hmotami vč. uložení na skládku. Nezahrnuje poplatek za skládku, který se vykazuje v položce 0141** (s výjimkou malého množství bouraného materiálu, kde je možné poplatek zahrnout do jednotkové ceny bourání – tento fakt musí být uveden v doplňujícím textu k položce).
A18: P | B18: 15 | C18: 132738 | E18: HLOUBENÍ RÝH ŠÍŘ DO 2M PAŽ I NEPAŽ TŘ. I, ODVOZ DO 20KM | F18: M3 | G18: 25.6 | H18: 0 | I18: =ROUND(ROUND(H18,2)*ROUND(G18,3),2) -> 0 | O18: =(I18*21)/100 -> 0 | P18: 2
A19: PP
A20: VV | E20: 16*0,8*2=25,600 [A]
A21: TS | E21: položka zahrnuje: - vodorovná a svislá doprava, přemístění, přeložení, manipulace s výkopkem - kompletní provedení vykopávky nezapažené i zapažené - ošetření výkopiště po celou dobu práce v něm vč. klimatických opatření - ztížení vykopávek v blízkosti podzemního vedení, konstrukcí a objektů vč. jejich dočasného zajištění - ztížení pod vodou, v okolí výbušnin, ve stísněných prostorech a pod. - příplatek za lepivost - těžení po vrstvách, pásech a po jiných nutných částech (figurách) - čerpání vody vč. čerpacích jímek, potrubí a pohotovostní čerpací soupravy (viz ustanovení k pol. 1151,2) - potřebné snížení hladiny podzemní vody - těžení a rozpojování jednotlivých balvanů - vytahování a nošení výkopku - svahování a přesvah. svahů do konečného tvaru, výměna hornin v podloží a v pláni znehodnocené klimatickými vlivy - ruční vykopávky, odstranění kořenů a napadávek - pažení, vzepření a rozepření vč. přepažování (vyjma štětových stěn) - úpravu, ochranu a očištění dna, základové spáry, stěn a svahů - odvedení nebo obvedení vody v okolí výkopiště a ve výkopišti - třídění výkopku - veškeré pomocné konstrukce umožňující provedení vykopávky (příjezdy, sjezdy, nájezdy, lešení, podpěr. konstr., přemostění, zpevněné plochy, zakrytí a pod.) - nezahrnuje uložení zeminy (na skládku, do násypu) ani poplatky za skládku, vykazují se v položce č.0141**
A22: P | B22: 16 | C22: 17481 | E22: ZÁSYP JAM A RÝH Z NAKUPOVANÝCH MATERIÁLŮ | F22: M3 | G22: 17.92 | H22: 0 | I22: =ROUND(ROUND(H22,2)*ROUND(G22,3),2) -> 0 | O22: =(I22*21)/100 -> 0 | P22: 2
A23: PP
A24: VV | E24: 25,6-5,76-1,92=17,920 [A]
A25: TS | E25: položka zahrnuje: - kompletní provedení zemní konstrukce včetně nákupu a dopravy materiálu dle zadávací dokumentace - úprava ukládaného materiálu vlhčením, tříděním, promícháním nebo vysoušením, příp. jiné úpravy za účelem zlepšení jeho mech. vlastností - hutnění i různé míry hutnění - ošetření úložiště po celou dobu práce v něm vč. klimatických opatření - ztížení v okolí vedení, konstrukcí a objektů a jejich dočasné zajištění - ztížení provádění vč. hutnění ve ztížených podmínkách a stísněných prostorech - ztížené ukládání sypaniny pod vodu - ukládání po vrstvách a po jiných nutných částech (figurách) vč. dosypávek - spouštění a nošení materiálu - výměna částí zemní konstrukce znehodnocené klimatickými vlivy - udržování úložiště a jeho ochrana proti vodě - odvedení nebo obvedení vody v okolí úložiště a v úložišti - veškeré pomocné konstrukce umožňující provedení zemní konstrukce (příjezdy, sjezdy, nájezdy, lešení, podpěrné konstrukce, přemostění, zpevněné plochy, zakrytí a pod.)
A26: P | B26: 13 | C26: 17581 | E26: OBSYP POTRUBÍ A OBJEKTŮ Z NAKUPOVANÝCH MATERIÁLŮ | F26: M3 | G26: 5.76 | H26: 0 | I26: =ROUND(ROUND(H26,2)*ROUND(G26,3),2) -> 0 | O26: =(I26*21)/100 -> 0 | P26: 2
A27: PP
A28: VV | E28: 16*0,8*0,45=5,760 [A]
A29: TS | E29: položka zahrnuje: - kompletní provedení zemní konstrukce včetně nákupu a dopravy materiálu dle zadávací dokumentace - úprava ukládaného materiálu vlhčením, tříděním, promícháním nebo vysoušením, příp. jiné úpravy za účelem zlepšení jeho mech. vlastností - hutnění i různé míry hutnění - ošetření úložiště po celou dobu práce v něm vč. klimatických opatření - ztížení v okolí vedení, konstrukcí a objektů a jejich dočasné zajištění - ztížení provádění vč. hutnění ve ztížených podmínkách a stísněných prostorech - ztížené ukládání sypaniny pod vodu - ukládání po vrstvách a po jiných nutných částech (figurách) vč. dosypávek - spouštění a nošení materiálu - výměna částí zemní konstrukce znehodnocené klimatickými vlivy - ruční hutnění a výplň jam a prohlubní v podloží - úprava, očištění, ochrana a zhutnění podloží - svahování, hutnění a uzavírání povrchů svahů - zřízení lavic na svazích - udržování úložiště a jeho ochrana proti vodě - odvedení nebo obvedení vody v okolí úložiště a v úložišti - veškeré pomocné konstrukce umožňující provedení zemní konstrukce (příjezdy, sjezdy, nájezdy, lešení, podpěrné konstrukce, přemostění, zpevněné plochy, zakrytí a pod.) - zemina vytlačená potrubím o DN do 180mm se od kubatury obsypů neodečítá
A30: P | B30: 19 | C30: 18231 | E30: ROZPROSTŘENÍ ORNICE V ROVINĚ V TL DO 0,10M | F30: M2 | G30: 6.4 | H30: 0 | I30: =ROUND(ROUND(H30,2)*ROUND(G30,3),2) -> 0 | O30: =(I30*21)/100 -> 0 | P30: 2
A31: PP | E31: Zemina ze stavby, uvedení ploch do původního stavu
A32: VV | E32: 8*0,8=6,400 [A]
A33: TS | E33: položka zahrnuje: nutné přemístění ornice z dočasných skládek vzdálených do 50m rozprostření ornice v předepsané tloušťce v rovině a ve svahu do 1:5
A34: P | B34: 20 | C34: 18241 | E34: ZALOŽENÍ TRÁVNÍKU RUČNÍM VÝSEVEM | F34: M2 | G34: 6.4 | H34: 0 | I34: =ROUND(ROUND(H34,2)*ROUND(G34,3),2) -> 0 | O34: =(I34*21)/100 -> 0 | P34: 2
A35: PP
A36: VV | E36: 8*0,8=6,400 [A]
A37: TS | E37: Zahrnuje dodání předepsané travní směsi, její výsev na ornici, zalévání, první pokosení, to vše bez ohledu na sklon terénu
A38: SD | C38: 5 | E38: Komunikace | I38: =0+Q38 -> 0 | O38: =0+R38 -> 0 | Q38: =0+I39+I43+I47+I51 -> 0 | R38: =0+O39+O43+O47+O51 -> 0
A39: P | B39: 18 | C39: 56330 | E39: VOZOVKOVÉ VRSTVY ZE ŠTĚRKODRTI | F39: M3 | G39: 1.92 | H39: 0 | I39: =ROUND(ROUND(H39,2)*ROUND(G39,3),2) -> 0 | O39: =(I39*21)/100 -> 0 | P39: 2
A40: PP
...
