Workbook

Sheet Rekapitulace
B2: Rekapitulace ceny
B4: Stavba: 20112301 - Oprava komunikací Nová Telib
B5: Varianta: IV - Importovaná varianta
B6: Celková cena bez DPH: | C6: =SUM(C10:C14) -> 0
B7: Celková cena s DPH: | C7: =SUM(E10:E14) -> 0
A9: Objekt | B9: Popis | C9: Cena bez DPH | D9: DPH | E9: Cena s DPH
A10: SO 101.1 | B10: Komunikace na p.č. 432/1 | C10: ='SO 101.1'!I3 -> 0 | D10: ='SO 101.1'!O2 -> 0 | E10: =C10+D10 -> 0
A11: SO 101.2 | B11: Komunikace ve spoluvlastnictví soukromých osob | C11: ='SO 101.2_SO 101.2'!I3 -> 0 | D11: ='SO 101.2_SO 101.2'!O2 -> 0 | E11: =C11+D11 -> 0
A12: SO 300 | B12: Odvodnění komunikace | C12: ='SO 101.2_SO 300'!I3 -> 0 | D12: ='SO 101.2_SO 300'!O2 -> 0 | E12: =C12+D12 -> 0
A13: SO 101.3 | B13: Komunikace na p.č. 430/1 | C13: ='SO 101.3'!I3 -> 0 | D13: ='SO 101.3'!O2 -> 0 | E13: =C13+D13 -> 0
A14: SO 300.1 | B14: Odvodnění na pozemku parc.č. 43/14 do šachty na poz. 459 | C14: ='SO 300.1'!I3 -> 0 | D14: ='SO 300.1'!O2 -> 0 | E14: =C14+D14 -> 0

Sheet SO 101.1
A1: ASPE10 | P1: 3
E2: Soupis prací objektu | O2: =0+O8+O37+O42+O55 -> 0 | P2: 3
A3: S | B3: Stavba: | C3: 20112301 | E3: Oprava komunikací Nová Telib | H3: SO 101.1 | I3: =0+I8+I37+I42+I55 -> 0 | O3: 0,00 | P3: 2
A4: O | B4: Rozpočet: | C4: SO 101.1 | E4: Komunikace na p.č. 432/1 | O4: 15,00 | P4: 2
A5: Typ | B5: Poř. číslo | C5: Kód položky | D5: Varianta | E5: Název položky | F5: MJ | G5: Množství | H5: Jednotková cena | O5: 21,00 | P5: 2
H6: Jednotková | I6: Celkem
A7: 0 | B7: 1 | C7: 2 | D7: 3 | E7: 4 | F7: 5 | G7: 6 | H7: 9 | I7: 10
A8: SD | C8: 0 | E8: Všeobecné konstrukce a práce | I8: =0+Q8 -> 0 | O8: =0+R8 -> 0 | Q8: =0+I9+I13+I17+I21+I25+I29+I33 -> 0 | R8: =0+O9+O13+O17+O21+O25+O29+O33 -> 0
A9: P | B9: 1 | C9: 014112 | E9: POPLATKY ZA SKLÁDKU TYP S-IO (INERTNÍ ODPAD) | F9: T | G9: 0.938 | H9: 0 | I9: =ROUND(ROUND(H9,2)*ROUND(G9,3),2) -> 0 | O9: =(I9*21)/100 -> 0 | P9: 2
A10: PP
A11: VV | E11: 0,375*2,5=0,938 [A]
A12: TS | E12: zahrnuje veškeré poplatky provozovateli skládky související s uložením odpadu na skládce.
A13: P | B13: 2 | C13: 029113 | E13: OSTATNÍ POŽADAVKY - GEODETICKÉ ZAMĚŘENÍ - CELKY | F13: KUS | G13: 1 | H13: 0 | I13: =ROUND(ROUND(H13,2)*ROUND(G13,3),2) -> 0 | O13: =(I13*21)/100 -> 0 | P13: 2
A14: PP
A15: VV
A16: TS | E16: zahrnuje veškeré náklady spojené s objednatelem požadovanými pracemi
A17: P | B17: 3 | C17: 02944 | E17: OSTAT POŽADAVKY - DOKUMENTACE SKUTEČ PROVEDENÍ V DIGIT FORMĚ | F17: KPL | G17: 1 | H17: 0 | I17: =ROUND(ROUND(H17,2)*ROUND(G17,3),2) -> 0 | O17: =(I17*21)/100 -> 0 | P17: 2
A18: PP
A19: VV
A20: TS | E20: zahrnuje veškeré náklady spojené s objednatelem požadovanými pracemi
A21: P | B21: 4 | C21: 02946 | E21: OSTAT POŽADAVKY - FOTODOKUMENTACE | F21: KPL | G21: 1 | H21: 0 | I21: =ROUND(ROUND(H21,2)*ROUND(G21,3),2) -> 0 | O21: =(I21*21)/100 -> 0 | P21: 2
A22: PP
A23: VV
A24: TS | E24: položka zahrnuje: - fotodokumentaci zadavatelem požadovaného děje a konstrukcí v požadovaných časových intervalech - zadavatelem specifikované výstupy (fotografie v papírovém a digitálním formátu) v požadovaném počtu
A25: P | B25: 5 | C25: 02950 | E25: OSTATNÍ POŽADAVKY - POSUDKY, KONTROLY, REVIZNÍ ZPRÁVY | F25: KPL | G25: 1 | H25: 0 | I25: =ROUND(ROUND(H25,2)*ROUND(G25,3),2) -> 0 | O25: =(I25*21)/100 -> 0 | P25: 2
A26: PP
A27: VV
A28: TS | E28: zahrnuje veškeré náklady spojené s objednatelem požadovanými pracemi
A29: P | B29: 6 | C29: 03100 | E29: ZAŘÍZENÍ STAVENIŠTĚ - ZŘÍZENÍ, PROVOZ, DEMONTÁŽ | F29: KPL | G29: 1 | H29: 0 | I29: =ROUND(ROUND(H29,2)*ROUND(G29,3),2) -> 0 | O29: =(I29*21)/100 -> 0 | P29: 2
A30: PP
A31: VV
A32: TS | E32: zahrnuje objednatelem povolené náklady na pořízení (event. pronájem), provozování, udržování a likvidaci zhotovitelova zařízení
A33: P | B33: 7 | C33: 03350 | E33: SLUŽBY ZAJIŠŤUJÍCÍ REGUL, PŘEVED A OCHRANU VEŘEJ DOPRAVY | F33: KPL | G33: 1 | H33: 0 | I33: =ROUND(ROUND(H33,2)*ROUND(G33,3),2) -> 0 | O33: =(I33*21)/100 -> 0 | P33: 2
A34: PP
A35: VV
A36: TS | E36: zahrnuje objednatelem povolené náklady na služby pro zhotovitele
A37: SD | C37: 1 | E37: Zemní práce | I37: =0+Q37 -> 0 | O37: =0+R37 -> 0 | Q37: =0+I38 -> 0 | R37: =0+O38 -> 0
A38: P | B38: 8 | C38: 113138 | E38: ODSTRANĚNÍ KRYTU ZPEVNĚNÝCH PLOCH S ASFALT POJIVEM, ODVOZ DO 20KM | F38: M3 | G38: 0.375 | H38: 0 | I38: =ROUND(ROUND(H38,2)*ROUND(G38,3),2) -> 0 | O38: =(I38*21)/100 -> 0 | P38: 2
A39: PP
A40: VV | E40: 12,5*0,1*0,3=0,375 [A]
A41: TS | E41: Položka zahrnuje veškerou manipulaci s vybouranou sutí a s vybouranými hmotami vč. uložení na skládku. Nezahrnuje poplatek za skládku, který se vykazuje v položce 0141** (s výjimkou malého množství bouraného materiálu, kde je možné poplatek zahrnout do jednotkové ceny bourání – tento fakt musí být uveden v doplňujícím textu k položce).
A42: SD | C42: 5 | E42: Komunikace | I42: =0+Q42 -> 0 | O42: =0+R42 -> 0 | Q42: =0+I43+I47+I51 -> 0 | R42: =0+O43+O47+O51 -> 0
A43: P | B43: 9 | C43: 572211 | E43: SPOJOVACÍ POSTŘIK Z ASFALTU DO 0,5KG/M2 | F43: M2 | G43: 943.9 | H43: 0 | I43: =ROUND(ROUND(H43,2)*ROUND(G43,3),2) -> 0 | O43: =(I43*21)/100 -> 0 | P43: 2
A44: PP
A45: VV | E45: 506,7+437,2=943,900 [A]
A46: TS | E46: - dodání všech předepsaných materiálů pro postřiky v předepsaném množství - provedení dle předepsaného technologického předpisu - zřízení vrstvy bez rozlišení šířky, pokládání vrstvy po etapách - úpravu napojení, ukončení
A47: P | B47: 10 | C47: 574A34 | E47: ASFALTOVÝ BETON PRO OBRUSNÉ VRSTVY ACO 11+, 11S TL. 40MM | F47: M2 | G47: 506.7 | H47: 0 | I47: =ROUND(ROUND(H47,2)*ROUND(G47,3),2) -> 0 | O47: =(I47*21)/100 -> 0 | P47: 2
A48: PP
A49: VV
A50: TS | E50: - dodání směsi v požadované kvalitě - očištění podkladu - uložení směsi dle předepsaného technologického předpisu, zhutnění vrstvy v předepsané tloušťce - zřízení vrstvy bez rozlišení šířky, pokládání vrstvy po etapách, včetně pracovních spar a spojů - úpravu napojení, ukončení podél obrubníků, dilatačních zařízení, odvodňovacích proužků, odvodňovačů, vpustí, šachet a pod. - nezahrnuje postřiky, nátěry - nezahrnuje těsnění podél obrubníků, dilatačních zařízení, odvodňovacích proužků, odvodňovačů, vpustí, šachet a pod.
A51: P | B51: 11 | C51: 574E46 | E51: ASFALTOVÝ BETON PRO PODKLADNÍ VRSTVY ACP 16+, 16S TL. 50MM | F51: M2 | G51: 437.2 | H51: 0 | I51: =ROUND(ROUND(H51,2)*ROUND(G51,3),2) -> 0 | O51: =(I51*21)/100 -> 0 | P51: 2
A52: PP
A53: VV
A54: TS | E54: - dodání směsi v požadované kvalitě - očištění podkladu - uložení směsi dle předepsaného technologického předpisu, zhutnění vrstvy v předepsané tloušťce - zřízení vrstvy bez rozlišení šířky, pokládání vrstvy po etapách, včetně pracovních spar a spojů - úpravu napojení, ukončení podél obrubníků, dilatačních zařízení, odvodňovacích proužků, odvodňovačů, vpustí, šachet a pod. - nezahrnuje postřiky, nátěry - nezahrnuje těsnění podél obrubníků, dilatačních zařízení, odvodňovacích proužků, odvodňovačů, vpustí, šachet a pod.
A55: SD | C55: 9 | E55: Ostatní konstrukce a práce | I55: =0+Q55 -> 0 | O55: =0+R55 -> 0 | Q55: =0+I56+I60+I64 -> 0 | R55: =0+O56+O60+O64 -> 0
A56: P | B56: 12 | C56: 919112 | E56: ŘEZÁNÍ ASFALTOVÉHO KRYTU VOZOVEK TL DO 100MM | F56: M | G56: 12.5 | H56: 0 | I56: =ROUND(ROUND(H56,2)*ROUND(G56,3),2) -> 0 | O56: =(I56*21)/100 -> 0 | P56: 2
A57: PP
A58: VV
A59: TS | E59: položka zahrnuje řezání vozovkové vrstvy v předepsané tloušťce, včetně spotřeby vody
A60: P | B60: 13 | C60: 931321 | E60: TĚSNĚNÍ DILATAČ SPAR ASF ZÁLIVKOU MODIFIK PRŮŘ DO 100MM2 | F60: M | G60: 12.5 | H60: 0 | I60: =ROUND(ROUND(H60,2)*ROUND(G60,3),2) -> 0 | O60: =(I60*21)/100 -> 0 | P60: 2
A61: PP
A62: VV
A63: TS | E63: položka zahrnuje dodávku a osazení předepsaného materiálu, očištění ploch spáry před úpravou, očištění okolí spáry po úpravě nezahrnuje těsnící profil
A64: P | B64: 14 | C64: 93808 | E64: OČIŠTĚNÍ VOZOVEK ZAMETENÍM | F64: M2 | G64: 524.2 | H64: 0 | I64: =ROUND(ROUND(H64,2)*ROUND(G64,3),2) -> 0 | O64: =(I64*21)/100 -> 0 | P64: 2
A65: PP
A66: VV
A67: TS | E67: položka zahrnuje očištění předepsaným způsobem včetně odklizení vzniklého odpadu

Sheet SO 101.2_SO 101.2
A1: ASPE10 | P1: 3
E2: Soupis prací objektu | O2: =0+O9+O38+O43+O56 -> 0 | P2: 3
A3: S | B3: Stavba: | C3: 20112301 | E3: Oprava komunikací Nová Telib | H3: SO 101.2 | I3: =0+I9+I38+I43+I56 -> 0 | O3: 0,00 | P3: 2
A4: O | B4: Objekt: | C4: SO 101.2 | E4: Komunikace ve spoluvlastnictví soukromých osob | O4: 15,00 | P4: 2
A5: O1 | B5: Rozpočet: | C5: SO 101.2 | E5: Komunikace ve spoluvlastnictví soukromých osob | O5: 21,00 | P5: 2
A6: Typ | B6: Poř. číslo | C6: Kód položky | D6: Varianta | E6: Název položky | F6: MJ | G6: Množství | H6: Jednotková cena
H7: Jednotková | I7: Celkem
A8: 0 | B8: 1 | C8: 2 | D8: 3 | E8: 4 | F8: 5 | G8: 6 | H8: 9 | I8: 10
A9: SD | C9: 0 | E9: Všeobecné konstrukce a práce | I9: =0+Q9 -> 0 | O9: =0+R9 -> 0 | Q9: =0+I10+I14+I18+I22+I26+I30+I34 -> 0 | R9: =0+O10+O14+O18+O22+O26+O30+O34 -> 0
A10: P | B10: 1 | C10: 014112 | E10: POPLATKY ZA SKLÁDKU TYP S-IO (INERTNÍ ODPAD) | F10: T | G10: 0.48 | H10: 0 | I10: =ROUND(ROUND(H10,2)*ROUND(G10,3),2) -> 0 | O10: =(I10*21)/100 -> 0 | P10: 2
A11: PP
A12: VV | E12: 0,192*2,5=0,480 [A]
A13: TS | E13: zahrnuje veškeré poplatky provozovateli skládky související s uložením odpadu na skládce.
A14: P | B14: 2 | C14: 029113 | E14: OSTATNÍ POŽADAVKY - GEODETICKÉ ZAMĚŘENÍ - CELKY | F14: KUS | G14: 1 | H14: 0 | I14: =ROUND(ROUND(H14,2)*ROUND(G14,3),2) -> 0 | O14: =(I14*21)/100 -> 0 | P14: 2
A15: PP
A16: VV
A17: TS | E17: zahrnuje veškeré náklady spojené s objednatelem požadovanými pracemi
A18: P | B18: 3 | C18: 02944 | E18: OSTAT POŽADAVKY - DOKUMENTACE SKUTEČ PROVEDENÍ V DIGIT FORMĚ | F18: KPL | G18: 1 | H18: 0 | I18: =ROUND(ROUND(H18,2)*ROUND(G18,3),2) -> 0 | O18: =(I18*21)/100 -> 0 | P18: 2
A19: PP
A20: VV
A21: TS | E21: zahrnuje veškeré náklady spojené s objednatelem požadovanými pracemi
A22: P | B22: 4 | C22: 02946 | E22: OSTAT POŽADAVKY - FOTODOKUMENTACE | F22: KPL | G22: 1 | H22: 0 | I22: =ROUND(ROUND(H22,2)*ROUND(G22,3),2) -> 0 | O22: =(I22*21)/100 -> 0 | P22: 2
A23: PP
A24: VV
A25: TS | E25: položka zahrnuje: - fotodokumentaci zadavatelem požadovaného děje a konstrukcí v požadovaných časových intervalech - zadavatelem specifikované výstupy (fotografie v papírovém a digitálním formátu) v požadovaném počtu
A26: P | B26: 5 | C26: 02950 | E26: OSTATNÍ POŽADAVKY - POSUDKY, KONTROLY, REVIZNÍ ZPRÁVY | F26: KPL | G26: 1 | H26: 0 | I26: =ROUND(ROUND(H26,2)*ROUND(G26,3),2) -> 0 | O26: =(I26*21)/100 -> 0 | P26: 2
A27: PP
A28: VV
A29: TS | E29: zahrnuje veškeré náklady spojené s objednatelem požadovanými pracemi
A30: P | B30: 6 | C30: 03100 | E30: ZAŘÍZENÍ STAVENIŠTĚ - ZŘÍZENÍ, PROVOZ, DEMONTÁŽ | F30: KPL | G30: 1 | H30: 0 | I30: =ROUND(ROUND(H30,2)*ROUND(G30,3),2) -> 0 | O30: =(I30*21)/100 -> 0 | P30: 2
A31: PP
A32: VV
A33: TS | E33: zahrnuje objednatelem povolené náklady na pořízení (event. pronájem), provozování, udržování a likvidaci zhotovitelova zařízení
A34: P | B34: 7 | C34: 03350 | E34: SLUŽBY ZAJIŠŤUJÍCÍ REGUL, PŘEVED A OCHRANU VEŘEJ DOPRAVY | F34: KPL | G34: 1 | H34: 0 | I34: =ROUND(ROUND(H34,2)*ROUND(G34,3),2) -> 0 | O34: =(I34*21)/100 -> 0 | P34: 2
A35: PP
A36: VV
A37: TS | E37: zahrnuje objednatelem povolené náklady na služby pro zhotovitele
A38: SD | C38: 1 | E38: Zemní práce | I38: =0+Q38 -> 0 | O38: =0+R38 -> 0 | Q38: =0+I39 -> 0 | R38: =0+O39 -> 0
A39: P | B39: 8 | C39: 113138 | E39: ODSTRANĚNÍ KRYTU ZPEVNĚNÝCH PLOCH S ASFALT POJIVEM, ODVOZ DO 20KM | F39: M3 | G39: 0.192 | H39: 0 | I39: =ROUND(ROUND(H39,2)*ROUND(G39,3),2) -> 0 | O39: =(I39*21)/100 -> 0 | P39: 2
A40: PP
A41: VV | E41: 6,4*0,1*0,3=0,192 [A]
A42: TS | E42: Položka zahrnuje veškerou manipulaci s vybouranou sutí a s vybouranými hmotami vč. uložení na skládku. Nezahrnuje poplatek za skládku, který se vykazuje v položce 0141** (s výjimkou malého množství bouraného materiálu, kde je možné poplatek zahrnout do jednotkové ceny bourání – tento fakt musí být uveden v doplňujícím textu k položce).
A43: SD | C43: 5 | E43: Komunikace | I43: =0+Q43 -> 0 | O43: =0+R43 -> 0 | Q43: =0+I44+I48+I52 -> 0 | R43: =0+O44+O48+O52 -> 0
A44: P | B44: 9 | C44: 572211 | E44: SPOJOVACÍ POSTŘIK Z ASFALTU DO 0,5KG/M2 | F44: M2 | G44: 1171.25 | H44: 0 | I44: =ROUND(ROUND(H44,2)*ROUND(G44,3),2) -> 0 | O44: =(I44*21)/100 -> 0 | P44: 2
A45: PP
A46: VV | E46: 576,85+594,4=1 171,250 [A]
A47: TS | E47: - dodání všech předepsaných materiálů pro postřiky v předepsaném množství - provedení dle předepsaného technologického předpisu - zřízení vrstvy bez rozlišení šířky, pokládání vrstvy po etapách - úpravu napojení, ukončení
A48: P | B48: 10 | C48: 574A34 | E48: ASFALTOVÝ BETON PRO OBRUSNÉ VRSTVY ACO 11+, 11S TL. 40MM | F48: M2 | G48: 767.5 | H48: 0 | I48: =ROUND(ROUND(H48,2)*ROUND(G48,3),2) -> 0 | O48: =(I48*21)/100 -> 0 | P48: 2
A49: PP
A50: VV
A51: TS | E51: - dodání směsi v požadované kvalitě - očištění podkladu - uložení směsi dle předepsaného technologického předpisu, zhutnění vrstvy v předepsané tloušťce - zřízení vrstvy bez rozlišení šířky, pokládání vrstvy po etapách, včetně pracovních spar a spojů - úpravu napojení, ukončení podél obrubníků, dilatačních zařízení, odvodňovacích proužků, odvodňovačů, vpustí, šachet a pod. - nezahrnuje postřiky, nátěry - nezahrnuje těsnění podél obrubníků, dilatačních zařízení, odvodňovacích proužků, odvodňovačů, vpustí, šachet a pod.
A52: P | B52: 11 | C52: 574E46 | E52: ASFALTOVÝ BETON PRO PODKLADNÍ VRSTVY ACP 16+, 16S TL. 50MM | F52: M2 | G52: 793.8 | H52: 0 | I52: =ROUND(ROUND(H52,2)*ROUND(G52,3),2) -> 0 | O52: =(I52*21)/100 -> 0 | P52: 2
A53: PP
A54: VV
A55: TS | E55: - dodání směsi v požadované kvalitě - očištění podkladu - uložení směsi dle předepsaného technologického předpisu, zhutnění vrstvy v předepsané tloušťce - zřízení vrstvy bez rozlišení šířky, pokládání vrstvy po etapách, včetně pracovních spar a spojů - úpravu napojení, ukončení podél obrubníků, dilatačních zařízení, odvodňovacích proužků, odvodňovačů, vpustí, šachet a pod. - nezahrnuje postřiky, nátěry - nezahrnuje těsnění podél obrubníků, dilatačních zařízení, odvodňovacích proužků, odvodňovačů, vpustí, šachet a pod.
A56: SD | C56: 9 | E56: Ostatní konstrukce a práce | I56: =0+Q56 -> 0 | O56: =0+R56 -> 0 | Q56: =0+I57+I61+I65 -> 0 | R56: =0+O57+O61+O65 -> 0
A57: P | B57: 12 | C57: 919112 | E57: ŘEZÁNÍ ASFALTOVÉHO KRYTU VOZOVEK TL DO 100MM | F57: M | G57: 6.4 | H57: 0 | I57: =ROUND(ROUND(H57,2)*ROUND(G57,3),2) -> 0 | O57: =(I57*21)/100 -> 0 | P57: 2
A58: PP
A59: VV
A60: TS | E60: položka zahrnuje řezání vozovkové vrstvy v předepsané tloušťce, včetně spotřeby vody
A61: P | B61: 13 | C61: 931321 | E61: TĚSNĚNÍ DILATAČ SPAR ASF ZÁLIVKOU MODIFIK PRŮŘ DO 100MM2 | F61: M | G61: 6.4 | H61: 0 | I61: =ROUND(ROUND(H61,2)*ROUND(G61,3),2) -> 0 | O61: =(I61*21)/100 -> 0 | P61: 2
A62: PP
A63: VV
A64: TS | E64: položka zahrnuje dodávku a osazení předepsaného materiálu, očištění ploch spáry před úpravou, očištění okolí spáry po úpravě nezahrnuje těsnící profil
A65: P | B65: 14 | C65: 93808 | E65: OČIŠTĚNÍ VOZOVEK ZAMETENÍM | F65: M2 | G65: 793.8 | H65: 0 | I65: =ROUND(ROUND(H65,2)*ROUND(G65,3),2) -> 0 | O65: =(I65*21)/100 -> 0 | P65: 2
A66: PP
A67: VV
A68: TS | E68: položka zahrnuje očištění předepsaným způsobem včetně odklizení vzniklého odpadu

Sheet SO 101.2_SO 300
A1: ASPE10 | P1: 3
E2: Soupis prací objektu | O2: =0+O9+O18+O39+O44+O61 -> 0 | P2: 3
A3: S | B3: Stavba: | C3: 20112301 | E3: Oprava komunikací Nová Telib | H3: SO 300 | I3: =0+I9+I18+I39+I44+I61 -> 0 | O3: 0,00 | P3: 2
A4: O | B4: Objekt: | C4: SO 101.2 | E4: Komunikace ve spoluvlastnictví soukromých osob | O4: 15,00 | P4: 2
A5: O1 | B5: Rozpočet: | C5: SO 300 | E5: Odvodnění komunikace | O5: 21,00 | P5: 2
A6: Typ | B6: Poř. číslo | C6: Kód položky | D6: Varianta | E6: Název položky | F6: MJ | G6: Množství | H6: Jednotková cena
H7: Jednotková | I7: Celkem
A8: 0 | B8: 1 | C8: 2 | D8: 3 | E8: 4 | F8: 5 | G8: 6 | H8: 9 | I8: 10
A9: SD | C9: 0 | E9: Všeobecné konstrukce a práce | I9: =0+Q9 -> 0 | O9: =0+R9 -> 0 | Q9: =0+I10+I14 -> 0 | R9: =0+O10+O14 -> 0
A10: P | B10: 17 | C10: 014112 | E10: POPLATKY ZA SKLÁDKU TYP S-IO (INERTNÍ ODPAD) | F10: T | G10: 287.71 | H10: 0 | I10: =ROUND(ROUND(H10,2)*ROUND(G10,3),2) -> 0 | O10: =(I10*21)/100 -> 0 | P10: 2
A11: PP
A12: VV | E12: 143,855*2=287,710 [A]
A13: TS | E13: zahrnuje veškeré poplatky provozovateli skládky související s uložením odpadu na skládce.
A14: P | B14: 2 | C14: 029113 | E14: OSTATNÍ POŽADAVKY - GEODETICKÉ ZAMĚŘENÍ - CELKY | F14: KUS | G14: 1 | H14: 0 | I14: =ROUND(ROUND(H14,2)*ROUND(G14,3),2) -> 0 | O14: =(I14*21)/100 -> 0 | P14: 2
A15: PP
A16: VV
A17: TS | E17: zahrnuje veškeré náklady spojené s objednatelem požadovanými pracemi
A18: SD | C18: 1 | E18: Zemní práce | I18: =0+Q18 -> 0 | O18: =0+R18 -> 0 | Q18: =0+I19+I23+I27+I31+I35 -> 0 | R18: =0+O19+O23+O27+O31+O35 -> 0
A19: P | B19: 15 | C19: 132738 | E19: HLOUBENÍ RÝH ŠÍŘ DO 2M PAŽ I NEPAŽ TŘ. I, ODVOZ DO 20KM | F19: M3 | G19: 143.855 | H19: 0 | I19: =ROUND(ROUND(H19,2)*ROUND(G19,3),2) -> 0 | O19: =(I19*21)/100 -> 0 | P19: 2
A20: PP
A21: VV | E21: ŠTĚRBINY:55*1,2*0,6+1,2*0,3*123=83,880 [A] OBRUBY:1=1,000 [D] POTRUBÍ:35*0,8*1,7=47,600 [C] ŠACHTA,UV:2*2*2+1,5*1,5*1,5=11,375 [B] Celkem: A+D+C+B=143,855 [E]
A22: TS | E22: položka zahrnuje: - vodorovná a svislá doprava, přemístění, přeložení, manipulace s výkopkem - kompletní provedení vykopávky nezapažené i zapažené - ošetření výkopiště po celou dobu práce v něm vč. klimatických opatření - ztížení vykopávek v blízkosti podzemního vedení, konstrukcí a objektů vč. jejich dočasného zajištění - ztížení pod vodou, v okolí výbušnin, ve stísněných prostorech a pod. - příplatek za lepivost - těžení po vrstvách, pásech a po jiných nutných částech (figurách) - čerpání vody vč. čerpacích jímek, potrubí a pohotovostní čerpací soupravy (viz ustanovení k pol. 1151,2) - potřebné snížení hladiny podzemní vody - těžení a rozpojování jednotlivých balvanů - vytahování a nošení výkopku - svahování a přesvah. svahů do konečného tvaru, výměna hornin v podloží a v pláni znehodnocené klimatickými vlivy - ruční vykopávky, odstranění kořenů a napadávek - pažení, vzepření a rozepření vč. přepažování (vyjma štětových stěn) - úpravu, ochranu a očištění dna, základové spáry, stěn a svahů - odvedení nebo obvedení vody v okolí výkopiště a ve výkopišti - třídění výkopku - veškeré pomocné konstrukce umožňující provedení vykopávky (příjezdy, sjezdy, nájezdy, lešení, podpěr. konstr., přemostění, zpevněné plochy, zakrytí a pod.) - nezahrnuje uložení zeminy (na skládku, do násypu) ani poplatky za skládku, vykazují se v položce č.0141**
A23: P | B23: 16 | C23: 17481 | E23: ZÁSYP JAM A RÝH Z NAKUPOVANÝCH MATERIÁLŮ | F23: M3 | G23: 38.575 | H23: 0 | I23: =ROUND(ROUND(H23,2)*ROUND(G23,3),2) -> 0 | O23: =(I23*21)/100 -> 0 | P23: 2
A24: PP
A25: VV | E25: POTRUBÍ:35*0,8*1,15=32,200 [G] ŠACHTA,UV:2*2*2+1,5*1,5*1,5=11,375 [H] -5=-5,000 [J] Celkem: G+H+J=38,575 [K]
A26: TS | E26: položka zahrnuje: - kompletní provedení zemní konstrukce včetně nákupu a dopravy materiálu dle zadávací dokumentace - úprava ukládaného materiálu vlhčením, tříděním, promícháním nebo vysoušením, příp. jiné úpravy za účelem zlepšení jeho mech. vlastností - hutnění i různé míry hutnění - ošetření úložiště po celou dobu práce v něm vč. klimatických opatření - ztížení v okolí vedení, konstrukcí a objektů a jejich dočasné zajištění - ztížení provádění vč. hutnění ve ztížených podmínkách a stísněných prostorech - ztížené ukládání sypaniny pod vodu - ukládání po vrstvách a po jiných nutných částech (figurách) vč. dosypávek - spouštění a nošení materiálu - výměna částí zemní konstrukce znehodnocené klimatickými vlivy - udržování úložiště a jeho ochrana proti vodě - odvedení nebo obvedení vody v okolí úložiště a v úložišti - veškeré pomocné konstrukce umožňující provedení zemní konstrukce (příjezdy, sjezdy, nájezdy, lešení, podpěrné konstrukce, přemostění, zpevněné plochy, zakrytí a pod.)
A27: P | B27: 13 | C27: 17581 | E27: OBSYP POTRUBÍ A OBJEKTŮ Z NAKUPOVANÝCH MATERIÁLŮ | F27: M3 | G27: 44.735 | H27: 0 | I27: =ROUND(ROUND(H27,2)*ROUND(G27,3),2) -> 0 | O27: =(I27*21)/100 -> 0 | P27: 2
A28: PP
A29: VV | E29: ŠTĚRBINY:55*1,2*0,6+1,2*0,3*123=83,880 [A] -178*0,6*0,54=-57,672 [B] POTRUBÍ:35*0,8*0,75=21,000 [G] -35*0,07065=-2,473 [I] Celkem: A+B+G+I=44,735 [J]
A30: TS | E30: položka zahrnuje: - kompletní provedení zemní konstrukce včetně nákupu a dopravy materiálu dle zadávací dokumentace - úprava ukládaného materiálu vlhčením, tříděním, promícháním nebo vysoušením, příp. jiné úpravy za účelem zlepšení jeho mech. vlastností - hutnění i různé míry hutnění - ošetření úložiště po celou dobu práce v něm vč. klimatických opatření - ztížení v okolí vedení, konstrukcí a objektů a jejich dočasné zajištění - ztížení provádění vč. hutnění ve ztížených podmínkách a stísněných prostorech - ztížené ukládání sypaniny pod vodu - ukládání po vrstvách a po jiných nutných částech (figurách) vč. dosypávek - spouštění a nošení materiálu - výměna částí zemní konstrukce znehodnocené klimatickými vlivy - ruční hutnění a výplň jam a prohlubní v podloží - úprava, očištění, ochrana a zhutnění podloží - svahování, hutnění a uzavírání povrchů svahů - zřízení lavic na svazích - udržování úložiště a jeho ochrana proti vodě - odvedení nebo obvedení vody v okolí úložiště a v úložišti - veškeré pomocné konstrukce umožňující provedení zemní konstrukce (příjezdy, sjezdy, nájezdy, lešení, podpěrné konstrukce, přemostění, zpevněné plochy, zakrytí a pod.) - zemina vytlačená potrubím o DN do 180mm se od kubatury obsypů neodečítá
A31: P | B31: 19 | C31: 18231 | E31: ROZPROSTŘENÍ ORNICE V ROVINĚ V TL DO 0,10M | F31: M2 | G31: 426 | H31: 0 | I31: =ROUND(ROUND(H31,2)*ROUND(G31,3),2) -> 0 | O31: =(I31*21)/100 -> 0 | P31: 2
A32: PP | E32: Zemina ze stavby, uvedení ploch do původního stavu
A33: VV | E33: (178+35)*2=426,000 [A]
A34: TS | E34: položka zahrnuje: nutné přemístění ornice z dočasných skládek vzdálených do 50m rozprostření ornice v předepsané tloušťce v rovině a ve svahu do 1:5
A35: P | B35: 20 | C35: 18241 | E35: ZALOŽENÍ TRÁVNÍKU RUČNÍM VÝSEVEM | F35: M2 | G35: 426 | H35: 0 | I35: =ROUND(ROUND(H35,2)*ROUND(G35,3),2) -> 0 | O35: =(I35*21)/100 -> 0 | P35: 2
A36: PP
A37: VV
A38: TS | E38: Zahrnuje dodání předepsané travní směsi, její výsev na ornici, zalévání, první pokosení, to vše bez ohledu na sklon terénu
A39: SD | C39: 4 | E39: Vodorovné konstrukce | I39: =0+Q39 -> 0 | O39: =0+R39 -> 0 | Q39: =0+I40 -> 0 | R39: =0+O40 -> 0
A40: P | B40: 29 | C40: 465512 | E40: DLAŽBY Z LOMOVÉHO KAMENE NA MC | F40: M3 | G40: 1.05 | H40: 0 | I40: =ROUND(ROUND(H40,2)*ROUND(G40,3),2) -> 0 | O40: =(I40*21)/100 -> 0 | P40: 2
A41: PP | E41: Odláždění vyústění potrubí do vodoteče
A42: VV | E42: 1,5*2*0,35=1,050 [A]
A43: TS | E43: položka zahrnuje: - nutné zemní práce (svahování, úpravu pláně a pod.) - zřízení spojovací vrstvy - zřízení lože dlažby z cementové malty předepsané kvality a předepsané tloušťky - dodávku a položení dlažby z lomového kamene do předepsaného tvaru - spárování, těsnění, tmelení a vyplnění spar MC případně s vyklínováním - úprava povrchu pro odvedení srážkové vody - nezahrnuje podklad pod dlažbu, vykazuje se samostatně položkami SD 45
A44: SD | C44: 8 | E44: Potrubí | I44: =0+Q44 -> 0 | O44: =0+R44 -> 0 | Q44: =0+I45+I49+I53+I57 -> 0 | R44: =0+O45+O49+O53+O57 -> 0
A45: P | B45: 14 | C45: 87445 | E45: POTRUBÍ Z TRUB PLASTOVÝCH ODPADNÍCH DN DO 300MM | F45: M | G45: 35 | H45: 0 | I45: =ROUND(ROUND(H45,2)*ROUND(G45,3),2) -> 0 | O45: =(I45*21)/100 -> 0 | P45: 2
A46: PP
A47: VV | E47: 27+8=35,000 [A]
A48: TS | E48: položky pro zhotovení potrubí platí bez ohledu na sklon zahrnuje: - výrobní dokumentaci (včetně technologického předpisu) - dodání veškerého trubního a pomocného materiálu (trouby, trubky, tvarovky, spojovací a těsnící materiál a pod.), podpěrných, závěsných a upevňovacích prvků, včetně potřebných úprav - úprava a příprava podkladu a podpěr, očištění a ošetření podkladu a podpěr - zřízení plně funkčního potrubí, kompletní soustavy, podle příslušného technologického předpisu - zřízení potrubí i jednotlivých částí po etapách, včetně pracovních spar a spojů, pracovního zaslepení konců a pod. - úprava prostupů, průchodů šachtami a komorami, okolí podpěr a vyústění, zaústění, napojení, vyvedení a upevnění odpad. výustí - ochrana potrubí nátěrem (vč. úpravy povrchu), případně izolací, nejsou-li tyto práce předmětem jiné položky - úprava, očištění a ošetření prostoru kolem potrubí - položky platí pro práce prováděné v prostoru zapaženém i nezapaženém a i v kolektorech, chráničkách - položky zahrnují i práce spojené s nutnými obtoky, převáděním a čerpáním vody nezahrnuje zkoušky vodotěsnosti a televizní prohlídku
A49: P | B49: 26 | C49: 894145 | E49: ŠACHTY KANALIZAČNÍ Z BETON DÍLCŮ NA POTRUBÍ DN DO 300MM | F49: KUS | G49: 1 | H49: 0 | I49: =ROUND(ROUND(H49,2)*ROUND(G49,3),2) -> 0 | O49: =(I49*21)/100 -> 0 | P49: 2
A50: PP
A51: VV
A52: TS | E52: položka zahrnuje: - poklopy s rámem, mříže s rámem, stupadla, žebříky, stropy z bet. dílců a pod. - předepsané betonové skruže, prefabrikované nebo monolitické betonové dno - dodání dílce požadovaného tvaru a vlastností, jeho skladování, doprava a osazení do definitivní polohy, včetně komplexní technologie výroby a montáže dílců, ošetření a ochrana dílců, - u dílců železobetonových a předpjatých veškerá výztuž, případně i tuhé kovové prvky a závěsná oka, - úpravy a zařízení pro uložení a transport dílce, - veškeré požadované úpravy dílců, včetně doplňkových konstrukcí a vybavení, - sestavení dílce na stavbě včetně montážních zařízení, plošin a prahů a pod., - výplň, těsnění a tmelení spár a spojů, - očištění a ošetření úložných ploch, - zednické výpomoce pro montáž dílců, - označení dílce výrobním štítkem nebo jiným způsobem, - úpravy dílce pro dodržení požadované přesnosti jeho osazení, včetně případných měření, - veškerá zařízení pro zajištění stability v každém okamžiku - předepsané podkladní konstrukce
A53: P | B53: 27 | C53: 894445 | E53: ŠACHTY KANAL ZE ŽELEZOBET VČET VÝZT NA POTRUBÍ DN DO 300MM | F53: KUS | G53: 1 | H53: 0 | I53: =ROUND(ROUND(H53,2)*ROUND(G53,3),2) -> 0 | O53: =(I53*21)/100 -> 0 | P53: 2
A54: PP
A55: VV
A56: TS | E56: položka zahrnuje: - poklopy s rámem, mříže s rámem, stupadla, žebříky, stropy z bet. dílců a pod. - dodání čerstvého betonu (betonové směsi) požadované kvality, jeho uložení do požadovaného tvaru při jakékoliv hustotě výztuže, konzistenci čerstvého betonu a způsobu hutnění, ošetření a ochranu betonu, - zhotovení nepropustného, mrazuvzdorného betonu a betonu požadované trvanlivosti a vlastností, - užití potřebných přísad a technologií výroby betonu, - zřízení pracovních a dilatačních spar, včetně potřebných úprav, výplně, vložek, opracování, očištění a ošetření, - bednění požadovaných konstr. (i ztracené) s úpravou dle požadované kvality povrchu betonu, včetně odbedňovacích a odskružovacích prostředků, - dodání betonářské výztuže v požadované kvalitě, stříhání, řezání, ohýbání a spojování do všech požadovaných tvarů (vč. armakošů) a uložení s požadovaným zajištěním polohy a krytí výztuže betonem, - veškeré svary nebo jiné spoje výztuže, - podpěrné konstr. (skruže) a lešení všech druhů pro bednění, uložení čerstvého betonu, výztuže a doplňkových konstr., vč. požadovaných otvorů, ochranných a bezpečnostních opatření a základů těchto konstrukcí a lešení, - vytvoření kotevních čel, kapes, nálitků, a sedel, - zřízení všech požadovaných otvorů, kapes, výklenků, prostupů, dutin, drážek a pod., vč. ztížení práce a úprav kolem nich, - úpravy pro osazení výztuže, doplňkových konstrukcí a vybavení, - úpravy povrchu pro položení požadované izolace, povlaků a nátěrů, případně vyspravení, - ztížení práce u kabelových a injektážních trubek a ostatních zařízení osazovaných do betonu, - konstrukce betonových kloubů, upevnění kotevních prvků a doplňkových konstrukcí, - nátěry zabraňující soudržnost betonu a bednění, - výplň, těsnění a tmelení spar a spojů, - opatření povrchů betonu izolací proti zemní vlhkosti v částech, kde přijdou do styku se zeminou nebo kamenivem, - případné zřízení spojovací vrstvy u základů, - úpravy pro osazení zařízení ochrany konstrukce proti vlivu bludných proudů - předepsané podkladní konstrukce
A57: P | B57: 23 | C57: 89712 | E57: VPUSŤ KANALIZAČNÍ ULIČNÍ KOMPLETNÍ Z BETONOVÝCH DÍLCŮ | F57: KUS | G57: 2 | H57: 0 | I57: =ROUND(ROUND(H57,2)*ROUND(G57,3),2) -> 0 | O57: =(I57*21)/100 -> 0 | P57: 2
A58: PP
A59: VV
A60: TS | E60: položka zahrnuje: - dodávku a osazení předepsaných dílů včetně mříže - výplň, těsnění a tmelení spar a spojů, - opatření povrchů betonu izolací proti zemní vlhkosti v částech, kde přijdou do styku se zeminou nebo kamenivem, - předepsané podkladní konstrukce
A61: SD | C61: 9 | E61: Ostatní konstrukce a práce | I61: =0+Q61 -> 0 | O61: =0+R61 -> 0 | Q61: =0+I62+I66+I70+I74+I78+I82 -> 0 | R61: =0+O62+O66+O70+O74+O78+O82 -> 0
A62: P | B62: 24 | C62: 917212 | E62: ZÁHONOVÉ OBRUBY Z BETONOVÝCH OBRUBNÍKŮ ŠÍŘ 80MM | F62: M | G62: 58 | H62: 0 | I62: =ROUND(ROUND(H62,2)*ROUND(G62,3),2) -> 0 | O62: =(I62*21)/100 -> 0 | P62: 2
A63: PP
A64: VV | E64: 6*3*2+11*2=58,000 [A]
A65: TS | E65: Položka zahrnuje: dodání a pokládku betonových obrubníků o rozměrech předepsaných zadávací dokumentací betonové lože i boční betonovou opěrku.
A66: P | B66: 25 | C66: 917224 | E66: SILNIČNÍ A CHODNÍKOVÉ OBRUBY Z BETONOVÝCH OBRUBNÍKŮ ŠÍŘ 150MM | F66: M | G66: 5 | H66: 0 | I66: =ROUND(ROUND(H66,2)*ROUND(G66,3),2) -> 0 | O66: =(I66*21)/100 -> 0 | P66: 2
A67: PP
A68: VV
A69: TS | E69: Položka zahrnuje: dodání a pokládku betonových obrubníků o rozměrech předepsaných zadávací dokumentací betonové lože i boční betonovou opěrku.
A70: P | B70: 13 | C70: 931315 | E70: TĚSNĚNÍ DILATAČ SPAR ASF ZÁLIVKOU PRŮŘ DO 600MM2 | F70: M | G70: 356 | H70: 0 | I70: =ROUND(ROUND(H70,2)*ROUND(G70,3),2) -> 0 | O70: =(I70*21)/100 -> 0 | P70: 2
A71: PP
A72: VV | E72: 178*2=356,000 [A]
A73: TS | E73: položka zahrnuje dodávku a osazení předepsaného materiálu, očištění ploch spáry před úpravou, očištění okolí spáry po úpravě nezahrnuje těsnící profil
A74: P | B74: 22 | C74: 935212 | E74: PŘÍKOPOVÉ ŽLABY Z BETON TVÁRNIC ŠÍŘ DO 600MM DO BETONU TL 100MM | F74: M | G74: 178 | H74: 0 | I74: =ROUND(ROUND(H74,2)*ROUND(G74,3),2) -> 0 | O74: =(I74*21)/100 -> 0 | P74: 2
A75: PP
A76: VV
A77: TS | E77: položka zahrnuje: - dodávku a uložení příkopových tvárnic předepsaného rozměru a kvality - dodání a rozprostření lože z předepsaného materiálu v předepsané kvalitěa v předepsané tloušťce - veškerou manipulaci s materiálem, vnitrostaveništní i mimostaveništní dopravu - ukončení, patky, spárování - měří se v metrech běžných délky osy žlabu
A78: P | B78: 28 | C78: 96688 | E78: VYBOURÁNÍ KANALIZAČ ŠACHET KOMPLETNÍCH | F78: KUS | G78: 1 | H78: 0 | I78: =ROUND(ROUND(H78,2)*ROUND(G78,3),2) -> 0 | O78: =(I78*21)/100 -> 0 | P78: 2
A79: PP
A80: VV
A81: TS | E81: položka zahrnuje: - kompletní bourací práce včetně nezbytného rozsahu zemních prací, - veškerou manipulaci s vybouranou sutí a hmotami včetně uložení na skládku, - veškeré další práce plynoucí z technologického předpisu a z platných předpisů, nezahrnuje poplatek za skládku, který se vykazuje v položce 0141** (s výjimkou malého množství bouraného materiálu, kde je možné poplatek zahrnout do jednotkové ceny bourání – tento fakt musí být uveden v doplňujícím textu k položce)
A82: P | B82: 21 | C82: 967158R | E82: VYBOURÁNÍ ČÁSTÍ KONSTRUKCÍ BETON S ODVOZEM DO 20KM | F82: KUS | G82: 1 | H82: 0 | I82: =ROUND(ROUND(H82,2)*ROUND(G82,3),2) -> 0 | O82: =(I82*21)/100 -> 0 | P82: 2
A83: PP | E83: Prostup v základu zdi pro potrubí DN 300 včetně utěsnění prostupu
A84: VV | E84: 1=1,000 [A]
A85: TS | E85: položka zahrnuje: - veškerou manipulaci s vybouranou sutí a hmotami včetně uložení na skládku, - veškeré další práce plynoucí z technologického předpisu a z platných předpisů, nezahrnuje poplatek za skládku, který se vykazuje v položce 0141** (s výjimkou malého množství bouraného materiálu, kde je možné poplatek zahrnout do jednotkové ceny bourání – tento fakt musí být uveden v doplňujícím textu k položce)

Sheet SO 101.3
A1: ASPE10 | P1: 3
E2: Soupis prací objektu | O2: =0+O8+O37+O42+O55 -> 0 | P2: 3
A3: S | B3: Stavba: | C3: 20112301 | E3: Oprava komunikací Nová Telib | H3: SO 101.3 | I3: =0+I8+I37+I42+I55 -> 0 | O3: 0,00 | P3: 2
A4: O | B4: Rozpočet: | C4: SO 101.3 | E4: Komunikace na p.č. 430/1 | O4: 15,00 | P4: 2
A5: Typ | B5: Poř. číslo | C5: Kód položky | D5: Varianta | E5: Název položky | F5: MJ | G5: Množství | H5: Jednotková cena | O5: 21,00 | P5: 2
H6: Jednotková | I6: Celkem
A7: 0 | B7: 1 | C7: 2 | D7: 3 | E7: 4 | F7: 5 | G7: 6 | H7: 9 | I7: 10
A8: SD | C8: 0 | E8: Všeobecné konstrukce a práce | I8: =0+Q8 -> 0 | O8: =0+R8 -> 0 | Q8: =0+I9+I13+I17+I21+I25+I29+I33 -> 0 | R8: =0+O9+O13+O17+O21+O25+O29+O33 -> 0
A9: P | B9: 1 | C9: 014112 | E9: POPLATKY ZA SKLÁDKU TYP S-IO (INERTNÍ ODPAD) | F9: T | G9: 1.238 | H9: 0 | I9: =ROUND(ROUND(H9,2)*ROUND(G9,3),2) -> 0 | O9: =(I9*21)/100 -> 0 | P9: 2
A10: PP
A11: VV | E11: 0,495*2,5=1,238 [A]
A12: TS | E12: zahrnuje veškeré poplatky provozovateli skládky související s uložením odpadu na skládce.
A13: P | B13: 2 | C13: 029113 | E13: OSTATNÍ POŽADAVKY - GEODETICKÉ ZAMĚŘENÍ - CELKY | F13: KUS | G13: 1 | H13: 0 | I13: =ROUND(ROUND(H13,2)*ROUND(G13,3),2) -> 0 | O13: =(I13*21)/100 -> 0 | P13: 2
A14: PP
A15: VV
A16: TS | E16: zahrnuje veškeré náklady spojené s objednatelem požadovanými pracemi
A17: P | B17: 3 | C17: 02944 | E17: OSTAT POŽADAVKY - DOKUMENTACE SKUTEČ PROVEDENÍ V DIGIT FORMĚ | F17: KPL | G17: 1 | H17: 0 | I17: =ROUND(ROUND(H17,2)*ROUND(G17,3),2) -> 0 | O17: =(I17*21)/100 -> 0 | P17: 2
A18: PP
A19: VV
A20: TS | E20: zahrnuje veškeré náklady spojené s objednatelem požadovanými pracemi
A21: P | B21: 4 | C21: 02946 | E21: OSTAT POŽADAVKY - FOTODOKUMENTACE | F21: KPL | G21: 1 | H21: 0 | I21: =ROUND(ROUND(H21,2)*ROUND(G21,3),2) -> 0 | O21: =(I21*21)/100 -> 0 | P21: 2
A22: PP
A23: VV
A24: TS | E24: položka zahrnuje: - fotodokumentaci zadavatelem požadovaného děje a konstrukcí v požadovaných časových intervalech - zadavatelem specifikované výstupy (fotografie v papírovém a digitálním formátu) v požadovaném počtu
A25: P | B25: 5 | C25: 02950 | E25: OSTATNÍ POŽADAVKY - POSUDKY, KONTROLY, REVIZNÍ ZPRÁVY | F25: KPL | G25: 1 | H25: 0 | I25: =ROUND(ROUND(H25,2)*ROUND(G25,3),2) -> 0 | O25: =(I25*21)/100 -> 0 | P25: 2
A26: PP
A27: VV
A28: TS | E28: zahrnuje veškeré náklady spojené s objednatelem požadovanými pracemi
A29: P | B29: 6 | C29: 03100 | E29: ZAŘÍZENÍ STAVENIŠTĚ - ZŘÍZENÍ, PROVOZ, DEMONTÁŽ | F29: KPL | G29: 1 | H29: 0 | I29: =ROUND(ROUND(H29,2)*ROUND(G29,3),2) -> 0 | O29: =(I29*21)/100 -> 0 | P29: 2
A30: PP
A31: VV
A32: TS | E32: zahrnuje objednatelem povolené náklady na pořízení (event. pronájem), provozování, udržování a likvidaci zhotovitelova zařízení
A33: P | B33: 7 | C33: 03350 | E33: SLUŽBY ZAJIŠŤUJÍCÍ REGUL, PŘEVED A OCHRANU VEŘEJ DOPRAVY | F33: KPL | G33: 1 | H33: 0 | I33: =ROUND(ROUND(H33,2)*ROUND(G33,3),2) -> 0 | O33: =(I33*21)/100 -> 0 | P33: 2
A34: PP
A35: VV
A36: TS | E36: zahrnuje objednatelem povolené náklady na služby pro zhotovitele
A37: SD | C37: 1 | E37: Zemní práce | I37: =0+Q37 -> 0 | O37: =0+R37 -> 0 | Q37: =0+I38 -> 0 | R37: =0+O38 -> 0
A38: P | B38: 8 | C38: 113138 | E38: ODSTRANĚNÍ KRYTU ZPEVNĚNÝCH PLOCH S ASFALT POJIVEM, ODVOZ DO 20KM | F38: M3 | G38: 0.495 | H38: 0 | I38: =ROUND(ROUND(H38,2)*ROUND(G38,3),2) -> 0 | O38: =(I38*21)/100 -> 0 | P38: 2
A39: PP
A40: VV | E40: 16,5*0,1*0,3=0,495 [A]
A41: TS | E41: Položka zahrnuje veškerou manipulaci s vybouranou sutí a s vybouranými hmotami vč. uložení na skládku. Nezahrnuje poplatek za skládku, který se vykazuje v položce 0141** (s výjimkou malého množství bouraného materiálu, kde je možné poplatek zahrnout do jednotkové ceny bourání – tento fakt musí být uveden v doplňujícím textu k položce).
A42: SD | C42: 5 | E42: Komunikace | I42: =0+Q42 -> 0 | O42: =0+R42 -> 0 | Q42: =0+I43+I47+I51 -> 0 | R42: =0+O43+O47+O51 -> 0
A43: P | B43: 9 | C43: 572211 | E43: SPOJOVACÍ POSTŘIK Z ASFALTU DO 0,5KG/M2 | F43: M2 | G43: 1171.25 | H43: 0 | I43: =ROUND(ROUND(H43,2)*ROUND(G43,3),2) -> 0 | O43: =(I43*21)/100 -> 0 | P43: 2
A44: PP
A45: VV | E45: 576,85+594,4=1 171,250 [A]
A46: TS | E46: - dodání všech předepsaných materiálů pro postřiky v předepsaném množství - provedení dle předepsaného technologického předpisu - zřízení vrstvy bez rozlišení šířky, pokládání vrstvy po etapách - úpravu napojení, ukončení
A47: P | B47: 10 | C47: 574A34 | E47: ASFALTOVÝ BETON PRO OBRUSNÉ VRSTVY ACO 11+, 11S TL. 40MM | F47: M2 | G47: 576.85 | H47: 0 | I47: =ROUND(ROUND(H47,2)*ROUND(G47,3),2) -> 0 | O47: =(I47*21)/100 -> 0 | P47: 2
A48: PP
A49: VV
A50: TS | E50: - dodání směsi v požadované kvalitě - očištění podkladu - uložení směsi dle předepsaného technologického předpisu, zhutnění vrstvy v předepsané tloušťce - zřízení vrstvy bez rozlišení šířky, pokládání vrstvy po etapách, včetně pracovních spar a spojů - úpravu napojení, ukončení podél obrubníků, dilatačních zařízení, odvodňovacích proužků, odvodňovačů, vpustí, šachet a pod. - nezahrnuje postřiky, nátěry - nezahrnuje těsnění podél obrubníků, dilatačních zařízení, odvodňovacích proužků, odvodňovačů, vpustí, šachet a pod.
A51: P | B51: 11 | C51: 574E46 | E51: ASFALTOVÝ BETON PRO PODKLADNÍ VRSTVY ACP 16+, 16S TL. 50MM | F51: M2 | G51: 594.4 | H51: 0 | I51: =ROUND(ROUND(H51,2)*ROUND(G51,3),2) -> 0 | O51: =(I51*21)/100 -> 0 | P51: 2
A52: PP
A53: VV
A54: TS | E54: - dodání směsi v požadované kvalitě - očištění podkladu - uložení směsi dle předepsaného technologického předpisu, zhutnění vrstvy v předepsané tloušťce - zřízení vrstvy bez rozlišení šířky, pokládání vrstvy po etapách, včetně pracovních spar a spojů - úpravu napojení, ukončení podél obrubníků, dilatačních zařízení, odvodňovacích proužků, odvodňovačů, vpustí, šachet a pod. - nezahrnuje postřiky, nátěry - nezahrnuje těsnění podél obrubníků, dilatačních zařízení, odvodňovacích proužků, odvodňovačů, vpustí, šachet a pod.
A55: SD | C55: 9 | E55: Ostatní konstrukce a práce | I55: =0+Q55 -> 0 | O55: =0+R55 -> 0 | Q55: =0+I56+I60+I64 -> 0 | R55: =0+O56+O60+O64 -> 0
A56: P | B56: 12 | C56: 919112 | E56: ŘEZÁNÍ ASFALTOVÉHO KRYTU VOZOVEK TL DO 100MM | F56: M | G56: 16.5 | H56: 0 | I56: =ROUND(ROUND(H56,2)*ROUND(G56,3),2) -> 0 | O56: =(I56*21)/100 -> 0 | P56: 2
A57: PP
A58: VV
A59: TS | E59: položka zahrnuje řezání vozovkové vrstvy v předepsané tloušťce, včetně spotřeby vody
A60: P | B60: 13 | C60: 931321 | E60: TĚSNĚNÍ DILATAČ SPAR ASF ZÁLIVKOU MODIFIK PRŮŘ DO 100MM2 | F60: M | G60: 16.5 | H60: 0 | I60: =ROUND(ROUND(H60,2)*ROUND(G60,3),2) -> 0 | O60: =(I60*21)/100 -> 0 | P60: 2
A61: PP
A62: VV
A63: TS | E63: položka zahrnuje dodávku a osazení předepsaného materiálu, očištění ploch spáry před úpravou, očištění okolí spáry po úpravě nezahrnuje těsnící profil
A64: P | B64: 14 | C64: 93808 | E64: OČIŠTĚNÍ VOZOVEK ZAMETENÍM | F64: M2 | G64: 594.4 | H64: 0 | I64: =ROUND(ROUND(H64,2)*ROUND(G64,3),2) -> 0 | O64: =(I64*21)/100 -> 0 | P64: 2
A65: PP
A66: VV
A67: TS | E67: položka zahrnuje očištění předepsaným způsobem včetně odklizení vzniklého odpadu

Sheet SO 300.1
A1: ASPE10 | P1: 3
E2: Soupis prací objektu | O2: =0+O8+O13+O38+O55+O60 -> 0 | P2: 3
A3: S | B3: Stavba: | C3: 20112301 | E3: Oprava komunikací Nová Telib | H3: SO 300.1 | I3: =0+I8+I13+I38+I55+I60 -> 0 | O3: 0,00 | P3: 2
A4: O | B4: Rozpočet: | C4: SO 300.1 | E4: Odvodnění na pozemku parc.č. 43/14 do šachty na poz. 459 | O4: 15,00 | P4: 2
A5: Typ | B5: Poř. číslo | C5: Kód položky | D5: Varianta | E5: Název položky | F5: MJ | G5: Množství | H5: Jednotková cena | O5: 21,00 | P5: 2
H6: Jednotková | I6: Celkem
A7: 0 | B7: 1 | C7: 2 | D7: 3 | E7: 4 | F7: 5 | G7: 6 | H7: 9 | I7: 10
A8: SD | C8: 0 | E8: Všeobecné konstrukce a práce | I8: =0+Q8 -> 0 | O8: =0+R8 -> 0 | Q8: =0+I9 -> 0 | R8: =0+O9 -> 0
A9: P | B9: 17 | C9: 014112 | E9: POPLATKY ZA SKLÁDKU TYP S-IO (INERTNÍ ODPAD) | F9: T | G9: 53.44 | H9: 0 | I9: =ROUND(ROUND(H9,2)*ROUND(G9,3),2) -> 0 | O9: =(I9*21)/100 -> 0 | P9: 2
A10: PP
A11: VV | E11: 25,6*1,9=48,640 [A] 1,92*2,5=4,800 [B] Celkem: A+B=53,440 [C]
A12: TS | E12: zahrnuje veškeré poplatky provozovateli skládky související s uložením odpadu na skládce.
A13: SD | C13: 1 | E13: Zemní práce | I13: =0+Q13 -> 0 | O13: =0+R13 -> 0 | Q13: =0+I14+I18+I22+I26+I30+I34 -> 0 | R13: =0+O14+O18+O22+O26+O30+O34 -> 0
A14: P | B14: 3 | C14: 113138 | E14: ODSTRANĚNÍ KRYTU ZPEVNĚNÝCH PLOCH S ASFALT POJIVEM, ODVOZ DO 20KM | F14: M3 | G14: 1.92 | H14: 0 | I14: =ROUND(ROUND(H14,2)*ROUND(G14,3),2) -> 0 | O14: =(I14*21)/100 -> 0 | P14: 2
A15: PP
A16: VV | E16: 16*0,8*0,15=1,920 [A]
A17: TS | E17: Položka zahrnuje veškerou manipulaci s vybouranou sutí a s vybouranými hmotami vč. uložení na skládku. Nezahrnuje poplatek za skládku, který se vykazuje v položce 0141** (s výjimkou malého množství bouraného materiálu, kde je možné poplatek zahrnout do jednotkové ceny bourání – tento fakt musí být uveden v doplňujícím textu k položce).
A18: P | B18: 15 | C18: 132738 | E18: HLOUBENÍ RÝH ŠÍŘ DO 2M PAŽ I NEPAŽ TŘ. I, ODVOZ DO 20KM | F18: M3 | G18: 25.6 | H18: 0 | I18: =ROUND(ROUND(H18,2)*ROUND(G18,3),2) -> 0 | O18: =(I18*21)/100 -> 0 | P18: 2
A19: PP
A20: VV | E20: 16*0,8*2=25,600 [A]
A21: TS | E21: položka zahrnuje: - vodorovná a svislá doprava, přemístění, přeložení, manipulace s výkopkem - kompletní provedení vykopávky nezapažené i zapažené - ošetření výkopiště po celou dobu práce v něm vč. klimatických opatření - ztížení vykopávek v blízkosti podzemního vedení, konstrukcí a objektů vč. jejich dočasného zajištění - ztížení pod vodou, v okolí výbušnin, ve stísněných prostorech a pod. - příplatek za lepivost - těžení po vrstvách, pásech a po jiných nutných částech (figurách) - čerpání vody vč. čerpacích jímek, potrubí a pohotovostní čerpací soupravy (viz ustanovení k pol. 1151,2) - potřebné snížení hladiny podzemní vody - těžení a rozpojování jednotlivých balvanů - vytahování a nošení výkopku - svahování a přesvah. svahů do konečného tvaru, výměna hornin v podloží a v pláni znehodnocené klimatickými vlivy - ruční vykopávky, odstranění kořenů a napadávek - pažení, vzepření a rozepření vč. přepažování (vyjma štětových stěn) - úpravu, ochranu a očištění dna, základové spáry, stěn a svahů - odvedení nebo obvedení vody v okolí výkopiště a ve výkopišti - třídění výkopku - veškeré pomocné konstrukce umožňující provedení vykopávky (příjezdy, sjezdy, nájezdy, lešení, podpěr. konstr., přemostění, zpevněné plochy, zakrytí a pod.) - nezahrnuje uložení zeminy (na skládku, do násypu) ani poplatky za skládku, vykazují se v položce č.0141**
A22: P | B22: 16 | C22: 17481 | E22: ZÁSYP JAM A RÝH Z NAKUPOVANÝCH MATERIÁLŮ | F22: M3 | G22: 17.92 | H22: 0 | I22: =ROUND(ROUND(H22,2)*ROUND(G22,3),2) -> 0 | O22: =(I22*21)/100 -> 0 | P22: 2
A23: PP
A24: VV | E24: 25,6-5,76-1,92=17,920 [A]
A25: TS | E25: položka zahrnuje: - kompletní provedení zemní konstrukce včetně nákupu a dopravy materiálu dle zadávací dokumentace - úprava ukládaného materiálu vlhčením, tříděním, promícháním nebo vysoušením, příp. jiné úpravy za účelem zlepšení jeho mech. vlastností - hutnění i různé míry hutnění - ošetření úložiště po celou dobu práce v něm vč. klimatických opatření - ztížení v okolí vedení, konstrukcí a objektů a jejich dočasné zajištění - ztížení provádění vč. hutnění ve ztížených podmínkách a stísněných prostorech - ztížené ukládání sypaniny pod vodu - ukládání po vrstvách a po jiných nutných částech (figurách) vč. dosypávek - spouštění a nošení materiálu - výměna částí zemní konstrukce znehodnocené klimatickými vlivy - udržování úložiště a jeho ochrana proti vodě - odvedení nebo obvedení vody v okolí úložiště a v úložišti - veškeré pomocné konstrukce umožňující provedení zemní konstrukce (příjezdy, sjezdy, nájezdy, lešení, podpěrné konstrukce, přemostění, zpevněné plochy, zakrytí a pod.)
A26: P | B26: 13 | C26: 17581 | E26: OBSYP POTRUBÍ A OBJEKTŮ Z NAKUPOVANÝCH MATERIÁLŮ | F26: M3 | G26: 5.76 | H26: 0 | I26: =ROUND(ROUND(H26,2)*ROUND(G26,3),2) -> 0 | O26: =(I26*21)/100 -> 0 | P26: 2
A27: PP
A28: VV | E28: 16*0,8*0,45=5,760 [A]
A29: TS | E29: položka zahrnuje: - kompletní provedení zemní konstrukce včetně nákupu a dopravy materiálu dle zadávací dokumentace - úprava ukládaného materiálu vlhčením, tříděním, promícháním nebo vysoušením, příp. jiné úpravy za účelem zlepšení jeho mech. vlastností - hutnění i různé míry hutnění - ošetření úložiště po celou dobu práce v něm vč. klimatických opatření - ztížení v okolí vedení, konstrukcí a objektů a jejich dočasné zajištění - ztížení provádění vč. hutnění ve ztížených podmínkách a stísněných prostorech - ztížené ukládání sypaniny pod vodu - ukládání po vrstvách a po jiných nutných částech (figurách) vč. dosypávek - spouštění a nošení materiálu - výměna částí zemní konstrukce znehodnocené klimatickými vlivy - ruční hutnění a výplň jam a prohlubní v podloží - úprava, očištění, ochrana a zhutnění podloží - svahování, hutnění a uzavírání povrchů svahů - zřízení lavic na svazích - udržování úložiště a jeho ochrana proti vodě - odvedení nebo obvedení vody v okolí úložiště a v úložišti - veškeré pomocné konstrukce umožňující provedení zemní konstrukce (příjezdy, sjezdy, nájezdy, lešení, podpěrné konstrukce, přemostění, zpevněné plochy, zakrytí a pod.) - zemina vytlačená potrubím o DN do 180mm se od kubatury obsypů neodečítá
A30: P | B30: 19 | C30: 18231 | E30: ROZPROSTŘENÍ ORNICE V ROVINĚ V TL DO 0,10M | F30: M2 | G30: 6.4 | H30: 0 | I30: =ROUND(ROUND(H30,2)*ROUND(G30,3),2) -> 0 | O30: =(I30*21)/100 -> 0 | P30: 2
A31: PP | E31: Zemina ze stavby, uvedení ploch do původního stavu
A32: VV | E32: 8*0,8=6,400 [A]
A33: TS | E33: položka zahrnuje: nutné přemístění ornice z dočasných skládek vzdálených do 50m rozprostření ornice v předepsané tloušťce v rovině a ve svahu do 1:5
A34: P | B34: 20 | C34: 18241 | E34: ZALOŽENÍ TRÁVNÍKU RUČNÍM VÝSEVEM | F34: M2 | G34: 6.4 | H34: 0 | I34: =ROUND(ROUND(H34,2)*ROUND(G34,3),2) -> 0 | O34: =(I34*21)/100 -> 0 | P34: 2
A35: PP
A36: VV | E36: 8*0,8=6,400 [A]
A37: TS | E37: Zahrnuje dodání předepsané travní směsi, její výsev na ornici, zalévání, první pokosení, to vše bez ohledu na sklon terénu
A38: SD | C38: 5 | E38: Komunikace | I38: =0+Q38 -> 0 | O38: =0+R38 -> 0 | Q38: =0+I39+I43+I47+I51 -> 0 | R38: =0+O39+O43+O47+O51 -> 0
A39: P | B39: 18 | C39: 56330 | E39: VOZOVKOVÉ VRSTVY ZE ŠTĚRKODRTI | F39: M3 | G39: 1.92 | H39: 0 | I39: =ROUND(ROUND(H39,2)*ROUND(G39,3),2) -> 0 | O39: =(I39*21)/100 -> 0 | P39: 2
A40: PP
A41: VV | E41: 8*0,8*0,3=1,920 [A]
A42: TS | E42: - dodání kameniva předepsané kvality a zrnitosti - rozprostření a zhutnění vrstvy v předepsané tloušťce - zřízení vrstvy bez rozlišení šířky, pokládání vrstvy po etapách - nezahrnuje postřiky, nátěry
A43: P | B43: 4 | C43: 572211 | E43: SPOJOVACÍ POSTŘIK Z ASFALTU DO 0,5KG/M2 | F43: M2 | G43: 25.6 | H43: 0 | I43: =ROUND(ROUND(H43,2)*ROUND(G43,3),2) -> 0 | O43: =(I43*21)/100 -> 0 | P43: 2
A44: PP
A45: VV | E45: 16*0,8*2=25,600 [A]
A46: TS | E46: - dodání všech předepsaných materiálů pro postřiky v předepsaném množství - provedení dle předepsaného technologického předpisu - zřízení vrstvy bez rozlišení šířky, pokládání vrstvy po etapách - úpravu napojení, ukončení
A47: P | B47: 10 | C47: 5774AE | E47: VRSTVY PRO OBNOVU A OPRAVY Z ASF BETONU ACO 11+, 11S | F47: M3 | G47: 0.512 | H47: 0 | I47: =ROUND(ROUND(H47,2)*ROUND(G47,3),2) -> 0 | O47: =(I47*21)/100 -> 0 | P47: 2
A48: PP
A49: VV | E49: 16*0,8*0,04=0,512 [A]
A50: TS | E50: - dodání směsi v požadované kvalitě - očištění podkladu - uložení směsi dle předepsaného technologického předpisu, zhutnění vrstvy v předepsané tloušťce - zřízení vrstvy bez rozlišení šířky, pokládání vrstvy po etapách, včetně pracovních spar a spojů - úpravu napojení, ukončení podél obrubníků, dilatačních zařízení, odvodňovacích proužků, odvodňovačů, vpustí, šachet a pod. - nezahrnuje postřiky, nátěry - nezahrnuje těsnění podél obrubníků, dilatačních zařízení, odvodňovacích proužků, odvodňovačů, vpustí, šachet a pod.
A51: P | B51: 11 | C51: 5774EG | E51: VRSTVY PRO OBNOVU A OPRAVY Z ASF BETONU ACP 16+, 16S | F51: M2 | G51: 0.64 | H51: 0 | I51: =ROUND(ROUND(H51,2)*ROUND(G51,3),2) -> 0 | O51: =(I51*21)/100 -> 0 | P51: 2
A52: PP
A53: VV | E53: 16*0,8*0,05=0,64 [A]
A54: TS | E54: - dodání směsi v požadované kvalitě - očištění podkladu - uložení směsi dle předepsaného technologického předpisu, zhutnění vrstvy v předepsané tloušťce - zřízení vrstvy bez rozlišení šířky, pokládání vrstvy po etapách, včetně pracovních spar a spojů - úpravu napojení, ukončení podél obrubníků, dilatačních zařízení, odvodňovacích proužků, odvodňovačů, vpustí, šachet a pod. - nezahrnuje postřiky, nátěry - nezahrnuje těsnění podél obrubníků, dilatačních zařízení, odvodňovacích proužků, odvodňovačů, vpustí, šachet a pod.
A55: SD | C55: 8 | E55: Potrubí | I55: =0+Q55 -> 0 | O55: =0+R55 -> 0 | Q55: =0+I56 -> 0 | R55: =0+O56 -> 0
A56: P | B56: 14 | C56: 87434 | E56: POTRUBÍ Z TRUB PLASTOVÝCH ODPADNÍCH DN DO 200MM | F56: M | G56: 16 | H56: 0 | I56: =ROUND(ROUND(H56,2)*ROUND(G56,3),2) -> 0 | O56: =(I56*21)/100 -> 0 | P56: 2
A57: PP
A58: VV
A59: TS | E59: položky pro zhotovení potrubí platí bez ohledu na sklon zahrnuje: - výrobní dokumentaci (včetně technologického předpisu) - dodání veškerého trubního a pomocného materiálu (trouby, trubky, tvarovky, spojovací a těsnící materiál a pod.), podpěrných, závěsných a upevňovacích prvků, včetně potřebných úprav - úprava a příprava podkladu a podpěr, očištění a ošetření podkladu a podpěr - zřízení plně funkčního potrubí, kompletní soustavy, podle příslušného technologického předpisu - zřízení potrubí i jednotlivých částí po etapách, včetně pracovních spar a spojů, pracovního zaslepení konců a pod. - úprava prostupů, průchodů šachtami a komorami, okolí podpěr a vyústění, zaústění, napojení, vyvedení a upevnění odpad. výustí - ochrana potrubí nátěrem (vč. úpravy povrchu), případně izolací, nejsou-li tyto práce předmětem jiné položky - úprava, očištění a ošetření prostoru kolem potrubí - položky platí pro práce prováděné v prostoru zapaženém i nezapaženém a i v kolektorech, chráničkách - položky zahrnují i práce spojené s nutnými obtoky, převáděním a čerpáním vody nezahrnuje zkoušky vodotěsnosti a televizní prohlídku
A60: SD | C60: 9 | E60: Ostatní konstrukce a práce | I60: =0+Q60 -> 0 | O60: =0+R60 -> 0 | Q60: =0+I61+I65+I69+I73 -> 0 | R60: =0+O61+O65+O69+O73 -> 0
A61: P | B61: 1 | C61: 919112 | E61: ŘEZÁNÍ ASFALTOVÉHO KRYTU VOZOVEK TL DO 100MM | F61: M | G61: 17 | H61: 0 | I61: =ROUND(ROUND(H61,2)*ROUND(G61,3),2) -> 0 | O61: =(I61*21)/100 -> 0 | P61: 2
A62: PP
A63: VV
A64: TS | E64: položka zahrnuje řezání vozovkové vrstvy v předepsané tloušťce, včetně spotřeby vody
A65: P | B65: 2 | C65: 931321 | E65: TĚSNĚNÍ DILATAČ SPAR ASF ZÁLIVKOU MODIFIK PRŮŘ DO 100MM2 | F65: M | G65: 17 | H65: 0 | I65: =ROUND(ROUND(H65,2)*ROUND(G65,3),2) -> 0 | O65: =(I65*21)/100 -> 0 | P65: 2
A66: PP
A67: VV
A68: TS | E68: položka zahrnuje dodávku a osazení předepsaného materiálu, očištění ploch spáry před úpravou, očištění okolí spáry po úpravě nezahrnuje těsnící profil
A69: P | B69: 12 | C69: 93808 | E69: OČIŠTĚNÍ VOZOVEK ZAMETENÍM | F69: M2 | G69: 36 | H69: 0 | I69: =ROUND(ROUND(H69,2)*ROUND(G69,3),2) -> 0 | O69: =(I69*21)/100 -> 0 | P69: 2
A70: PP
A71: VV | E71: 18*2=36,000 [A]
A72: TS | E72: položka zahrnuje očištění předepsaným způsobem včetně odklizení vzniklého odpadu
A73: P | B73: 21 | C73: 967118R | E73: VYBOURÁNÍ ČÁSTÍ KONSTRUKCÍ Z BETON DÍLCŮ S ODVOZEM DO 20KM | F73: KUS | G73: 1 | H73: 0 | I73: =ROUND(ROUND(H73,2)*ROUND(G73,3),2) -> 0 | O73: =(I73*21)/100 -> 0 | P73: 2
A74: PP | E74: Otvor v kanalizační šachtě pro napojení potrubí DN 200 včetně utěsnění prostupu
A75: VV | E75: 1=1,000 [A]
A76: TS | E76: položka zahrnuje: - veškerou manipulaci s vybouranou sutí a hmotami včetně uložení na skládku, - veškeré další práce plynoucí z technologického předpisu a z platných předpisů, nezahrnuje poplatek za skládku, který se vykazuje v položce 0141** (s výjimkou malého množství bouraného materiálu, kde je možné poplatek zahrnout do jednotkové ceny bourání – tento fakt musí být uveden v doplňujícím textu k položce)
