Workbook

Sheet Rekapitulace stavby
A1: Export VZ | D1: List obsahuje: | K1: 1) Rekapitulace stavby | W1: 2) Rekapitulace objektů stavby a soupisů prací | BA1: 3.0 | BB1: ZAMOK | BT1: False | BU1: False | BV1: {b741d47d-530d-4b88-b88f-2285138d1c5a}
BS2: 0,01 | BT2: 21
BS3: 0,01 | BT3: 15
D4: REKAPITULACE STAVBY | AS4: v --- níže se nacházejí doplnkové a pomocné údaje k sestavám --- v | BE4: Návod na vyplnění | BS4: 0,001
D5: Kód: | K5: 2018-068 | BE5: Měnit lze pouze buňky se žlutým podbarvením!_x000D_ _x000D_ 1) v Rekapitulaci stavby vyplňte údaje o Uchazeči (přenesou se do ostatních sestav i v jiných listech)_x000D_ _x000D_ 2) na vybraných listech vyplňte v sestavě Soupis prací ceny u položek_x000D_ _x000D_ Podrobnosti k vyplnění naleznete na poslední záložce s Pokyny pro vyplnění | BS5: 0,01
D6: Stavba: | K6: Místní komunikace na p.č. 46/30, 13, 12, 9, Nová Telib | BS6: 0,01
D7: KSO: | AK7: CC-CZ: | BS7: 0,01
D8: Místo: | K8: Nová Telib | AK8: Datum: | AN8: 26. 11. 2018 | BS8: 0,01
BS9: 0,01
D10: Zadavatel: | AK10: IČ: | BS10: 0,01
E11: Obec Nová Telib | AK11: DIČ: | BS11: 0,01
BS12: 0,01
D13: Uchazeč: | AK13: IČ: | AN13: Vyplň údaj | BS13: 0,01
E14: Vyplň údaj | AK14: DIČ: | AN14: Vyplň údaj | BS14: 0,01
BS15: False
D16: Projektant: | AK16: IČ: | AN16: 27086135 | BS16: False
E17: CR Project s.r.o. | AK17: DIČ: | AN17: CZ27086135 | BS17: True
BS18: 0,01
D19: Poznámka: | BS19: 0,01
E20: Soupis prací je sestaven s využitím položek Cenové soustavy ÚRS. Cenové a technické podmínky položek Cenové soustavy ÚRS, které nejsou uvedeny v soupisu prací (informace z tzv. úvodních částí katalogů) jsou neomezeně dálkově k dispozici na www.cs-urs.cz. Položky soupisu prací, které nemají ve sloupci „Cenová soustava“ uveden žádný údaj, nepochází z Cenové soustavy ÚRS._x000D_ .........................._x000D_ Soupis výkonů je zpracován s výhradou, jako nezávazný, dle §2622 zák. č. 89/2012 Sb. NOZ._x000D_ .........................._x000D_ Rozpočet (soupis prací) je vypracován na základě projektové dokumentace - jedná se o odhad nákladů._x000D_ Veškeré položky rozpočtu (soupisu prací) je bezpodmínečně nutné provádět (případně oceňovat) dle projektové dokumentace, která je jednoznačně nadřazená tomuto rozpočtu (soupisu prací)._x000D_ Tato nadřazená projektová dokumentace určuje, doplňuje, případně dopřesňuje obsah jednotlivých položek tohoto rozpočtu (výkazu výměr), případně může tento rozpočet (výkaz výměr) rozšířit o další položky._x000D_ .........................._x000D_ Pokud je v soupisu prací definován konkrétní výrobek, je tím definován minimální požadovaný standard, uchazeč může ve své nabídce tento výrobek nahradit výrobkem se srovnatelnými nebo lepšími parametry. Parametry pro srovnání se rozumí zejména parametry výkonnostní, funkční a parametry životnosti._x000D_ .........................._x000D_ Vzhledem k charakteru stavby a to liniová, byly všechny plošné výměry ve výkazu výměr odečteny ze situace ve formátu dwg. | BS20: True
D23: Cena bez DPH | AK23: =ROUND(AG51,2) -> 0
L25: Sazba daně | W25: Základ daně | AK25: Výše daně
D26: DPH | F26: základní | L26: 0.21 | W26: =ROUND(AZ51,2) -> 0 | AK26: =ROUND(AV51,2) -> 0
F27: snížená | L27: 0.15 | W27: =ROUND(BA51,2) -> 0 | AK27: =ROUND(AW51,2) -> 0
F28: zákl. přenesená | L28: 0.21 | W28: =ROUND(BB51,2) -> 0 | AK28: 0
F29: sníž. přenesená | L29: 0.15 | W29: =ROUND(BC51,2) -> 0 | AK29: 0
F30: nulová | L30: 0 | W30: =ROUND(BD51,2) -> 0 | AK30: 0
D32: Cena s DPH | T32: v | X32: CZK | AK32: =SUM(AK23:AK30) -> 0
C39: REKAPITULACE OBJEKTŮ STAVBY A SOUPISŮ PRACÍ
C41: Kód: | L41: =K5 -> 2018-068
C42: Stavba: | L42: =K6 -> Místní komunikace na p.č. 46/30, 13, 12, 9, Nová Telib
C44: Místo: | L44: =IF(K8="","",K8) -> Nová Telib | AI44: Datum: | AM44: =IF(AN8= "","",AN8) -> 26. 11. 2018
C46: Zadavatel: | L46: =IF(E11= "","",E11) -> Obec Nová Telib | AI46: Projektant: | AM46: =IF(E17="","",E17) -> CR Project s.r.o. | AS46: Informatívní údaje z listů zakázek
C47: Uchazeč: | L47: =IF(E14= "Vyplň údaj","",E14)
C49: Kód | I49: Objekt, Soupis prací | AG49: Cena bez DPH [CZK] | AN49: Cena s DPH [CZK] | AQ49: Typ | AS49: z toho Ostat._x000D_ náklady [CZK] | AT49: DPH [CZK] | AU49: Normohodiny [h] | AV49: DPH základní [CZK] | AW49: DPH snížená [CZK] | AX49: DPH základní přenesená_x000D_ [CZK] | AY49: DPH snížená přenesená_x000D_ [CZK] | AZ49: Základna_x000D_ DPH základní | BA49: Základna_x000D_ DPH snížená | BB49: Základna_x000D_ DPH zákl. přenesená | BC49: Základna_x000D_ DPH sníž. přenesená | BD49: Základna_x000D_ DPH nulová
C51: Náklady stavby celkem | AG51: =ROUND(SUM(AG52:AG53),2) -> 0 | AN51: =SUM(AG51,AT51) -> 0 | AS51: =ROUND(SUM(AS52:AS53),2) -> 0 | AT51: =ROUND(SUM(AV51:AW51),2) -> 0 | AU51: =ROUND(SUM(AU52:AU53),5) -> 0 | AV51: =ROUND(AZ51*L26,2) -> 0 | AW51: =ROUND(BA51*L27,2) -> 0 | AX51: =ROUND(BB51*L26,2) -> 0 | AY51: =ROUND(BC51*L27,2) -> 0 | AZ51: =ROUND(SUM(AZ52:AZ53),2) -> 0 | BA51: =ROUND(SUM(BA52:BA53),2) -> 0 | BB51: =ROUND(SUM(BB52:BB53),2) -> 0 | BC51: =ROUND(SUM(BC52:BC53),2) -> 0 | BD51: =ROUND(SUM(BD52:BD53),2) -> 0 | BS51: D | BT51: 0 | BU51: ###NOIMPORT### | BV51: IMPORT | BW51: {b741d47d-530d-4b88-b88f-2285138d1c5a} | BX51: {00000000-0000-0000-0000-000000000000}
A52: / | D52: SO.101 | J52: SO.101 - Komunikace a zpevněné plochy | AG52: ='SO.101 - SO.101 - Komunik...'!J27 -> 0 | AN52: =SUM(AG52,AT52) -> 0 | AQ52: ING | AS52: 0 | AT52: =ROUND(SUM(AV52:AW52),2) -> 0 | AU52: ='SO.101 - SO.101 - Komunik...'!P100 -> 0 | AV52: ='SO.101 - SO.101 - Komunik...'!J30 -> 0 | AW52: ='SO.101 - SO.101 - Komunik...'!J31 -> 0 | AX52: ='SO.101 - SO.101 - Komunik...'!J32 -> 0 | AY52: ='SO.101 - SO.101 - Komunik...'!J33 -> 0 | AZ52: ='SO.101 - SO.101 - Komunik...'!F30 -> 0 | BA52: ='SO.101 - SO.101 - Komunik...'!F31 -> 0 | BB52: ='SO.101 - SO.101 - Komunik...'!F32 -> 0 | BC52: ='SO.101 - SO.101 - Komunik...'!F33 -> 0 | BD52: ='SO.101 - SO.101 - Komunik...'!F34 -> 0 | BT52: 1 | BV52: IMPORT | BW52: {b2f62d41-f323-43ed-9f9c-f169825a7ccf} | BX52: {b741d47d-530d-4b88-b88f-2285138d1c5a} | CM52: 2
A53: / | D53: VoN | J53: Vedlejší a ostatní náklady | AG53: ='VoN - Vedlejší a ostatní ...'!J27 -> 0 | AN53: =SUM(AG53,AT53) -> 0 | AQ53: VON | AS53: 0 | AT53: =ROUND(SUM(AV53:AW53),2) -> 0 | AU53: ='VoN - Vedlejší a ostatní ...'!P79 -> 0 | AV53: ='VoN - Vedlejší a ostatní ...'!J30 -> 0 | AW53: ='VoN - Vedlejší a ostatní ...'!J31 -> 0 | AX53: ='VoN - Vedlejší a ostatní ...'!J32 -> 0 | AY53: ='VoN - Vedlejší a ostatní ...'!J33 -> 0 | AZ53: ='VoN - Vedlejší a ostatní ...'!F30 -> 0 | BA53: ='VoN - Vedlejší a ostatní ...'!F31 -> 0 | BB53: ='VoN - Vedlejší a ostatní ...'!F32 -> 0 | BC53: ='VoN - Vedlejší a ostatní ...'!F33 -> 0 | BD53: ='VoN - Vedlejší a ostatní ...'!F34 -> 0 | BT53: 1 | BV53: IMPORT | BW53: {dda0e674-364a-4568-80a1-0f37c9b6289b} | BX53: {b741d47d-530d-4b88-b88f-2285138d1c5a} | CM53: 2

Sheet SO.101 - SO.101 - Komunik...
D1: List obsahuje: | F1: 1) Krycí list soupisu | G1: 2) Rekapitulace | J1: 3) Soupis prací | K1: Zpět na list: | L1: Rekapitulace stavby
AT2: {b2f62d41-f323-43ed-9f9c-f169825a7ccf}
AT3: 2
D4: KRYCÍ LIST SOUPISU | M4: v --- níže se nacházejí doplnkové a pomocné údaje k sestavám --- v | AT4: False
D6: Stavba:
E7: ='Rekapitulace stavby'!K6 -> Místní komunikace na p.č. 46/30, 13, 12, 9, Nová Telib
D8: Objekt:
E9: SO.101 - SO.101 - Komunikace a zpevněné plochy
D11: KSO: | I11: CC-CZ:
D12: Místo: | F12: Nová Telib | I12: Datum: | J12: ='Rekapitulace stavby'!AN8 -> 26. 11. 2018
D14: Zadavatel: | I14: IČ:
E15: Obec Nová Telib | I15: DIČ:
D17: Uchazeč: | I17: IČ: | J17: =IF('Rekapitulace stavby'!AN13="Vyplň údaj","",IF('Rekapitulace stavby'!AN13="","",'Rekapitulace stavby'!AN13))
E18: =IF('Rekapitulace stavby'!E14="Vyplň údaj","",IF('Rekapitulace stavby'!E14="","",'Rekapitulace stavby'!E14)) | I18: DIČ: | J18: =IF('Rekapitulace stavby'!AN14="Vyplň údaj","",IF('Rekapitulace stavby'!AN14="","",'Rekapitulace stavby'!AN14))
D20: Projektant: | I20: IČ: | J20: 27086135
E21: CR Project s.r.o. | I21: DIČ: | J21: CZ27086135
D23: Poznámka:
E24: Soupis prací je sestaven s využitím položek Cenové soustavy ÚRS. Cenové a technické podmínky položek Cenové soustavy ÚRS, které nejsou uvedeny v soupisu prací (informace z tzv. úvodních částí katalogů) jsou neomezeně dálkově k dispozici na www.cs-urs.cz. Položky soupisu prací, které nemají ve sloupci „Cenová soustava“ uveden žádný údaj, nepochází z Cenové soustavy ÚRS. .......................... Soupis výkonů je zpracován s výhradou, jako nezávazný, dle §2622 zák. č. 89/2012 Sb. NOZ. .......................... Rozpočet (soupis prací) je vypracován na základě projektové dokumentace - jedná se o odhad nákladů. Veškeré položky rozpočtu (soupisu prací) je bezpodmínečně nutné provádět (případně oceňovat) dle projektové dokumentace, která je jednoznačně nadřazená tomuto rozpočtu (soupisu prací). Tato nadřazená projektová dokumentace určuje, doplňuje, případně dopřesňuje obsah jednotlivých položek tohoto rozpočtu (výkazu výměr), případně může tento rozpočet (výkaz výměr) rozšířit o další položky. .......................... Pokud je v soupisu prací definován konkrétní výrobek, je tím definován minimální požadovaný standard, uchazeč může ve své nabídce tento výrobek nahradit výrobkem se srovnatelnými nebo lepšími parametry. Parametry pro srovnání se rozumí zejména parametry výkonnostní, funkční a parametry životnosti. .......................... Vzhledem k charakteru stavby a to liniová, byly všechny plošné výměry ve výkazu výměr odečteny ze situace ve formátu dwg.
D27: Cena bez DPH | J27: =ROUND(J100,2) -> 0
F29: Základ daně | I29: Sazba daně | J29: Výše daně
D30: DPH | E30: základní | F30: =ROUND(SUM(BE100:BE301), 2) -> 0 | I30: 0.21 | J30: =ROUND(ROUND((SUM(BE100:BE301)), 2)*I30, 2) -> 0
E31: snížená | F31: =ROUND(SUM(BF100:BF301), 2) -> 0 | I31: 0.15 | J31: =ROUND(ROUND((SUM(BF100:BF301)), 2)*I31, 2) -> 0
E32: zákl. přenesená | F32: =ROUND(SUM(BG100:BG301), 2) -> 0 | I32: 0.21 | J32: 0
E33: sníž. přenesená | F33: =ROUND(SUM(BH100:BH301), 2) -> 0 | I33: 0.15 | J33: 0
E34: nulová | F34: =ROUND(SUM(BI100:BI301), 2) -> 0 | I34: 0 | J34: 0
D36: Cena s DPH | G36: v | H36: CZK | J36: =SUM(J27:J34) -> 0
C42: REKAPITULACE ČLENĚNÍ SOUPISU PRACÍ
C44: Stavba:
E45: =E7 -> Místní komunikace na p.č. 46/30, 13, 12, 9, Nová Telib
C46: Objekt:
E47: =E9 -> SO.101 - SO.101 - Komunikace a zpevněné plochy
C49: Místo: | F49: =F12 -> Nová Telib | I49: Datum: | J49: =IF(J12="","",J12) -> 26. 11. 2018
C51: Zadavatel: | F51: =E15 -> Obec Nová Telib | I51: Projektant: | J51: =E21 -> CR Project s.r.o.
C52: Uchazeč: | F52: =IF(E18="","",E18)
C54: Kód dílu - Popis | J54: Cena celkem [CZK]
C56: Náklady soupisu celkem | J56: =J100 -> 0 | AU56: -1
D57: HSV - Práce a dodávky HSV | J57: =J101 -> 0
D58: 1 - Zemní práce | J58: =J102 -> 0
D59: R10 - Společné zemní práce | J59: =J103 -> 0
D60: R11 - Zemní práce pro komunikace | J60: =J120 -> 0
...

Sheet VoN - Vedlejší a ostatní ...
D1: List obsahuje: | F1: 1) Krycí list soupisu | G1: 2) Rekapitulace | J1: 3) Soupis prací | K1: Zpět na list: | L1: Rekapitulace stavby
AT2: {dda0e674-364a-4568-80a1-0f37c9b6289b}
AT3: 2
D4: KRYCÍ LIST SOUPISU | M4: v --- níže se nacházejí doplnkové a pomocné údaje k sestavám --- v | AT4: False
D6: Stavba:
E7: ='Rekapitulace stavby'!K6 -> Místní komunikace na p.č. 46/30, 13, 12, 9, Nová Telib
D8: Objekt:
E9: VoN - Vedlejší a ostatní náklady
D11: KSO: | I11: CC-CZ:
D12: Místo: | F12: Nová Telib | I12: Datum: | J12: ='Rekapitulace stavby'!AN8 -> 26. 11. 2018
D14: Zadavatel: | I14: IČ:
E15: Obec Nová Telib | I15: DIČ:
D17: Uchazeč: | I17: IČ: | J17: =IF('Rekapitulace stavby'!AN13="Vyplň údaj","",IF('Rekapitulace stavby'!AN13="","",'Rekapitulace stavby'!AN13))
E18: =IF('Rekapitulace stavby'!E14="Vyplň údaj","",IF('Rekapitulace stavby'!E14="","",'Rekapitulace stavby'!E14)) | I18: DIČ: | J18: =IF('Rekapitulace stavby'!AN14="Vyplň údaj","",IF('Rekapitulace stavby'!AN14="","",'Rekapitulace stavby'!AN14))
D20: Projektant: | I20: IČ: | J20: 27086135
E21: CR Project s.r.o. | I21: DIČ: | J21: CZ27086135
D23: Poznámka:
E24: Soupis prací je sestaven s využitím položek Cenové soustavy ÚRS. Cenové a technické podmínky položek Cenové soustavy ÚRS, které nejsou uvedeny v soupisu prací (informace z tzv. úvodních částí katalogů) jsou neomezeně dálkově k dispozici na www.cs-urs.cz. Položky soupisu prací, které nemají ve sloupci „Cenová soustava“ uveden žádný údaj, nepochází z Cenové soustavy ÚRS. .......................... Soupis výkonů je zpracován s výhradou, jako nezávazný, dle §2622 zák. č. 89/2012 Sb. NOZ. .......................... Rozpočet (soupis prací) je vypracován na základě projektové dokumentace - jedná se o odhad nákladů. Veškeré položky rozpočtu (soupisu prací) je bezpodmínečně nutné provádět (případně oceňovat) dle projektové dokumentace, která je jednoznačně nadřazená tomuto rozpočtu (soupisu prací). Tato nadřazená projektová dokumentace určuje, doplňuje, případně dopřesňuje obsah jednotlivých položek tohoto rozpočtu (výkazu výměr), případně může tento rozpočet (výkaz výměr) rozšířit o další položky. .......................... Pokud je v soupisu prací definován konkrétní výrobek, je tím definován minimální požadovaný standard, uchazeč může ve své nabídce tento výrobek nahradit výrobkem se srovnatelnými nebo lepšími parametry. Parametry pro srovnání se rozumí zejména parametry výkonnostní, funkční a parametry životnosti. .......................... Vzhledem k charakteru stavby a to liniová, byly všechny plošné výměry ve výkazu výměr odečteny ze situace ve formátu dwg.
D27: Cena bez DPH | J27: =ROUND(J79,2) -> 0
F29: Základ daně | I29: Sazba daně | J29: Výše daně
D30: DPH | E30: základní | F30: =ROUND(SUM(BE79:BE102), 2) -> 0 | I30: 0.21 | J30: =ROUND(ROUND((SUM(BE79:BE102)), 2)*I30, 2) -> 0
E31: snížená | F31: =ROUND(SUM(BF79:BF102), 2) -> 0 | I31: 0.15 | J31: =ROUND(ROUND((SUM(BF79:BF102)), 2)*I31, 2) -> 0
E32: zákl. přenesená | F32: =ROUND(SUM(BG79:BG102), 2) -> 0 | I32: 0.21 | J32: 0
E33: sníž. přenesená | F33: =ROUND(SUM(BH79:BH102), 2) -> 0 | I33: 0.15 | J33: 0
E34: nulová | F34: =ROUND(SUM(BI79:BI102), 2) -> 0 | I34: 0 | J34: 0
D36: Cena s DPH | G36: v | H36: CZK | J36: =SUM(J27:J34) -> 0
C42: REKAPITULACE ČLENĚNÍ SOUPISU PRACÍ
C44: Stavba:
E45: =E7 -> Místní komunikace na p.č. 46/30, 13, 12, 9, Nová Telib
C46: Objekt:
E47: =E9 -> VoN - Vedlejší a ostatní náklady
C49: Místo: | F49: =F12 -> Nová Telib | I49: Datum: | J49: =IF(J12="","",J12) -> 26. 11. 2018
C51: Zadavatel: | F51: =E15 -> Obec Nová Telib | I51: Projektant: | J51: =E21 -> CR Project s.r.o.
C52: Uchazeč: | F52: =IF(E18="","",E18)
C54: Kód dílu - Popis | J54: Cena celkem [CZK]
C56: Náklady soupisu celkem | J56: =J79 -> 0 | AU56: -1
D57: OST - Vedlejší a ostaní náklady | J57: =J80 -> 0
D58: O02 - Vedlejší náklady | J58: =J81 -> 0
D59: O03 - Ostatní náklady | J59: =J98 -> 0
C66: SOUPIS PRACÍ
...

Sheet Pokyny pro vyplnění
C3: Struktura údajů, formát souboru a metodika pro zpracování
C4: Struktura
C6: Soubor je složen ze záložky Rekapitulace stavby a záložek s názvem soupisu prací pro jednotlivé objekty ve formátu XLSX. Každá ze záložek přitom obsahuje
C7: ještě samostatné sestavy vymezené orámovaním a nadpisem sestavy.
C9: Rekapitulace stavby obsahuje sestavu Rekapitulace stavby a Rekapitulace objektů stavby a soupisů prací.
D10: V sestavě Rekapitulace stavby jsou uvedeny informace identifikující předmět veřejné zakázky na stavební práce, KSO, CC-CZ, CZ-CPV, CZ-CPA a rekapitulaci
D11: celkové nabídkové ceny uchazeče.
D13: V sestavě Rekapitulace objektů stavby a soupisů prací je uvedena rekapitulace stavebních objektů, inženýrských objektů, provozních souborů,
D14: vedlejších a ostatních nákladů a ostatních nákladů s rekapitulací nabídkové ceny za jednotlivé soupisy prací. Na základě údaje Typ je možné
D15: identifikovat, zda se jedná o objekt nebo soupis prací pro daný objekt:
E16: STA | F16: Stavební objekt pozemní
E17: ING | F17: Stavební objekt inženýrský
E18: PRO | F18: Provozní soubor
E19: VON | F19: Vedlejší a ostatní náklady
E20: OST | F20: Ostatní
E21: Soupis | F21: Soupis prací pro daný typ objektu
C23: Soupis prací pro jednotlivé objekty obsahuje sestavy Krycí list soupisu, Rekapitulace členění soupisu prací, Soupis prací. Za soupis prací může být považován
C24: i objekt stavby v případě, že neobsahuje podřízenou zakázku.
D25: Krycí list soupisu obsahuje rekapitulaci informací o předmětu veřejné zakázky ze sestavy Rekapitulace stavby, informaci o zařazení objektu do KSO,
D26: CC-CZ, CZ-CPV, CZ-CPA a rekapitulaci celkové nabídkové ceny uchazeče za aktuální soupis prací.
D28: Rekapitulace členění soupisu prací obsahuje rekapitulaci soupisu prací ve všech úrovních členění soupisu tak, jak byla tato členění použita (např.
D29: stavební díly, funkční díly, případně jiné členění) s rekapitulací nabídkové ceny.
D31: Soupis prací obsahuje položky veškerých stavebních nebo montážních prací, dodávek materiálů a služeb nezbytných pro zhotovení stavebního objektu,
D32: inženýrského objektu, provozního souboru, vedlejších a ostatních nákladů.
D33: Pro položky soupisu prací se zobrazují následující informace:
E34: PČ | G34: Pořadové číslo položky v aktuálním soupisu
E35: TYP | G35: Typ položky: K - konstrukce, M - materiál, PP - plný popis, PSC - poznámka k souboru cen, P - poznámka k položce, VV - výkaz výměr
E36: Kód | G36: Kód položky
E37: Popis | G37: Zkrácený popis položky
E38: MJ | G38: Měrná jednotka položky
E39: Množství | G39: Množství v měrné jednotce
E40: J.cena | G40: Jednotková cena položky. Zadaní může obsahovat namísto J.ceny sloupce J.materiál a J.montáž, jejichž součet definuje
G41: J.cenu položky.
E42: Cena celkem | G42: Celková cena položky daná jako součin množství a j.ceny
E43: Cenová soustava | G43: Příslušnost položky do cenové soustavy
D45: Ke každé položce soupisu prací se na samostatných řádcích může zobrazovat:
E46: Plný popis položky
E47: Poznámka k souboru cen a poznámka zadavatele
E48: Výkaz výměr
D49: Pokud je k řádku výkazu výměr evidovaný údaj ve sloupci Kód, jedná se o definovaný odkaz, na který se může odvolávat výkaz výměr z jiné položky.
...
