Workbook

Sheet Rekapitulace stavby
A1: Export VZ | D1: List obsahuje: | K1: 1) Rekapitulace stavby | W1: 2) Rekapitulace objektů stavby a soupisů prací | BA1: 3.0 | BB1: ZAMOK | BT1: False | BU1: False | BV1: {b741d47d-530d-4b88-b88f-2285138d1c5a}
BS2: 0,01 | BT2: 21
BS3: 0,01 | BT3: 15
D4: REKAPITULACE STAVBY | AS4: v --- níže se nacházejí doplnkové a pomocné údaje k sestavám --- v | BE4: Návod na vyplnění | BS4: 0,001
D5: Kód: | K5: 2018-068 | BE5: Měnit lze pouze buňky se žlutým podbarvením!_x000D_ _x000D_ 1) v Rekapitulaci stavby vyplňte údaje o Uchazeči (přenesou se do ostatních sestav i v jiných listech)_x000D_ _x000D_ 2) na vybraných listech vyplňte v sestavě Soupis prací ceny u položek_x000D_ _x000D_ Podrobnosti k vyplnění naleznete na poslední záložce s Pokyny pro vyplnění | BS5: 0,01
D6: Stavba: | K6: Místní komunikace na p.č. 46/30, 13, 12, 9, Nová Telib | BS6: 0,01
D7: KSO: | AK7: CC-CZ: | BS7: 0,01
D8: Místo: | K8: Nová Telib | AK8: Datum: | AN8: 26. 11. 2018 | BS8: 0,01
BS9: 0,01
D10: Zadavatel: | AK10: IČ: | BS10: 0,01
E11: Obec Nová Telib | AK11: DIČ: | BS11: 0,01
BS12: 0,01
D13: Uchazeč: | AK13: IČ: | AN13: Vyplň údaj | BS13: 0,01
E14: Vyplň údaj | AK14: DIČ: | AN14: Vyplň údaj | BS14: 0,01
BS15: False
D16: Projektant: | AK16: IČ: | AN16: 27086135 | BS16: False
E17: CR Project s.r.o. | AK17: DIČ: | AN17: CZ27086135 | BS17: True
BS18: 0,01
D19: Poznámka: | BS19: 0,01
E20: Soupis prací je sestaven s využitím položek Cenové soustavy ÚRS. Cenové a technické podmínky položek Cenové soustavy ÚRS, které nejsou uvedeny v soupisu prací (informace z tzv. úvodních částí katalogů) jsou neomezeně dálkově k dispozici na www.cs-urs.cz. Položky soupisu prací, které nemají ve sloupci „Cenová soustava“ uveden žádný údaj, nepochází z Cenové soustavy ÚRS._x000D_ .........................._x000D_ Soupis výkonů je zpracován s výhradou, jako nezávazný, dle §2622 zák. č. 89/2012 Sb. NOZ._x000D_ .........................._x000D_ Rozpočet (soupis prací) je vypracován na základě projektové dokumentace - jedná se o odhad nákladů._x000D_ Veškeré položky rozpočtu (soupisu prací) je bezpodmínečně nutné provádět (případně oceňovat) dle projektové dokumentace, která je jednoznačně nadřazená tomuto rozpočtu (soupisu prací)._x000D_ Tato nadřazená projektová dokumentace určuje, doplňuje, případně dopřesňuje obsah jednotlivých položek tohoto rozpočtu (výkazu výměr), případně může tento rozpočet (výkaz výměr) rozšířit o další položky._x000D_ .........................._x000D_ Pokud je v soupisu prací definován konkrétní výrobek, je tím definován minimální požadovaný standard, uchazeč může ve své nabídce tento výrobek nahradit výrobkem se srovnatelnými nebo lepšími parametry. Parametry pro srovnání se rozumí zejména parametry výkonnostní, funkční a parametry životnosti._x000D_ .........................._x000D_ Vzhledem k charakteru stavby a to liniová, byly všechny plošné výměry ve výkazu výměr odečteny ze situace ve formátu dwg. | BS20: True
D23: Cena bez DPH | AK23: =ROUND(AG51,2) -> 0
L25: Sazba daně | W25: Základ daně | AK25: Výše daně
D26: DPH | F26: základní | L26: 0.21 | W26: =ROUND(AZ51,2) -> 0 | AK26: =ROUND(AV51,2) -> 0
F27: snížená | L27: 0.15 | W27: =ROUND(BA51,2) -> 0 | AK27: =ROUND(AW51,2) -> 0
F28: zákl. přenesená | L28: 0.21 | W28: =ROUND(BB51,2) -> 0 | AK28: 0
F29: sníž. přenesená | L29: 0.15 | W29: =ROUND(BC51,2) -> 0 | AK29: 0
F30: nulová | L30: 0 | W30: =ROUND(BD51,2) -> 0 | AK30: 0
D32: Cena s DPH | T32: v | X32: CZK | AK32: =SUM(AK23:AK30) -> 0
C39: REKAPITULACE OBJEKTŮ STAVBY A SOUPISŮ PRACÍ
C41: Kód: | L41: =K5 -> 2018-068
C42: Stavba: | L42: =K6 -> Místní komunikace na p.č. 46/30, 13, 12, 9, Nová Telib
C44: Místo: | L44: =IF(K8="","",K8) -> Nová Telib | AI44: Datum: | AM44: =IF(AN8= "","",AN8) -> 26. 11. 2018
C46: Zadavatel: | L46: =IF(E11= "","",E11) -> Obec Nová Telib | AI46: Projektant: | AM46: =IF(E17="","",E17) -> CR Project s.r.o. | AS46: Informatívní údaje z listů zakázek
C47: Uchazeč: | L47: =IF(E14= "Vyplň údaj","",E14)
C49: Kód | I49: Objekt, Soupis prací | AG49: Cena bez DPH [CZK] | AN49: Cena s DPH [CZK] | AQ49: Typ | AS49: z toho Ostat._x000D_ náklady [CZK] | AT49: DPH [CZK] | AU49: Normohodiny [h] | AV49: DPH základní [CZK] | AW49: DPH snížená [CZK] | AX49: DPH základní přenesená_x000D_ [CZK] | AY49: DPH snížená přenesená_x000D_ [CZK] | AZ49: Základna_x000D_ DPH základní | BA49: Základna_x000D_ DPH snížená | BB49: Základna_x000D_ DPH zákl. přenesená | BC49: Základna_x000D_ DPH sníž. přenesená | BD49: Základna_x000D_ DPH nulová
C51: Náklady stavby celkem | AG51: =ROUND(SUM(AG52:AG53),2) -> 0 | AN51: =SUM(AG51,AT51) -> 0 | AS51: =ROUND(SUM(AS52:AS53),2) -> 0 | AT51: =ROUND(SUM(AV51:AW51),2) -> 0 | AU51: =ROUND(SUM(AU52:AU53),5) -> 0 | AV51: =ROUND(AZ51*L26,2) -> 0 | AW51: =ROUND(BA51*L27,2) -> 0 | AX51: =ROUND(BB51*L26,2) -> 0 | AY51: =ROUND(BC51*L27,2) -> 0 | AZ51: =ROUND(SUM(AZ52:AZ53),2) -> 0 | BA51: =ROUND(SUM(BA52:BA53),2) -> 0 | BB51: =ROUND(SUM(BB52:BB53),2) -> 0 | BC51: =ROUND(SUM(BC52:BC53),2) -> 0 | BD51: =ROUND(SUM(BD52:BD53),2) -> 0 | BS51: D | BT51: 0 | BU51: ###NOIMPORT### | BV51: IMPORT | BW51: {b741d47d-530d-4b88-b88f-2285138d1c5a} | BX51: {00000000-0000-0000-0000-000000000000}
A52: / | D52: SO.101 | J52: SO.101 - Komunikace a zpevněné plochy | AG52: ='SO.101 - SO.101 - Komunik...'!J27 -> 0 | AN52: =SUM(AG52,AT52) -> 0 | AQ52: ING | AS52: 0 | AT52: =ROUND(SUM(AV52:AW52),2) -> 0 | AU52: ='SO.101 - SO.101 - Komunik...'!P100 -> 0 | AV52: ='SO.101 - SO.101 - Komunik...'!J30 -> 0 | AW52: ='SO.101 - SO.101 - Komunik...'!J31 -> 0 | AX52: ='SO.101 - SO.101 - Komunik...'!J32 -> 0 | AY52: ='SO.101 - SO.101 - Komunik...'!J33 -> 0 | AZ52: ='SO.101 - SO.101 - Komunik...'!F30 -> 0 | BA52: ='SO.101 - SO.101 - Komunik...'!F31 -> 0 | BB52: ='SO.101 - SO.101 - Komunik...'!F32 -> 0 | BC52: ='SO.101 - SO.101 - Komunik...'!F33 -> 0 | BD52: ='SO.101 - SO.101 - Komunik...'!F34 -> 0 | BT52: 1 | BV52: IMPORT | BW52: {b2f62d41-f323-43ed-9f9c-f169825a7ccf} | BX52: {b741d47d-530d-4b88-b88f-2285138d1c5a} | CM52: 2
A53: / | D53: VoN | J53: Vedlejší a ostatní náklady | AG53: ='VoN - Vedlejší a ostatní ...'!J27 -> 0 | AN53: =SUM(AG53,AT53) -> 0 | AQ53: VON | AS53: 0 | AT53: =ROUND(SUM(AV53:AW53),2) -> 0 | AU53: ='VoN - Vedlejší a ostatní ...'!P79 -> 0 | AV53: ='VoN - Vedlejší a ostatní ...'!J30 -> 0 | AW53: ='VoN - Vedlejší a ostatní ...'!J31 -> 0 | AX53: ='VoN - Vedlejší a ostatní ...'!J32 -> 0 | AY53: ='VoN - Vedlejší a ostatní ...'!J33 -> 0 | AZ53: ='VoN - Vedlejší a ostatní ...'!F30 -> 0 | BA53: ='VoN - Vedlejší a ostatní ...'!F31 -> 0 | BB53: ='VoN - Vedlejší a ostatní ...'!F32 -> 0 | BC53: ='VoN - Vedlejší a ostatní ...'!F33 -> 0 | BD53: ='VoN - Vedlejší a ostatní ...'!F34 -> 0 | BT53: 1 | BV53: IMPORT | BW53: {dda0e674-364a-4568-80a1-0f37c9b6289b} | BX53: {b741d47d-530d-4b88-b88f-2285138d1c5a} | CM53: 2

Sheet SO.101 - SO.101 - Komunik...
D1: List obsahuje: | F1: 1) Krycí list soupisu | G1: 2) Rekapitulace | J1: 3) Soupis prací | K1: Zpět na list: | L1: Rekapitulace stavby
AT2: {b2f62d41-f323-43ed-9f9c-f169825a7ccf}
AT3: 2
D4: KRYCÍ LIST SOUPISU | M4: v --- níže se nacházejí doplnkové a pomocné údaje k sestavám --- v | AT4: False
D6: Stavba:
E7: ='Rekapitulace stavby'!K6 -> Místní komunikace na p.č. 46/30, 13, 12, 9, Nová Telib
D8: Objekt:
E9: SO.101 - SO.101 - Komunikace a zpevněné plochy
D11: KSO: | I11: CC-CZ:
D12: Místo: | F12: Nová Telib | I12: Datum: | J12: ='Rekapitulace stavby'!AN8 -> 26. 11. 2018
D14: Zadavatel: | I14: IČ:
E15: Obec Nová Telib | I15: DIČ:
D17: Uchazeč: | I17: IČ: | J17: =IF('Rekapitulace stavby'!AN13="Vyplň údaj","",IF('Rekapitulace stavby'!AN13="","",'Rekapitulace stavby'!AN13))
E18: =IF('Rekapitulace stavby'!E14="Vyplň údaj","",IF('Rekapitulace stavby'!E14="","",'Rekapitulace stavby'!E14)) | I18: DIČ: | J18: =IF('Rekapitulace stavby'!AN14="Vyplň údaj","",IF('Rekapitulace stavby'!AN14="","",'Rekapitulace stavby'!AN14))
D20: Projektant: | I20: IČ: | J20: 27086135
E21: CR Project s.r.o. | I21: DIČ: | J21: CZ27086135
D23: Poznámka:
E24: Soupis prací je sestaven s využitím položek Cenové soustavy ÚRS. Cenové a technické podmínky položek Cenové soustavy ÚRS, které nejsou uvedeny v soupisu prací (informace z tzv. úvodních částí katalogů) jsou neomezeně dálkově k dispozici na www.cs-urs.cz. Položky soupisu prací, které nemají ve sloupci „Cenová soustava“ uveden žádný údaj, nepochází z Cenové soustavy ÚRS. .......................... Soupis výkonů je zpracován s výhradou, jako nezávazný, dle §2622 zák. č. 89/2012 Sb. NOZ. .......................... Rozpočet (soupis prací) je vypracován na základě projektové dokumentace - jedná se o odhad nákladů. Veškeré položky rozpočtu (soupisu prací) je bezpodmínečně nutné provádět (případně oceňovat) dle projektové dokumentace, která je jednoznačně nadřazená tomuto rozpočtu (soupisu prací). Tato nadřazená projektová dokumentace určuje, doplňuje, případně dopřesňuje obsah jednotlivých položek tohoto rozpočtu (výkazu výměr), případně může tento rozpočet (výkaz výměr) rozšířit o další položky. .......................... Pokud je v soupisu prací definován konkrétní výrobek, je tím definován minimální požadovaný standard, uchazeč může ve své nabídce tento výrobek nahradit výrobkem se srovnatelnými nebo lepšími parametry. Parametry pro srovnání se rozumí zejména parametry výkonnostní, funkční a parametry životnosti. .......................... Vzhledem k charakteru stavby a to liniová, byly všechny plošné výměry ve výkazu výměr odečteny ze situace ve formátu dwg.
D27: Cena bez DPH | J27: =ROUND(J100,2) -> 0
F29: Základ daně | I29: Sazba daně | J29: Výše daně
D30: DPH | E30: základní | F30: =ROUND(SUM(BE100:BE301), 2) -> 0 | I30: 0.21 | J30: =ROUND(ROUND((SUM(BE100:BE301)), 2)*I30, 2) -> 0
E31: snížená | F31: =ROUND(SUM(BF100:BF301), 2) -> 0 | I31: 0.15 | J31: =ROUND(ROUND((SUM(BF100:BF301)), 2)*I31, 2) -> 0
E32: zákl. přenesená | F32: =ROUND(SUM(BG100:BG301), 2) -> 0 | I32: 0.21 | J32: 0
E33: sníž. přenesená | F33: =ROUND(SUM(BH100:BH301), 2) -> 0 | I33: 0.15 | J33: 0
E34: nulová | F34: =ROUND(SUM(BI100:BI301), 2) -> 0 | I34: 0 | J34: 0
D36: Cena s DPH | G36: v | H36: CZK | J36: =SUM(J27:J34) -> 0
C42: REKAPITULACE ČLENĚNÍ SOUPISU PRACÍ
C44: Stavba:
E45: =E7 -> Místní komunikace na p.č. 46/30, 13, 12, 9, Nová Telib
C46: Objekt:
E47: =E9 -> SO.101 - SO.101 - Komunikace a zpevněné plochy
C49: Místo: | F49: =F12 -> Nová Telib | I49: Datum: | J49: =IF(J12="","",J12) -> 26. 11. 2018
C51: Zadavatel: | F51: =E15 -> Obec Nová Telib | I51: Projektant: | J51: =E21 -> CR Project s.r.o.
C52: Uchazeč: | F52: =IF(E18="","",E18)
C54: Kód dílu - Popis | J54: Cena celkem [CZK]
C56: Náklady soupisu celkem | J56: =J100 -> 0 | AU56: -1
D57: HSV - Práce a dodávky HSV | J57: =J101 -> 0
D58: 1 - Zemní práce | J58: =J102 -> 0
D59: R10 - Společné zemní práce | J59: =J103 -> 0
D60: R11 - Zemní práce pro komunikace | J60: =J120 -> 0
D61: R12 - Zemní práce pro odvodnění komunikací | J61: =J133 -> 0
D62: R13 - Odstranění zeleně | J62: =J161 -> 0
D63: 3 - Svislé a kompletní konstrukce | J63: =J166 -> 0
D64: R33 - Oplocení stání pro kontejnery | J64: =J167 -> 0
D65: 5 - Komunikace | J65: =J176 -> 0
D66: R50 - Podkladní vrstvy | J66: =J177 -> 0
D67: R51 - Komunikace pro automobilovou dopravu - asfalt | J67: =J185 -> 0
D68: R56 - Komunikace pro pěší ze zámkové dlažby | J68: =J194 -> 0
D69: R57 - Plochy z kačírku | J69: =J199 -> 0
D70: 8 - Trubní vedení | J70: =J208 -> 0
D71: R81 - Napojení odvodňovačů | J71: =J209 -> 0
D72: R82 - Uliční vpusti | J72: =J227 -> 0
D73: 9 - Ostatní konstrukce a práce-bourání | J73: =J237 -> 0
D74: R90 - Společné práce pro bourání a konstrukce | J74: =J238 -> 0
D75: R95 - Osazení obrub a linek | J75: =J246 -> 0
D76: R96 - Bourání konstrukcí vozovek | J76: =J259 -> 0
D77: R97 - Ostatní bourací práce | J77: =J272 -> 0
D78: R98 - Vodorovné dopravní značení | J78: =J276 -> 0
D79: R99 - Svislé dopravní značení | J79: =J291 -> 0
D80: 99 - Přesun hmot | J80: =J298 -> 0
C87: SOUPIS PRACÍ
C89: Stavba:
E90: =E7 -> Místní komunikace na p.č. 46/30, 13, 12, 9, Nová Telib
C91: Objekt:
E92: =E9 -> SO.101 - SO.101 - Komunikace a zpevněné plochy
C94: Místo: | F94: =F12 -> Nová Telib | I94: Datum: | J94: =IF(J12="","",J12) -> 26. 11. 2018
C96: Zadavatel: | F96: =E15 -> Obec Nová Telib | I96: Projektant: | J96: =E21 -> CR Project s.r.o.
C97: Uchazeč: | F97: =IF(E18="","",E18)
C99: PČ | D99: Typ | E99: Kód | F99: Popis | G99: MJ | H99: Množství | I99: J.cena [CZK] | J99: Cena celkem [CZK] | K99: Cenová soustava | M99: Poznámka | N99: DPH | O99: J. Nh [h] | P99: Nh celkem [h] | Q99: J. hmotnost_x000D_ [t] | R99: Hmotnost_x000D_ celkem [t] | S99: J. suť [t] | T99: Suť Celkem [t]
C100: Náklady soupisu celkem | J100: =BK100 -> 0 | P100: =P101 -> 0 | R100: =R101 -> 245.59493 | T100: =T101 -> 436.6695 | AT100: D | AU100: -1 | BK100: =BK101 -> 0
D101: D | E101: HSV | F101: Práce a dodávky HSV | J101: =BK101 -> 0 | P101: =P102+P166+P176+P208+P237 -> 0 | R101: =R102+R166+R176+R208+R237 -> 245.59493 | T101: =T102+T166+T176+T208+T237 -> 436.6695 | AR101: 1 | AT101: D | AU101: 0 | AY101: ROZPOCET | BK101: =BK102+BK166+BK176+BK208+BK237 -> 0
D102: D | E102: 1 | F102: Zemní práce | J102: =BK102 -> 0 | P102: =P103+P120+P133+P161 -> 0 | R102: =R103+R120+R133+R161 -> 15.298 | T102: =T103+T120+T133+T161 -> 0 | AR102: 1 | AT102: D | AU102: 1 | AY102: ROZPOCET | BK102: =BK103+BK120+BK133+BK161 -> 0
D103: D | E103: R10 | F103: Společné zemní práce | J103: =BK103 -> 0 | P103: =SUM(P104:P119) -> 0 | R103: =SUM(R104:R119) -> 0 | T103: =SUM(T104:T119) -> 0 | AR103: 1 | AT103: D | AU103: 2 | AY103: ROZPOCET | BK103: =SUM(BK104:BK119) -> 0
C104: 1 | D104: K | E104: 162601102 | F104: Vodorovné přemístění do 5000 m výkopku/sypaniny z horniny tř. 1 až 4 | G104: m3 | H104: 20.978 | J104: =ROUND(I104*H104,2) -> 0 | K104: CS ÚRS 2018 02 | N104: základní | P104: =O104*H104 -> 0 | Q104: 0 | R104: =Q104*H104 -> 0 | S104: 0 | T104: =S104*H104 -> 0 | AR104: 4 | AT104: K | AU104: 3 | AY104: ROZPOCET | BE104: =IF(N104="základní",J104,0) -> 0 | BF104: =IF(N104="snížená",J104,0) -> 0 | BG104: =IF(N104="zákl. přenesená",J104,0) -> 0 | BH104: =IF(N104="sníž. přenesená",J104,0) -> 0 | BI104: =IF(N104="nulová",J104,0) -> 0 | BJ104: 1 | BK104: =ROUND(I104*H104,2) -> 0 | BL104: 4 | BM104: -2049429914
D105: VV | F105: Odvoz přebytečného výkopku na skládku: | AT105: VV | AU105: 3 | AV105: 1 | AW105: True | AX105: 0 | AY105: ROZPOCET
D106: VV | F106: 7,404 "- z komunikací" | H106: 7.404 | AT106: VV | AU106: 3 | AV106: 2 | AW106: True | AX106: 0 | AY106: ROZPOCET
D107: VV | F107: 7,404 "- z hloubení jam" | H107: 7.404 | AT107: VV | AU107: 3 | AV107: 2 | AW107: True | AX107: 0 | AY107: ROZPOCET
D108: VV | F108: 2,720 "- z hloubení rýh š. do 600mm" | H108: 2.72 | AT108: VV | AU108: 3 | AV108: 2 | AW108: True | AX108: 0 | AY108: ROZPOCET
D109: VV | F109: 3,450 "- z hloubení rýh š. do 2000mm" | H109: 3.45 | AT109: VV | AU109: 3 | AV109: 2 | AW109: True | AX109: 0 | AY109: ROZPOCET
D110: VV | F110: Součet | H110: 20.978 | AT110: VV | AU110: 3 | AV110: 4 | AW110: True | AX110: 1 | AY110: ROZPOCET
C111: 2 | D111: K | E111: 171201201 | F111: Uložení sypaniny na skládky | G111: m3 | H111: 20.978 | J111: =ROUND(I111*H111,2) -> 0 | K111: CS ÚRS 2018 02 | N111: základní | P111: =O111*H111 -> 0 | Q111: 0 | R111: =Q111*H111 -> 0 | S111: 0 | T111: =S111*H111 -> 0 | AR111: 4 | AT111: K | AU111: 3 | AY111: ROZPOCET | BE111: =IF(N111="základní",J111,0) -> 0 | BF111: =IF(N111="snížená",J111,0) -> 0 | BG111: =IF(N111="zákl. přenesená",J111,0) -> 0 | BH111: =IF(N111="sníž. přenesená",J111,0) -> 0 | BI111: =IF(N111="nulová",J111,0) -> 0 | BJ111: 1 | BK111: =ROUND(I111*H111,2) -> 0 | BL111: 4 | BM111: -2140387853
D112: VV | F112: 20,978 "- viz. položka č. 162301R02 - Vodorovné přemístění na skládku" | H112: 20.978 | AT112: VV | AU112: 3 | AV112: 2 | AW112: True | AX112: 1 | AY112: ROZPOCET
C113: 3 | D113: K | E113: 171201211 | F113: Poplatek za uložení stavebního odpadu - zeminy a kameniva na skládce | G113: t | H113: 36.712 | J113: =ROUND(I113*H113,2) -> 0 | K113: CS ÚRS 2018 02 | N113: základní | P113: =O113*H113 -> 0 | Q113: 0 | R113: =Q113*H113 -> 0 | S113: 0 | T113: =S113*H113 -> 0 | AR113: 4 | AT113: K | AU113: 3 | AY113: ROZPOCET | BE113: =IF(N113="základní",J113,0) -> 0 | BF113: =IF(N113="snížená",J113,0) -> 0 | BG113: =IF(N113="zákl. přenesená",J113,0) -> 0 | BH113: =IF(N113="sníž. přenesená",J113,0) -> 0 | BI113: =IF(N113="nulová",J113,0) -> 0 | BJ113: 1 | BK113: =ROUND(I113*H113,2) -> 0 | BL113: 4 | BM113: -717512063
D114: VV | F114: 20,978*1,75 "- viz. položka č. 162301R02 - Vodorovné přemístění na skládku" | H114: 36.712 | AT114: VV | AU114: 3 | AV114: 2 | AW114: True | AX114: 1 | AY114: ROZPOCET
C115: 4 | D115: K | E115: 181951102 | F115: Úprava pláně v hornině tř. 1 až 4 se zhutněním | G115: m2 | H115: 717.285 | J115: =ROUND(I115*H115,2) -> 0 | K115: CS ÚRS 2018 02 | N115: základní | P115: =O115*H115 -> 0 | Q115: 0 | R115: =Q115*H115 -> 0 | S115: 0 | T115: =S115*H115 -> 0 | AR115: 4 | AT115: K | AU115: 3 | AY115: ROZPOCET | BE115: =IF(N115="základní",J115,0) -> 0 | BF115: =IF(N115="snížená",J115,0) -> 0 | BG115: =IF(N115="zákl. přenesená",J115,0) -> 0 | BH115: =IF(N115="sníž. přenesená",J115,0) -> 0 | BI115: =IF(N115="nulová",J115,0) -> 0 | BJ115: 1 | BK115: =ROUND(I115*H115,2) -> 0 | BL115: 4 | BM115: -389839322
D116: VV | F116: Pro komunikace a zpevněné plochy: | AT116: VV | AU116: 3 | AV116: 1 | AW116: True | AX116: 0 | AY116: ROZPOCET
D117: VV | F117: 2*320,50*1,11 "- komunikace pro aut. dopravu - asfalt" | H117: 711.51 | AT117: VV | AU117: 3 | AV117: 2 | AW117: True | AX117: 0 | AY117: ROZPOCET
D118: VV | F118: 5,50*1,05 "- plcoha pro kontejnery - zámk. dlažba" | H118: 5.775 | AT118: VV | AU118: 3 | AV118: 2 | AW118: True | AX118: 0 | AY118: ROZPOCET
D119: VV | F119: Součet | H119: 717.285 | AT119: VV | AU119: 3 | AV119: 4 | AW119: True | AX119: 1 | AY119: ROZPOCET
D120: D | E120: R11 | F120: Zemní práce pro komunikace | J120: =BK120 -> 0 | P120: =SUM(P121:P132) -> 0 | R120: =SUM(R121:R132) -> 0 | T120: =SUM(T121:T132) -> 0 | AR120: 1 | AT120: D | AU120: 2 | AY120: ROZPOCET | BK120: =SUM(BK121:BK132) -> 0
C121: 5 | D121: K | E121: 122202202 | F121: Odkopávky a prokopávky nezapažené pro silnice objemu do 1000 m3 v hornině tř. 3 | G121: m3 | H121: 7.404 | J121: =ROUND(I121*H121,2) -> 0 | K121: CS ÚRS 2018 02 | N121: základní | P121: =O121*H121 -> 0 | Q121: 0 | R121: =Q121*H121 -> 0 | S121: 0 | T121: =S121*H121 -> 0 | AR121: 4 | AT121: K | AU121: 3 | AY121: ROZPOCET | BE121: =IF(N121="základní",J121,0) -> 0 | BF121: =IF(N121="snížená",J121,0) -> 0 | BG121: =IF(N121="zákl. přenesená",J121,0) -> 0 | BH121: =IF(N121="sníž. přenesená",J121,0) -> 0 | BI121: =IF(N121="nulová",J121,0) -> 0 | BJ121: 1 | BK121: =ROUND(I121*H121,2) -> 0 | BL121: 4 | BM121: 1993777086
D122: VV | F122: Odkop pro spodní stavbu komunikací: | AT122: VV | AU122: 3 | AV122: 1 | AW122: True | AX122: 0 | AY122: ROZPOCET
D123: VV | F123: Komunikace pro aut. dopravu: | AT123: VV | AU123: 3 | AV123: 1 | AW123: True | AX123: 0 | AY123: ROZPOCET
D124: VV | F124: 0,020*320,50*1,11 "- plné KS - asfalt" | H124: 7.115 | AT124: VV | AU124: 3 | AV124: 2 | AW124: True | AX124: 0 | AY124: ROZPOCET
D125: VV | F125: Komunikace pro pěší - zámková dlažba: | AT125: VV | AU125: 3 | AV125: 1 | AW125: True | AX125: 0 | AY125: ROZPOCET
D126: VV | F126: 0,050*5,50*1,05 "- plocha pro kontejnery" | H126: 0.289 | AT126: VV | AU126: 3 | AV126: 2 | AW126: True | AX126: 0 | AY126: ROZPOCET
D127: VV | F127: Součet | H127: 7.404 | AT127: VV | AU127: 3 | AV127: 4 | AW127: True | AX127: 1 | AY127: ROZPOCET
C128: 6 | D128: K | E128: 122202209 | F128: Příplatek k odkopávkám a prokopávkám pro silnice v hornině tř. 3 za lepivost | G128: m3 | H128: 7.404 | J128: =ROUND(I128*H128,2) -> 0 | K128: CS ÚRS 2018 02 | N128: základní | P128: =O128*H128 -> 0 | Q128: 0 | R128: =Q128*H128 -> 0 | S128: 0 | T128: =S128*H128 -> 0 | AR128: 4 | AT128: K | AU128: 3 | AY128: ROZPOCET | BE128: =IF(N128="základní",J128,0) -> 0 | BF128: =IF(N128="snížená",J128,0) -> 0 | BG128: =IF(N128="zákl. přenesená",J128,0) -> 0 | BH128: =IF(N128="sníž. přenesená",J128,0) -> 0 | BI128: =IF(N128="nulová",J128,0) -> 0 | BJ128: 1 | BK128: =ROUND(I128*H128,2) -> 0 | BL128: 4 | BM128: 1127687563
D129: VV | F129: 7,404 "- viz. položka 122202202 - Odkopávky pro silnice" | H129: 7.404 | AT129: VV | AU129: 3 | AV129: 2 | AW129: True | AX129: 1 | AY129: ROZPOCET
C130: 7 | D130: K | E130: 120001101 | F130: Příplatek za ztížení odkopávky nebo prokkopávky v blízkosti inženýrských sítí | G130: m3 | H130: 0.148 | J130: =ROUND(I130*H130,2) -> 0 | K130: CS ÚRS 2018 02 | N130: základní | P130: =O130*H130 -> 0 | Q130: 0 | R130: =Q130*H130 -> 0 | S130: 0 | T130: =S130*H130 -> 0 | AR130: 4 | AT130: K | AU130: 3 | AY130: ROZPOCET | BE130: =IF(N130="základní",J130,0) -> 0 | BF130: =IF(N130="snížená",J130,0) -> 0 | BG130: =IF(N130="zákl. přenesená",J130,0) -> 0 | BH130: =IF(N130="sníž. přenesená",J130,0) -> 0 | BI130: =IF(N130="nulová",J130,0) -> 0 | BJ130: 1 | BK130: =ROUND(I130*H130,2) -> 0 | BL130: 4 | BM130: -1764172847
...

Sheet VoN - Vedlejší a ostatní ...
D1: List obsahuje: | F1: 1) Krycí list soupisu | G1: 2) Rekapitulace | J1: 3) Soupis prací | K1: Zpět na list: | L1: Rekapitulace stavby
AT2: {dda0e674-364a-4568-80a1-0f37c9b6289b}
AT3: 2
D4: KRYCÍ LIST SOUPISU | M4: v --- níže se nacházejí doplnkové a pomocné údaje k sestavám --- v | AT4: False
D6: Stavba:
E7: ='Rekapitulace stavby'!K6 -> Místní komunikace na p.č. 46/30, 13, 12, 9, Nová Telib
D8: Objekt:
E9: VoN - Vedlejší a ostatní náklady
D11: KSO: | I11: CC-CZ:
D12: Místo: | F12: Nová Telib | I12: Datum: | J12: ='Rekapitulace stavby'!AN8 -> 26. 11. 2018
D14: Zadavatel: | I14: IČ:
E15: Obec Nová Telib | I15: DIČ:
D17: Uchazeč: | I17: IČ: | J17: =IF('Rekapitulace stavby'!AN13="Vyplň údaj","",IF('Rekapitulace stavby'!AN13="","",'Rekapitulace stavby'!AN13))
E18: =IF('Rekapitulace stavby'!E14="Vyplň údaj","",IF('Rekapitulace stavby'!E14="","",'Rekapitulace stavby'!E14)) | I18: DIČ: | J18: =IF('Rekapitulace stavby'!AN14="Vyplň údaj","",IF('Rekapitulace stavby'!AN14="","",'Rekapitulace stavby'!AN14))
D20: Projektant: | I20: IČ: | J20: 27086135
E21: CR Project s.r.o. | I21: DIČ: | J21: CZ27086135
D23: Poznámka:
E24: Soupis prací je sestaven s využitím položek Cenové soustavy ÚRS. Cenové a technické podmínky položek Cenové soustavy ÚRS, které nejsou uvedeny v soupisu prací (informace z tzv. úvodních částí katalogů) jsou neomezeně dálkově k dispozici na www.cs-urs.cz. Položky soupisu prací, které nemají ve sloupci „Cenová soustava“ uveden žádný údaj, nepochází z Cenové soustavy ÚRS. .......................... Soupis výkonů je zpracován s výhradou, jako nezávazný, dle §2622 zák. č. 89/2012 Sb. NOZ. .......................... Rozpočet (soupis prací) je vypracován na základě projektové dokumentace - jedná se o odhad nákladů. Veškeré položky rozpočtu (soupisu prací) je bezpodmínečně nutné provádět (případně oceňovat) dle projektové dokumentace, která je jednoznačně nadřazená tomuto rozpočtu (soupisu prací). Tato nadřazená projektová dokumentace určuje, doplňuje, případně dopřesňuje obsah jednotlivých položek tohoto rozpočtu (výkazu výměr), případně může tento rozpočet (výkaz výměr) rozšířit o další položky. .......................... Pokud je v soupisu prací definován konkrétní výrobek, je tím definován minimální požadovaný standard, uchazeč může ve své nabídce tento výrobek nahradit výrobkem se srovnatelnými nebo lepšími parametry. Parametry pro srovnání se rozumí zejména parametry výkonnostní, funkční a parametry životnosti. .......................... Vzhledem k charakteru stavby a to liniová, byly všechny plošné výměry ve výkazu výměr odečteny ze situace ve formátu dwg.
D27: Cena bez DPH | J27: =ROUND(J79,2) -> 0
F29: Základ daně | I29: Sazba daně | J29: Výše daně
D30: DPH | E30: základní | F30: =ROUND(SUM(BE79:BE102), 2) -> 0 | I30: 0.21 | J30: =ROUND(ROUND((SUM(BE79:BE102)), 2)*I30, 2) -> 0
E31: snížená | F31: =ROUND(SUM(BF79:BF102), 2) -> 0 | I31: 0.15 | J31: =ROUND(ROUND((SUM(BF79:BF102)), 2)*I31, 2) -> 0
E32: zákl. přenesená | F32: =ROUND(SUM(BG79:BG102), 2) -> 0 | I32: 0.21 | J32: 0
E33: sníž. přenesená | F33: =ROUND(SUM(BH79:BH102), 2) -> 0 | I33: 0.15 | J33: 0
E34: nulová | F34: =ROUND(SUM(BI79:BI102), 2) -> 0 | I34: 0 | J34: 0
D36: Cena s DPH | G36: v | H36: CZK | J36: =SUM(J27:J34) -> 0
C42: REKAPITULACE ČLENĚNÍ SOUPISU PRACÍ
C44: Stavba:
E45: =E7 -> Místní komunikace na p.č. 46/30, 13, 12, 9, Nová Telib
C46: Objekt:
E47: =E9 -> VoN - Vedlejší a ostatní náklady
C49: Místo: | F49: =F12 -> Nová Telib | I49: Datum: | J49: =IF(J12="","",J12) -> 26. 11. 2018
C51: Zadavatel: | F51: =E15 -> Obec Nová Telib | I51: Projektant: | J51: =E21 -> CR Project s.r.o.
C52: Uchazeč: | F52: =IF(E18="","",E18)
C54: Kód dílu - Popis | J54: Cena celkem [CZK]
C56: Náklady soupisu celkem | J56: =J79 -> 0 | AU56: -1
D57: OST - Vedlejší a ostaní náklady | J57: =J80 -> 0
D58: O02 - Vedlejší náklady | J58: =J81 -> 0
D59: O03 - Ostatní náklady | J59: =J98 -> 0
C66: SOUPIS PRACÍ
C68: Stavba:
E69: =E7 -> Místní komunikace na p.č. 46/30, 13, 12, 9, Nová Telib
C70: Objekt:
E71: =E9 -> VoN - Vedlejší a ostatní náklady
C73: Místo: | F73: =F12 -> Nová Telib | I73: Datum: | J73: =IF(J12="","",J12) -> 26. 11. 2018
C75: Zadavatel: | F75: =E15 -> Obec Nová Telib | I75: Projektant: | J75: =E21 -> CR Project s.r.o.
C76: Uchazeč: | F76: =IF(E18="","",E18)
C78: PČ | D78: Typ | E78: Kód | F78: Popis | G78: MJ | H78: Množství | I78: J.cena [CZK] | J78: Cena celkem [CZK] | K78: Cenová soustava | M78: Poznámka | N78: DPH | O78: J. Nh [h] | P78: Nh celkem [h] | Q78: J. hmotnost_x000D_ [t] | R78: Hmotnost_x000D_ celkem [t] | S78: J. suť [t] | T78: Suť Celkem [t]
C79: Náklady soupisu celkem | J79: =BK79 -> 0 | P79: =P80 -> 0 | R79: =R80 -> 0 | T79: =T80 -> 0 | AT79: D | AU79: -1 | BK79: =BK80 -> 0
D80: D | E80: OST | F80: Vedlejší a ostaní náklady | J80: =BK80 -> 0 | P80: =P81+P98 -> 0 | R80: =R81+R98 -> 0 | T80: =T81+T98 -> 0 | AR80: 4 | AT80: D | AU80: 0 | AY80: ROZPOCET | BK80: =BK81+BK98 -> 0
D81: D | E81: O02 | F81: Vedlejší náklady | J81: =BK81 -> 0 | P81: =SUM(P82:P97) -> 0 | R81: =SUM(R82:R97) -> 0 | T81: =SUM(T82:T97) -> 0 | AR81: 4 | AT81: D | AU81: 1 | AY81: ROZPOCET | BK81: =SUM(BK82:BK97) -> 0
C82: 1 | D82: K | E82: VON990001 | F82: Zajištění prostoru a vybudování zařízení staveniště včetně potřebných staveništních komunikací | G82: soubor | H82: 1 | J82: =ROUND(I82*H82,2) -> 0 | N82: základní | P82: =O82*H82 -> 0 | Q82: 0 | R82: =Q82*H82 -> 0 | S82: 0 | T82: =S82*H82 -> 0 | AR82: 1024 | AT82: K | AU82: 2 | AY82: ROZPOCET | BE82: =IF(N82="základní",J82,0) -> 0 | BF82: =IF(N82="snížená",J82,0) -> 0 | BG82: =IF(N82="zákl. přenesená",J82,0) -> 0 | BH82: =IF(N82="sníž. přenesená",J82,0) -> 0 | BI82: =IF(N82="nulová",J82,0) -> 0 | BJ82: 1 | BK82: =ROUND(I82*H82,2) -> 0 | BL82: 1024 | BM82: -1629029830
C83: 2 | D83: K | E83: VON990002 | F83: Oplocení stavby a staveniště mobilním oplocením | G83: soubor | H83: 1 | J83: =ROUND(I83*H83,2) -> 0 | N83: základní | P83: =O83*H83 -> 0 | Q83: 0 | R83: =Q83*H83 -> 0 | S83: 0 | T83: =S83*H83 -> 0 | AR83: 1024 | AT83: K | AU83: 2 | AY83: ROZPOCET | BE83: =IF(N83="základní",J83,0) -> 0 | BF83: =IF(N83="snížená",J83,0) -> 0 | BG83: =IF(N83="zákl. přenesená",J83,0) -> 0 | BH83: =IF(N83="sníž. přenesená",J83,0) -> 0 | BI83: =IF(N83="nulová",J83,0) -> 0 | BJ83: 1 | BK83: =ROUND(I83*H83,2) -> 0 | BL83: 1024 | BM83: 1083989928
C84: 3 | D84: K | E84: VON990004 | F84: Vytýčení hranic pozemků při provádění stavby | G84: soubor | H84: 1 | J84: =ROUND(I84*H84,2) -> 0 | N84: základní | P84: =O84*H84 -> 0 | Q84: 0 | R84: =Q84*H84 -> 0 | S84: 0 | T84: =S84*H84 -> 0 | AR84: 1024 | AT84: K | AU84: 2 | AY84: ROZPOCET | BE84: =IF(N84="základní",J84,0) -> 0 | BF84: =IF(N84="snížená",J84,0) -> 0 | BG84: =IF(N84="zákl. přenesená",J84,0) -> 0 | BH84: =IF(N84="sníž. přenesená",J84,0) -> 0 | BI84: =IF(N84="nulová",J84,0) -> 0 | BJ84: 1 | BK84: =ROUND(I84*H84,2) -> 0 | BL84: 1024 | BM84: -1913189029
C85: 4 | D85: K | E85: VON990005 | F85: Zhotovení podrobné pasportizace stávajících nemovitostí a staveb, které mohou být výstavbou dotčeny | G85: soubor | H85: 1 | J85: =ROUND(I85*H85,2) -> 0 | N85: základní | P85: =O85*H85 -> 0 | Q85: 0 | R85: =Q85*H85 -> 0 | S85: 0 | T85: =S85*H85 -> 0 | AR85: 1024 | AT85: K | AU85: 2 | AY85: ROZPOCET | BE85: =IF(N85="základní",J85,0) -> 0 | BF85: =IF(N85="snížená",J85,0) -> 0 | BG85: =IF(N85="zákl. přenesená",J85,0) -> 0 | BH85: =IF(N85="sníž. přenesená",J85,0) -> 0 | BI85: =IF(N85="nulová",J85,0) -> 0 | BJ85: 1 | BK85: =ROUND(I85*H85,2) -> 0 | BL85: 1024 | BM85: -1362792130
C86: 5 | D86: K | E86: VON990007 | F86: Zajištění vytýčení podzemních zařízení, a v případě jejich křížení či souběhu v otevřeném výkopu, jejich písemné předání zpět jejich správcům před zásypem | G86: soubor | H86: 1 | J86: =ROUND(I86*H86,2) -> 0 | N86: základní | P86: =O86*H86 -> 0 | Q86: 0 | R86: =Q86*H86 -> 0 | S86: 0 | T86: =S86*H86 -> 0 | AR86: 1024 | AT86: K | AU86: 2 | AY86: ROZPOCET | BE86: =IF(N86="základní",J86,0) -> 0 | BF86: =IF(N86="snížená",J86,0) -> 0 | BG86: =IF(N86="zákl. přenesená",J86,0) -> 0 | BH86: =IF(N86="sníž. přenesená",J86,0) -> 0 | BI86: =IF(N86="nulová",J86,0) -> 0 | BJ86: 1 | BK86: =ROUND(I86*H86,2) -> 0 | BL86: 1024 | BM86: 250042180
C87: 6 | D87: K | E87: VON990009 | F87: Zajištění povolení zvláštního užívání komunikací v souladu s postupem výstavby,včetně správních poplatků a povolení k užívání dalších, stavbou dotčených pozemků (skládky materiálu, mezideponie atd.) | G87: soubor | H87: 1 | J87: =ROUND(I87*H87,2) -> 0 | N87: základní | P87: =O87*H87 -> 0 | Q87: 0 | R87: =Q87*H87 -> 0 | S87: 0 | T87: =S87*H87 -> 0 | AR87: 1024 | AT87: K | AU87: 2 | AY87: ROZPOCET | BE87: =IF(N87="základní",J87,0) -> 0 | BF87: =IF(N87="snížená",J87,0) -> 0 | BG87: =IF(N87="zákl. přenesená",J87,0) -> 0 | BH87: =IF(N87="sníž. přenesená",J87,0) -> 0 | BI87: =IF(N87="nulová",J87,0) -> 0 | BJ87: 1 | BK87: =ROUND(I87*H87,2) -> 0 | BL87: 1024 | BM87: 475078765
C88: 7 | D88: K | E88: VON990011 | F88: Zajištění provozu a funkčnosti stávajících komunikací které budou při realizaci stavby její realizací dotčeny | G88: soubor | H88: 1 | J88: =ROUND(I88*H88,2) -> 0 | N88: základní | P88: =O88*H88 -> 0 | Q88: 0 | R88: =Q88*H88 -> 0 | S88: 0 | T88: =S88*H88 -> 0 | AR88: 1024 | AT88: K | AU88: 2 | AY88: ROZPOCET | BE88: =IF(N88="základní",J88,0) -> 0 | BF88: =IF(N88="snížená",J88,0) -> 0 | BG88: =IF(N88="zákl. přenesená",J88,0) -> 0 | BH88: =IF(N88="sníž. přenesená",J88,0) -> 0 | BI88: =IF(N88="nulová",J88,0) -> 0 | BJ88: 1 | BK88: =ROUND(I88*H88,2) -> 0 | BL88: 1024 | BM88: -630768150
C89: 8 | D89: K | E89: VON990012 | F89: Zajištění čistoty na staveništi a v jeho okolí, zajištění každodenního čištění komunikací dotčených provozem zhotovitele | G89: soubor | H89: 1 | J89: =ROUND(I89*H89,2) -> 0 | N89: základní | P89: =O89*H89 -> 0 | Q89: 0 | R89: =Q89*H89 -> 0 | S89: 0 | T89: =S89*H89 -> 0 | AR89: 1024 | AT89: K | AU89: 2 | AY89: ROZPOCET | BE89: =IF(N89="základní",J89,0) -> 0 | BF89: =IF(N89="snížená",J89,0) -> 0 | BG89: =IF(N89="zákl. přenesená",J89,0) -> 0 | BH89: =IF(N89="sníž. přenesená",J89,0) -> 0 | BI89: =IF(N89="nulová",J89,0) -> 0 | BJ89: 1 | BK89: =ROUND(I89*H89,2) -> 0 | BL89: 1024 | BM89: -356333315
C90: 9 | D90: K | E90: VON990013 | F90: Fotodokumentace průběhu díla; zhotovitel zajistí a předá objednateli průběžnou fotodokumentaci realizace díla dle TS. Fotodokumentace bude dokladovat průběh díla a bude zejména dokumentovat části stavby a konstrukce před jejich zakrytím | G90: soubor | H90: 1 | J90: =ROUND(I90*H90,2) -> 0 | N90: základní | P90: =O90*H90 -> 0 | Q90: 0 | R90: =Q90*H90 -> 0 | S90: 0 | T90: =S90*H90 -> 0 | AR90: 1024 | AT90: K | AU90: 2 | AY90: ROZPOCET | BE90: =IF(N90="základní",J90,0) -> 0 | BF90: =IF(N90="snížená",J90,0) -> 0 | BG90: =IF(N90="zákl. přenesená",J90,0) -> 0 | BH90: =IF(N90="sníž. přenesená",J90,0) -> 0 | BI90: =IF(N90="nulová",J90,0) -> 0 | BJ90: 1 | BK90: =ROUND(I90*H90,2) -> 0 | BL90: 1024 | BM90: 1307454398
C91: 10 | D91: K | E91: VON990014 | F91: Péče o nepředané objekty a konstrukce stavby, jejich ošetřování, zimní opatření, nutný rozsah pojištění | G91: soubor | H91: 1 | J91: =ROUND(I91*H91,2) -> 0 | N91: základní | P91: =O91*H91 -> 0 | Q91: 0 | R91: =Q91*H91 -> 0 | S91: 0 | T91: =S91*H91 -> 0 | AR91: 1024 | AT91: K | AU91: 2 | AY91: ROZPOCET | BE91: =IF(N91="základní",J91,0) -> 0 | BF91: =IF(N91="snížená",J91,0) -> 0 | BG91: =IF(N91="zákl. přenesená",J91,0) -> 0 | BH91: =IF(N91="sníž. přenesená",J91,0) -> 0 | BI91: =IF(N91="nulová",J91,0) -> 0 | BJ91: 1 | BK91: =ROUND(I91*H91,2) -> 0 | BL91: 1024 | BM91: -1853799591
C92: 11 | D92: K | E92: VON990015 | F92: Příprava a provedení předepsaných zkoušek dle TS - zkoušky pro určení zhutnění pláně | G92: kus | H92: 2 | J92: =ROUND(I92*H92,2) -> 0 | N92: základní | P92: =O92*H92 -> 0 | Q92: 0 | R92: =Q92*H92 -> 0 | S92: 0 | T92: =S92*H92 -> 0 | AR92: 1024 | AT92: K | AU92: 2 | AY92: ROZPOCET | BE92: =IF(N92="základní",J92,0) -> 0 | BF92: =IF(N92="snížená",J92,0) -> 0 | BG92: =IF(N92="zákl. přenesená",J92,0) -> 0 | BH92: =IF(N92="sníž. přenesená",J92,0) -> 0 | BI92: =IF(N92="nulová",J92,0) -> 0 | BJ92: 1 | BK92: =ROUND(I92*H92,2) -> 0 | BL92: 1024 | BM92: -837910693
C93: 12 | D93: K | E93: VON990018 | F93: Inženýrská a kompletační činnost zhotovitele dle TS | G93: soubor | H93: 1 | J93: =ROUND(I93*H93,2) -> 0 | N93: základní | P93: =O93*H93 -> 0 | Q93: 0 | R93: =Q93*H93 -> 0 | S93: 0 | T93: =S93*H93 -> 0 | AR93: 1024 | AT93: K | AU93: 2 | AY93: ROZPOCET | BE93: =IF(N93="základní",J93,0) -> 0 | BF93: =IF(N93="snížená",J93,0) -> 0 | BG93: =IF(N93="zákl. přenesená",J93,0) -> 0 | BH93: =IF(N93="sníž. přenesená",J93,0) -> 0 | BI93: =IF(N93="nulová",J93,0) -> 0 | BJ93: 1 | BK93: =ROUND(I93*H93,2) -> 0 | BL93: 1024 | BM93: 1213024145
... C97: 16 | D97: K | E97: VON990083 | F97: Dopravně - inženýrské opatření - odstranění | G97: soubor | H97: 1 | J97: =ROUND(I97*H97,2) -> 0 | N97: základní | P97: =O97*H97 -> 0 | Q97: 0 | R97: =Q97*H97 -> 0 | S97: 0 | T97: =S97*H97 -> 0 | AR97: 1024 | AT97: K | AU97: 2 | AY97: ROZPOCET | BE97: =IF(N97="základní",J97,0) -> 0 | BF97: =IF(N97="snížená",J97,0) -> 0 | BG97: =IF(N97="zákl. přenesená",J97,0) -> 0 | BH97: =IF(N97="sníž. přenesená",J97,0) -> 0 | BI97: =IF(N97="nulová",J97,0) -> 0 | BJ97: 1 | BK97: =ROUND(I97*H97,2) -> 0 | BL97: 1024 | BM97: -1246913741
D98: D | E98: O03 | F98: Ostatní náklady | J98: =BK98 -> 0 | P98: =SUM(P99:P102) -> 0 | R98: =SUM(R99:R102) -> 0 | T98: =SUM(T99:T102) -> 0 | AR98: 4 | AT98: D | AU98: 1 | AY98: ROZPOCET | BK98: =SUM(BK99:BK102) -> 0
C99: 17 | D99: K | E99: ON990001-A | F99: Zajištění činnosti odpovědného geodeta zhotovitele - vytyčení stavby | G99: soubor | H99: 1 | J99: =ROUND(I99*H99,2) -> 0 | N99: základní | P99: =O99*H99 -> 0 | Q99: 0 | R99: =Q99*H99 -> 0 | S99: 0 | T99: =S99*H99 -> 0 | AR99: 262144 | AT99: K | AU99: 2 | AY99: ROZPOCET | BE99: =IF(N99="základní",J99,0) -> 0 | BF99: =IF(N99="snížená",J99,0) -> 0 | BG99: =IF(N99="zákl. přenesená",J99,0) -> 0 | BH99: =IF(N99="sníž. přenesená",J99,0) -> 0 | BI99: =IF(N99="nulová",J99,0) -> 0 | BJ99: 1 | BK99: =ROUND(I99*H99,2) -> 0 | BL99: 262144 | BM99: -670694402
C100: 18 | D100: K | E100: ON990001-B | F100: Zajištění činnosti odpovědného geodeta zhotovitele - zaměření skutečného provedení stavby | G100: soubor | H100: 1 | J100: =ROUND(I100*H100,2) -> 0 | N100: základní | P100: =O100*H100 -> 0 | Q100: 0 | R100: =Q100*H100 -> 0 | S100: 0 | T100: =S100*H100 -> 0 | AR100: 262144 | AT100: K | AU100: 2 | AY100: ROZPOCET | BE100: =IF(N100="základní",J100,0) -> 0 | BF100: =IF(N100="snížená",J100,0) -> 0 | BG100: =IF(N100="zákl. přenesená",J100,0) -> 0 | BH100: =IF(N100="sníž. přenesená",J100,0) -> 0 | BI100: =IF(N100="nulová",J100,0) -> 0 | BJ100: 1 | BK100: =ROUND(I100*H100,2) -> 0 | BL100: 262144 | BM100: 1534731967
C101: 19 | D101: K | E101: ON990002-A | F101: Zhotovení dokumentace k realizaci stavby v rozsahu dle TS | G101: soubor | H101: 1 | J101: =ROUND(I101*H101,2) -> 0 | N101: základní | P101: =O101*H101 -> 0 | Q101: 0 | R101: =Q101*H101 -> 0 | S101: 0 | T101: =S101*H101 -> 0 | AR101: 262144 | AT101: K | AU101: 2 | AY101: ROZPOCET | BE101: =IF(N101="základní",J101,0) -> 0 | BF101: =IF(N101="snížená",J101,0) -> 0 | BG101: =IF(N101="zákl. přenesená",J101,0) -> 0 | BH101: =IF(N101="sníž. přenesená",J101,0) -> 0 | BI101: =IF(N101="nulová",J101,0) -> 0 | BJ101: 1 | BK101: =ROUND(I101*H101,2) -> 0 | BL101: 262144 | BM101: 1286105863
C102: 20 | D102: K | E102: ON990002-B | F102: Zhotovení dokumentace skutečného provedení díla v rozsahu dle TS | G102: soubor | H102: 1 | J102: =ROUND(I102*H102,2) -> 0 | N102: základní | P102: =O102*H102 -> 0 | Q102: 0 | R102: =Q102*H102 -> 0 | S102: 0 | T102: =S102*H102 -> 0 | AR102: 262144 | AT102: K | AU102: 2 | AY102: ROZPOCET | BE102: =IF(N102="základní",J102,0) -> 0 | BF102: =IF(N102="snížená",J102,0) -> 0 | BG102: =IF(N102="zákl. přenesená",J102,0) -> 0 | BH102: =IF(N102="sníž. přenesená",J102,0) -> 0 | BI102: =IF(N102="nulová",J102,0) -> 0 | BJ102: 1 | BK102: =ROUND(I102*H102,2) -> 0 | BL102: 262144 | BM102: -613630781

Sheet Pokyny pro vyplnění
C3: Struktura údajů, formát souboru a metodika pro zpracování
C4: Struktura
C6: Soubor je složen ze záložky Rekapitulace stavby a záložek s názvem soupisu prací pro jednotlivé objekty ve formátu XLSX. Každá ze záložek přitom obsahuje
C7: ještě samostatné sestavy vymezené orámovaním a nadpisem sestavy.
C9: Rekapitulace stavby obsahuje sestavu Rekapitulace stavby a Rekapitulace objektů stavby a soupisů prací.
D10: V sestavě Rekapitulace stavby jsou uvedeny informace identifikující předmět veřejné zakázky na stavební práce, KSO, CC-CZ, CZ-CPV, CZ-CPA a rekapitulaci
D11: celkové nabídkové ceny uchazeče.
D13: V sestavě Rekapitulace objektů stavby a soupisů prací je uvedena rekapitulace stavebních objektů, inženýrských objektů, provozních souborů,
D14: vedlejších a ostatních nákladů a ostatních nákladů s rekapitulací nabídkové ceny za jednotlivé soupisy prací. Na základě údaje Typ je možné
D15: identifikovat, zda se jedná o objekt nebo soupis prací pro daný objekt:
E16: STA | F16: Stavební objekt pozemní
E17: ING | F17: Stavební objekt inženýrský
E18: PRO | F18: Provozní soubor
E19: VON | F19: Vedlejší a ostatní náklady
E20: OST | F20: Ostatní
E21: Soupis | F21: Soupis prací pro daný typ objektu
C23: Soupis prací pro jednotlivé objekty obsahuje sestavy Krycí list soupisu, Rekapitulace členění soupisu prací, Soupis prací. Za soupis prací může být považován
C24: i objekt stavby v případě, že neobsahuje podřízenou zakázku.
D25: Krycí list soupisu obsahuje rekapitulaci informací o předmětu veřejné zakázky ze sestavy Rekapitulace stavby, informaci o zařazení objektu do KSO,
D26: CC-CZ, CZ-CPV, CZ-CPA a rekapitulaci celkové nabídkové ceny uchazeče za aktuální soupis prací.
D28: Rekapitulace členění soupisu prací obsahuje rekapitulaci soupisu prací ve všech úrovních členění soupisu tak, jak byla tato členění použita (např.
D29: stavební díly, funkční díly, případně jiné členění) s rekapitulací nabídkové ceny.
D31: Soupis prací obsahuje položky veškerých stavebních nebo montážních prací, dodávek materiálů a služeb nezbytných pro zhotovení stavebního objektu,
D32: inženýrského objektu, provozního souboru, vedlejších a ostatních nákladů.
D33: Pro položky soupisu prací se zobrazují následující informace:
E34: PČ | G34: Pořadové číslo položky v aktuálním soupisu
E35: TYP | G35: Typ položky: K - konstrukce, M - materiál, PP - plný popis, PSC - poznámka k souboru cen, P - poznámka k položce, VV - výkaz výměr
E36: Kód | G36: Kód položky
E37: Popis | G37: Zkrácený popis položky
E38: MJ | G38: Měrná jednotka položky
E39: Množství | G39: Množství v měrné jednotce
E40: J.cena | G40: Jednotková cena položky. Zadaní může obsahovat namísto J.ceny sloupce J.materiál a J.montáž, jejichž součet definuje
G41: J.cenu položky.
E42: Cena celkem | G42: Celková cena položky daná jako součin množství a j.ceny
E43: Cenová soustava | G43: Příslušnost položky do cenové soustavy
D45: Ke každé položce soupisu prací se na samostatných řádcích může zobrazovat:
E46: Plný popis položky
E47: Poznámka k souboru cen a poznámka zadavatele
E48: Výkaz výměr
D49: Pokud je k řádku výkazu výměr evidovaný údaj ve sloupci Kód, jedná se o definovaný odkaz, na který se může odvolávat výkaz výměr z jiné položky.
C50: Metodika pro zpracování
C52: Jednotlivé sestavy jsou v souboru provázány. Editovatelné pole jsou zvýrazněny žlutým podbarvením, ostatní pole neslouží k editaci a nesmí být jakkoliv
C53: modifikovány.
C55: Uchazeč je pro podání nabídky povinen vyplnit žlutě podbarvená pole:
D56: Pole Uchazeč v sestavě Rekapitulace stavby - zde uchazeč vyplní svůj název (název subjektu)
D57: Pole IČ a DIČ v sestavě Rekapitulace stavby - zde uchazeč vyplní svoje IČ a DIČ
D58: Datum v sestavě Rekapitulace stavby - zde uchazeč vyplní datum vytvoření nabídky
D59: J.cena = jednotková cena v sestavě Soupis prací o maximálním počtu desetinných míst uvedených v poli
D60: - pokud sestavy soupisů prací obsahují pole J.cena, musí být všechna tato pole vyplněna nenulovými kladnými číslicemi
D61: Poznámka - nepovinný údaj pro položku soupisu
D63: V případě, že sestavy soupisů prací neobsahují pole J.cena, potom ve všech soupisech prací obsahují pole:
D64: - J.materiál - jednotková cena materiálu
D65: - J.montáž - jednotková cena montáže
D66: Uchazeč je v tomto případě povinen vyplnit všechna pole J.materiál a pole J.montáž nenulovými kladnými číslicemi. V případech, kdy položka
D67: neobsahuje žádný materiál je přípustné, aby pole J.materiál bylo vyplněno nulou. V případech, kdy položka neobsahuje žádnou montáž je přípustné,
D68: aby pole J.montáž bylo vyplněno nulou. Není však přípustné, aby obě pole - J.materiál, J.Montáž byly u jedné položky vyplněny nulou.
C73: Rekapitulace stavby
C74: Název | F74: Povinný | H74: Popis | I74: Typ | J74: Max. počet
C75: atributu | F75: (A/N) | J75: znaků
C77: Kód | F77: A | H77: Kód stavby | I77: String | J77: 20
C78: Stavba | F78: A | H78: Název stavby | I78: String | J78: 120
C79: Místo | F79: N | H79: Místo stavby | I79: String | J79: 50
C80: Datum | F80: A | H80: Datum vykonaného exportu | I80: Date
C81: KSO | F81: N | H81: Klasifikace stavebního objektu | I81: String | J81: 15
C82: CC-CZ | F82: N | H82: Klasifikace stavbeních děl | I82: String | J82: 15
C83: CZ-CPV | F83: N | H83: Společný slovník pro veřejné zakázky | I83: String | J83: 20
C84: CZ-CPA | F84: N | H84: Klasifikace produkce podle činností | I84: String | J84: 20
C85: Zadavatel | F85: N | H85: Zadavatel zadaní | I85: String | J85: 50
C86: IČ | F86: N | H86: IČ zadavatele zadaní | I86: String | J86: 20
C87: DIČ | F87: N | H87: DIČ zadavatele zadaní | I87: String | J87: 20
C88: Uchazeč | F88: N | H88: Uchazeč veřejné zakázky | I88: String | J88: 50
C89: Projektant | F89: N | H89: Projektant | I89: String | J89: 50
C90: Poznámka | F90: N | H90: Poznámka k zadání | I90: String | J90: 255
C91: Sazba DPH | F91: A | H91: Rekapitulace sazeb DPH u položek soupisů | I91: eGSazbaDph
C92: Základna DPH | F92: A | H92: Základna DPH určena součtem celkové ceny z položek soupisů | I92: Double
C93: Hodnota DPH | F93: A | H93: Hodnota DPH | I93: Double
C94: Cena bez DPH | F94: A | H94: Celková cena bez DPH za celou stavbu. Sčítává se ze všech listů. | I94: Double
C95: Cena s DPH | F95: A | H95: Celková cena s DPH za celou stavbu | I95: Double
C100: Rekapitulace objektů stavby a soupisů prací
C101: Název | F101: Povinný | H101: Popis | I101: Typ | J101: Max. počet
C102: atributu | F102: (A/N) | J102: znaků
C104: Kód | F104: A | H104: Přebírá se z Rekapitulace stavby | I104: String | J104: 20
C105: Stavba | F105: A | H105: Přebírá se z Rekapitulace stavby | I105: String | J105: 120
C106: Místo | F106: N | H106: Přebírá se z Rekapitulace stavby | I106: String | J106: 50
C107: Datum | F107: A | H107: Přebírá se z Rekapitulace stavby | I107: Date
C108: Zadavatel | F108: N | H108: Přebírá se z Rekapitulace stavby | I108: String | J108: 50
C109: Projektant | F109: N | H109: Přebírá se z Rekapitulace stavby | I109: String | J109: 50
C110: Uchazeč | F110: N | H110: Přebírá se z Rekapitulace stavby | I110: String | J110: 50
C111: Kód | F111: A | H111: Kód objektu | I111: String | J111: 20
C112: Objektu, Soupis prací | F112: A | H112: Název objektu | I112: String | J112: 120
C113: Cena bez DPH | F113: A | H113: Cena bez DPH za daný objekt | I113: Double
C114: Cena s DPH | F114: A | H114: Cena spolu s DPH za daný objekt | I114: Double
C115: Typ | F115: A | H115: Typ zakázky | I115: eGTypZakazky
C120: Krycí list soupisu
C121: Název | F121: Povinný | H121: Popis | I121: Typ | J121: Max. počet
C122: atributu | F122: (A/N) | J122: znaků
C124: Stavba | F124: A | H124: Přebírá se z Rekapitulace stavby | I124: String | J124: 120
C125: Objekt | F125: A | H125: Kód a název objektu | I125: String | J125: 20 + 120
C126: Soupis | F126: A | H126: Kód a název soupisu | I126: String | J126: 20 + 120
C127: KSO | F127: N | H127: Klasifikace stavebního objektu | I127: String | J127: 15
...
