Workbook
Name cisloobjektu: 'Krycí list'!$A$4
Name cislostavby: 'Krycí list'!#REF!
Name Datum: 'Krycí list'!$B$27
Name Dil: Rekapitulace!$A$6
Name Dodavka: Rekapitulace!$G$13
Name Dodavka0: ' položky hřiště '!#REF!
Name HSV: Rekapitulace!$E$13
Name HSV0: ' položky hřiště '!#REF!
Name HZS: Rekapitulace!$I$13
Name HZS0: ' položky hřiště '!#REF!
Name JKSO: 'Krycí list'!$F$4
Name MJ: 'Krycí list'!$G$4
Name Mont: Rekapitulace!$H$13
Name Montaz0: ' položky hřiště '!#REF!
Name NazevDilu: Rekapitulace!$B$6
Name nazevobjektu: 'Krycí list'!$C$4
Name nazevstavby: 'Krycí list'!#REF!
Name Objednatel: 'Krycí list'!$C$9
Name PocetMJ: 'Krycí list'!$G$8
Name Poznamka: 'Krycí list'!$B$38
Name Projektant: 'Krycí list'!$C$8
Name PSV: Rekapitulace!$F$13
Name PSV0: ' položky hřiště '!#REF!
Name SloupecCC: ' položky hřiště '!$G$9
Name SloupecCisloPol: ' položky hřiště '!$B$9
Name SloupecJC: ' položky hřiště '!$F$9
Name SloupecMJ: ' položky hřiště '!$D$9
Name SloupecMnozstvi: ' položky hřiště '!$E$9
Name SloupecNazPol: ' položky hřiště '!$C$9
Name SloupecPC: ' položky hřiště '!$A$9
Name Typ: ' položky hřiště '!#REF!
Name VRN: Rekapitulace!$H$22
Name VRNKc: Rekapitulace!#REF!
Name VRNnazev: Rekapitulace!#REF!
Name VRNproc: Rekapitulace!#REF!
Name VRNzakl: Rekapitulace!#REF!
Name Zakazka: 'Krycí list'!$G$10
Name Zaklad22: 'Krycí list'!$F$33
Name Zaklad5: 'Krycí list'!$F$31
Name Zhotovitel: 'Krycí list'!$E$12

Sheet Krycí list
A1: KRYCÍ LIST ROZPOČTU
A3: Objekt : | C3: Název objektu : | F3: JKSO :
A5: Stavba : | C5: Název stavby : | F5: SKP :
B6: Rekonstrukce stávajícího hřiště obec Nová Telib
A8: Projektant : | C8: AS-atelier, Ing. Pavel Bartoš | E8: Počet měrných jednotek : | G8: 0
A9: Objednatel : | C9: Obec Nová Telib | E9: Náklady na MJ : | G9: =IF(PocetMJ=0,,ROUND((F31+F33)/PocetMJ,1)) -> 0
A10: Počet listů : | E10: Zakázkové číslo :
A11: Zpracovatel části projektu : | E11: Zhotovitel :
E12: Ing. Pavel Bartoš, AS-atelier, Sousední 48, Praha 5
A13: ROZPOČTOVÉ NÁKLADY
A14: Rozpočtové náklady II. a III. hlavy | D14: Vedlejší rozpočtové náklady
B15: Dodávka celkem | C15: =Dodavka -> 0 | D15: =Rekapitulace!A18 -> Individuální mimostaveništní doprava | G15: =Rekapitulace!I18 -> 0
A16: Z | B16: Montáž celkem | C16: =Mont -> 0 | D16: =Rekapitulace!A19 -> Kompletační činnost zhotovitele | G16: =Rekapitulace!I19 -> 0
A17: R | B17: HSV celkem | C17: =HSV -> 0 | D17: =Rekapitulace!A20 -> Provozní vlivy | G17: =Rekapitulace!I20 -> 0
A18: N | B18: PSV celkem | C18: =PSV -> 0 | D18: =Rekapitulace!A21 -> Zařízení staveniště | G18: =Rekapitulace!I21 -> 0
A19: ZRN celkem | C19: =SUM(C15:C18) -> 0
A21: HZS | C21: =HZS -> 0
A22: RN II.a III.hlavy | C22: =C19+C21 -> 0 | D22: Ostatní VRN | G22: =G23-SUM(G15:G21) -> 0
A23: ZRN+VRN+HZS | C23: =C22+G23 -> 0 | D23: VRN celkem | G23: =VRN -> 0
A24: Vypracoval | C24: Za zhotovitele | E24: Za objednatele
C25: Jméno : | E25: Jméno :
A26: Datum : | C26: Datum : | E26: Datum :
C27: Podpis: | E27: Podpis :
A30: Základ pro DPH | C30: 0 | D30: % činí : | F30: 0
A31: Základ pro DPH | C31: 15 | D31: % činí : | F31: 0
A32: DPH | C32: 15 | D32: % činí : | F32: =ROUND(PRODUCT(F31,C32/100),0) -> 0
A33: Základ pro DPH | C33: 21 | D33: % činí : | F33: 0
A34: DPH | C34: 21 | D34: % činí : | F34: =ROUND(PRODUCT(F33,C34/100),0) -> 0
A35: CENA ZA OBJEKT CELKEM | F35: =ROUND(SUM(F30:F34),0) -> 0

Sheet Rekapitulace
A1: Stavba : | C1: Rekonstrukce stávajícího hřiště Nová Telib
A4: REKAPITULACE STAVEBNÍCH DÍLŮ
B6: Stavební díl | E6: HSV | F6: PSV | G6: Dodávka | H6: Montáž | I6: HZS
A7: =' položky hřiště '!B10 -> 1 | B7: =' položky hřiště '!C10 -> Zemní práce | E7: =' položky hřiště '!G32 -> 0 | F7: =' položky hřiště '!BB32 -> 0 | G7: =' položky hřiště '!BC32 -> 0 | H7: =' položky hřiště '!BD32 -> 0 | I7: =' položky hřiště '!BE32 -> 0
A8: =' položky hřiště '!B34 -> 2 | B8: =' položky hřiště '!C34 -> Komunikace-podloží hřiště | E8: =' položky hřiště '!G46 -> 0 | F8: =' položky hřiště '!BB46 -> 0 | G8: =' položky hřiště '!BC46 -> 0 | H8: =' položky hřiště '!BD46 -> 0 | I8: =' položky hřiště '!BE46 -> 0
A9: =' položky hřiště '!B48 -> 4 | B9: =' položky hřiště '!C48 -> Zakládání patky sloupků sportoviště a kotvení branek | E9: =' položky hřiště '!G50 -> 0 | F9: =' položky hřiště '!BB50 -> 0 | G9: =' položky hřiště '!BC50 -> 0 | H9: =' položky hřiště '!BD50 -> 0 | I9: =' položky hřiště '!BE50 -> 0
A10: 5 | B10: =' položky hřiště '!C52 -> Sportovní povrchy | E10: =' položky hřiště '!G58 -> 0
A11: 6 | B11: =' položky hřiště '!C60 -> Sportovní vybavení | E11: =' položky hřiště '!G67 -> 0
A12: 10 | B12: =' položky hřiště '!C69 -> Úprava stávajícího oplocení hřiště | E12: =' položky hřiště '!G78 -> 0
B13: CELKEM OBJEKT | E13: =SUM(E7:E12) -> 0 | F13: =SUM(F7:F12) -> 0 | G13: =SUM(G7:G12) -> 0 | H13: =SUM(H7:H12) -> 0 | I13: =SUM(I7:I12) -> 0
A15: VEDLEJŠÍ ROZPOČTOVÉ NÁKLADY
A17: Název VRN | E17: Kč | F17: % | G17: Základna | I17: Kč
A18: Individuální mimostaveništní doprava | F18: 1.2 | G18: =CHOOSE(BA18+1,HSV+PSV,HSV+PSV+Mont,HSV+PSV+Dodavka+Mont,HSV,PSV,Mont,Dodavka,Mont+Dodavka,0) -> 0 | I18: =E18+F18*G18/100 -> 0 | BA18: 0
A19: Kompletační činnost zhotovitele | F19: 0.8 | G19: =CHOOSE(BA19+1,HSV+PSV,HSV+PSV+Mont,HSV+PSV+Dodavka+Mont,HSV,PSV,Mont,Dodavka,Mont+Dodavka,0) -> 0 | I19: =E19+F19*G19/100 -> 0 | BA19: 0
A20: Provozní vlivy | F20: 0.5 | G20: =CHOOSE(BA20+1,HSV+PSV,HSV+PSV+Mont,HSV+PSV+Dodavka+Mont,HSV,PSV,Mont,Dodavka,Mont+Dodavka,0) -> 0 | I20: =E20+F20*G20/100 -> 0 | BA20: 0
A21: Zařízení staveniště | F21: 2.5 | G21: =CHOOSE(BA21+1,HSV+PSV,HSV+PSV+Mont,HSV+PSV+Dodavka+Mont,HSV,PSV,Mont,Dodavka,Mont+Dodavka,0) -> 0 | I21: =E21+F21*G21/100 -> 0 | BA21: 0
B22: CELKEM VRN | H22: =SUM(I18:I21) -> 0

Sheet  položky hřiště 
A3: Položkový rozpočet
A6: Stavba : | C6: Rekonstrukce stávajícího hřiště Nová Telib | F6: =Rekapitulace!H1 -> 0
A9: P.č. | B9: Číslo položky | C9: Název položky | D9: MJ | E9: množství | F9: cena / MJ | G9: celkem (Kč)
A10: Díl: | B10: 1 | C10: Zemní práce
A11: 1 | B11: 122 10-1102.R00 | C11: Odkopávky nezapažené v hor. 2 do 1000 m3 , odstranění podloží původního hřiště | D11: m3 | E11: 101.7 | G11: =E11*F11 -> 0
C12: plocha: 496,1*0,205 | E12: 101.7
A13: 2 | B13: 133201101R00 | C13: Hloubení šachet v hor.3 do 100 m3 | D13: m3 | E13: 2.88 | G13: =E13*F13 -> 0
C14: patky tenis+ zajištění branky: (0,6*0,6*0,80)*10 | E14: 2.88
A15: 3 | B15: 133201109R00 | C15: Příplatek za lepivost - hloubení šachet v hor.3 | D15: m3 | E15: 2.88 | G15: =E15*F15 -> 0
C16: patky tenis+ zajištění branky: (0,6*0,6*0,80)*10 | E16: 2.88
A17: 4 | B17: Pol_4 | C17: Ruční hloubení šachet pro sondy | D17: m3 | E17: 1.152 | G17: =E17*F17 -> 0
C18: sondy a jejich vyhodnocení (0,6*0,6*0,80)*4 | E18: 1.152
A19: 5 | B19: Pol_5 | C19: Příplatek za lepivost - ruční hloubení šachet pro sondy | D19: m3 | E19: 1.152 | G19: =E19*F19 -> 0
C20: sondy a jejich vyhodnocení (0,6*0,6*0,80)*4 | E20: 1.15
A21: 6 | B21: Pol_6 | C21: Úprava pláně v zářezech v hor. 1-4, se zhutněním | D21: m2 | E21: 496.1 | G21: =E21*F21 -> 0
C22: plocha hřiště a terénu: | E22: 496.1
A23: 7 | B23: 215901101R00 | C23: Zhutnění podloží z hornin do 92%PS | D23: m2 | E23: 496.1 | G23: =E23*F23 -> 0
C24: plocha:496,1 m2 | E24: 491.6
A27: 8 | B27: Pol_9 | C27: Povrchové úpravy okolního terénu | D27: kpl | E27: 1 | G27: =E27*F27 -> 0
A28: 9 | B28: Pol_10 | C28: odvoz materiálu a uložení na skládku | D28: t | E28: 211.46 | G28: =E28*F28 -> 0
C29: Hloubení šachet v hor.3 do 100 m3 | E29: 2.88
C30: sondy | E30: 1.15
C31: odkopávky pod hřištěm: | E31: 101.7
B32: Celkem za | C32: =CONCATENATE(B10," ",C10) -> 1 Zemní práce | G32: =SUM(G10:G31) -> 0
A34: Díl: | B34: 2 | C34: Komunikace-podloží hřiště
A35: 10 | B35: Pol_10 | C35: Podklad z kameniva drceného fr. 16-32 mm tl. 100 mm | D35: m3 | E35: 49.16 | G35: =E35*F35 -> 0
C36: plocha podloží hřiště a dlažeb:491,6*0,1 | E36: 49.16
A37: 11 | B37: Pol_11 | C37: Podklad z kameniva drceného fr. 4-8 mm tl. 50 mm D+M_upravení spádů | D37: m3 | E37: 24.6 | G37: =E37*F37 -> 0
C38: plocha podloží hřiště a dlažeb:491,6*0,05 | E38: 24.6
A39: 12 | B39: Pol_12 | C39: Zámková dlažba tl. 40 mm D+M | D39: m2 | E39: 491.6 | G39: =E39*F39 -> 0
C40: plocha dlažeb hřiště: | E40: 491.6
A41: 13 | B41: Pol_13 | C41: Úprava stávajících mřížek pro položení umělého povrchu | D41: kus | E41: 6 | G41: =E41*F41 -> 0
E42: 6
A43: 14 | B43: Pol_14 | C43: Oprava stávajících drenáží | D43: bm | E43: 232.7 | G43: =E43*F43 -> 0
A44: 15 | B44: 998222012R00 | C44: Přesun hmot, zpevněné plochy, kryt z kameniva | D44: t | E44: 186.86 | G44: =E44*F44 -> 0
C45: 49,16+24,6+19,67 | E45: 186.86
B46: Celkem za | C46: =CONCATENATE(B34," ",C34) -> 2 Komunikace-podloží hřiště | G46: =SUM(G34:G45) -> 0
A48: Díl: | B48: 4 | C48: Zakládání patky sloupků sportoviště a kotvení branek
A49: 16 | B49: pol_16 | C49: Základové patky pro tenis a nohejbal+ kotvení branek | D49: m3 | E49: 2.88 | G49: =E49*F49 -> 0
B50: Celkem za | C50: =CONCATENATE(B48," ",C48) -> 4 Zakládání patky sloupků sportoviště a kotvení branek | G50: =SUM(G48:G49) -> 0
...
